BEGIN:VCALENDAR
VERSION:2.0
PRODID:-//Yvelines Infos - ECPv6.0.2//NONSGML v1.0//EN
CALSCALE:GREGORIAN
METHOD:PUBLISH
X-WR-CALNAME:Yvelines Infos
X-ORIGINAL-URL:https://www.yvelines-infos.fr
X-WR-CALDESC:Évènements pour Yvelines Infos
REFRESH-INTERVAL;VALUE=DURATION:PT1H
X-Robots-Tag:noindex
X-PUBLISHED-TTL:PT1H
BEGIN:VTIMEZONE
TZID:Europe/Paris
BEGIN:DAYLIGHT
TZOFFSETFROM:+0100
TZOFFSETTO:+0200
TZNAME:CEST
DTSTART:20190331T010000
END:DAYLIGHT
BEGIN:STANDARD
TZOFFSETFROM:+0200
TZOFFSETTO:+0100
TZNAME:CET
DTSTART:20191027T010000
END:STANDARD
BEGIN:DAYLIGHT
TZOFFSETFROM:+0100
TZOFFSETTO:+0200
TZNAME:CEST
DTSTART:20200329T010000
END:DAYLIGHT
BEGIN:STANDARD
TZOFFSETFROM:+0200
TZOFFSETTO:+0100
TZNAME:CET
DTSTART:20201025T010000
END:STANDARD
END:VTIMEZONE
BEGIN:VEVENT
DTSTART;TZID=Europe/Paris:20200308T180000
DTEND;TZID=Europe/Paris:20200308T193000
DTSTAMP:20260423T054546
CREATED:20200106T104448Z
LAST-MODIFIED:20200106T104448Z
UID:364387-1583690400-1583695800@www.yvelines-infos.fr
SUMMARY:David Kadouch
DESCRIPTION:Récital de David Kadouch (piano) dans le cadre du Festival du Bruit qui Pense \navec Christophe Gravereaux (modération) \nŒuvres de Beethoven\, Farrenc\, Schumann et Chopin \nRéservations au 0768334478 / festival@bruitquipense.com
URL:https://www.yvelines-infos.fr/agenda/david-kadouch/
LOCATION:Salle Camille Saint-Saëns\, 30\, rue du Général Leclerc\, Louveciennes\, 78430
ATTACH;FMTTYPE=image/jpeg:https://www.yvelines-infos.fr/content/uploads/2019/david-kadouch.jpg
ORGANIZER;CN="Festival%20du%20Bruit%20qui%20Pense":MAILTO:festival@bruitquipense.com
END:VEVENT
BEGIN:VEVENT
DTSTART;TZID=Europe/Paris:20200307T203000
DTEND;TZID=Europe/Paris:20200307T220000
DTSTAMP:20260423T054546
CREATED:20200107T150341Z
LAST-MODIFIED:20200107T150341Z
UID:364385-1583613000-1583618400@www.yvelines-infos.fr
SUMMARY:Roman Patočka - Ingmar Lazar
DESCRIPTION:Récital de Roman Patočka (violon) et de Ingmar Lazar (piano)\, dans le cadre du Festival du Bruit qui Pense \navec Fanny Gilles (modération) \nŒuvres de Schubert et Beethoven \nRéservations au 0768334478 / festival@bruitquipense.com
URL:https://www.yvelines-infos.fr/agenda/roman-patocka-ingmar-lazar/
LOCATION:Salle Camille Saint-Saëns\, 30\, rue du Général Leclerc\, Louveciennes\, 78430
ATTACH;FMTTYPE=image/jpeg:https://www.yvelines-infos.fr/content/uploads/2019/roman-patocka.jpg
ORGANIZER;CN="Festival%20du%20Bruit%20qui%20Pense":MAILTO:festival@bruitquipense.com
END:VEVENT
BEGIN:VEVENT
DTSTART;TZID=Europe/Paris:20200306T203000
DTEND;TZID=Europe/Paris:20200306T220000
DTSTAMP:20260423T054546
CREATED:20200106T104442Z
LAST-MODIFIED:20200106T104442Z
UID:364383-1583526600-1583532000@www.yvelines-infos.fr
SUMMARY:Roustem Saïtkoulov
DESCRIPTION:Récital de Roustem Saïtkoulov (piano) dans le cadre du Festival du Bruit qui Pense \navec Charlotte Leport (modération) \nŒuvres de J.-S. Bach\, Chopin et Rachmaninoff \nRéservations au 0768334478 / festival@bruitquipense.com
URL:https://www.yvelines-infos.fr/agenda/roustem-saitkoulov/
LOCATION:Salle Camille Saint-Saëns\, 30\, rue du Général Leclerc\, Louveciennes\, 78430
ATTACH;FMTTYPE=image/png:https://www.yvelines-infos.fr/content/uploads/2019/roustem-saitkoulov.png
ORGANIZER;CN="Festival%20du%20Bruit%20qui%20Pense":MAILTO:festival@bruitquipense.com
END:VEVENT
BEGIN:VEVENT
DTSTART;TZID=Europe/Paris:20200304T150000
DTEND;TZID=Europe/Paris:20200304T160000
DTSTAMP:20260423T054546
CREATED:20200106T104354Z
LAST-MODIFIED:20200106T104354Z
UID:364381-1583334000-1583337600@www.yvelines-infos.fr
SUMMARY:L'Enfant et les Sortilèges
DESCRIPTION:Évènement jeune public d’après l’œuvre de Maurice Ravel et de Colette\, dans le cadre du Festival du Bruit qui Pense \navec Aleth Romand (comédienne)\, Mayumi Sugiyama (flûte traversière) et les Jeunes Talents de l’Académie Jaroussky: Lysa Menu (soprano) et Alexandre Madjar (piano)\nmise en scène de Enny Huylebroeck \nRéservations au 0768334478 / festival@bruitquipense.com
URL:https://www.yvelines-infos.fr/agenda/lenfant-et-les-sortileges/
LOCATION:Salle Camille Saint-Saëns\, 30\, rue du Général Leclerc\, Louveciennes\, 78430
ATTACH;FMTTYPE=image/jpeg:https://www.yvelines-infos.fr/content/uploads/2019/lysa-menu.jpg
ORGANIZER;CN="Festival%20du%20Bruit%20qui%20Pense":MAILTO:festival@bruitquipense.com
END:VEVENT
BEGIN:VEVENT
DTSTART;TZID=Europe/Paris:20200302T140000
DTEND;TZID=Europe/Paris:20200308T180000
DTSTAMP:20260423T054546
CREATED:20191217T102948Z
LAST-MODIFIED:20191217T102948Z
UID:364119-1583157600-1583690400@www.yvelines-infos.fr
SUMMARY:Enny Huylebroeck
DESCRIPTION:Peintures et dessins de Enny Huylebroeck autour de « L’enfant et les sortilèges » de Maurice Ravel\, dans le cadre du Festival du Bruit qui Pense \nInformations au 0768334478 / festival@bruitquipense.com
URL:https://www.yvelines-infos.fr/agenda/enny-huylebroeck/2020-03-02/
LOCATION:Salle Renoir\, 30\, rue du Général Leclerc\, Louveciennes\, 78430
ATTACH;FMTTYPE=image/jpeg:https://www.yvelines-infos.fr/content/uploads/2019/enny-huylebroeck.jpg
ORGANIZER;CN="Festival%20du%20Bruit%20qui%20Pense":MAILTO:festival@bruitquipense.com
END:VEVENT
BEGIN:VEVENT
DTSTART;TZID=Europe/Paris:20200301T180000
DTEND;TZID=Europe/Paris:20200301T193000
DTSTAMP:20260423T054546
CREATED:20200106T104347Z
LAST-MODIFIED:20200106T104347Z
UID:364379-1583085600-1583091000@www.yvelines-infos.fr
SUMMARY:Patrick Poivre d'Arvor - Ingmar Lazar
DESCRIPTION:Concert-lecture dans le cadre du Festival du Bruit qui Pense \nPatrick Poivre d’Arvor (récitant) et Ingmar Lazar (piano) \nŒuvres de Chopin \nRéservations au 0768334478 / festival@bruitquipense.com
URL:https://www.yvelines-infos.fr/agenda/patrick-poivre-darvor-ingmar-lazar/
LOCATION:Salle Camille Saint-Saëns\, 30\, rue du Général Leclerc\, Louveciennes\, 78430
ATTACH;FMTTYPE=image/jpeg:https://www.yvelines-infos.fr/content/uploads/2019/patrick-poivre-d-arvor-son-poignant-hommage-a-sa-fille-20-ans-apres-son-suicide-portrait-w674.jpeg
ORGANIZER;CN="Festival%20du%20Bruit%20qui%20Pense":MAILTO:festival@bruitquipense.com
END:VEVENT
BEGIN:VEVENT
DTSTART;TZID=Europe/Paris:20200229T203000
DTEND;TZID=Europe/Paris:20200229T223000
DTSTAMP:20260423T054546
CREATED:20191217T102958Z
LAST-MODIFIED:20191217T102958Z
UID:364116-1583008200-1583015400@www.yvelines-infos.fr
SUMMARY:Les Petites Mains
DESCRIPTION:Texte de Stéphanie Marino\navec La Compagnie qui va piano: Manon Gilbert\, Thomas Drelon\, Stéphanie Marino\nMise en scène de Morgan Perez \nRose\, Jeune prodige caché. Mathilde\, grande pianiste déboussolée. Pierre\, père aveuglé. Paolo\, amoureux dégingandé. Une minuterie\, 9 boites aux lettres\, 53 fleurs et 88 petits marteaux. 3 comédiens et un piano à l’unisson virevoltent sur le fil d’un récit intime et le spectateur assiste à ce ballet comme s’il regardait par le trou d’une serrure. La musique comme antidote à la tristesse… \nDans le cadre du Festival du Bruit qui Pense \nRéservations au 0768334478 / festival@bruitquipense.com
URL:https://www.yvelines-infos.fr/agenda/les-petites-mains/
LOCATION:Salle Camille Saint-Saëns\, 30\, rue du Général Leclerc\, Louveciennes\, 78430
ATTACH;FMTTYPE=image/jpeg:https://www.yvelines-infos.fr/content/uploads/2019/visuel-petites-mains.jpg
ORGANIZER;CN="Festival%20du%20Bruit%20qui%20Pense":MAILTO:festival@bruitquipense.com
END:VEVENT
BEGIN:VEVENT
DTSTART;TZID=Europe/Paris:20190331T160000
DTEND;TZID=Europe/Paris:20190331T180000
DTSTAMP:20260423T054546
CREATED:20190211T112923Z
LAST-MODIFIED:20190211T112923Z
UID:355726-1554048000-1554055200@www.yvelines-infos.fr
SUMMARY:Nicolas Dautricourt - François Salque - Ingmar Lazar
DESCRIPTION:Concert de musique de chambre\nNicolas Dautricourt (violon)\, François Salque (violoncelle)\, Ingmar Lazar (piano)\nChristophe Gravereaux (modération)\nŒuvres de Kodály\, Popper\, Liszt et Dvořák \nTrois musiciens qui ne sont plus à présenter se rejoignent dans le cadre du « Festival du Bruit qui Pense » pour un programme qui reflète profondément la musique d’Europe centrale\, avec toute sa richesse et son esprit\, prouvant à quel point l’union se retrouve là même où il y a une grande diversité. \nInformations et réservations: 0768334478 festival@bruitquipense.com
URL:https://www.yvelines-infos.fr/agenda/nicolas-dautricourt-francois-salque-ingmar-lazar/
LOCATION:Salle Camille Saint-Saëns\, 30\, rue du Général Leclerc\, Louveciennes\, 78430
ATTACH;FMTTYPE=image/jpeg:https://www.yvelines-infos.fr/content/uploads/2019/ingmar-lazar.jpg
ORGANIZER;CN="Festival%20du%20Bruit%20qui%20Pense":MAILTO:festival@bruitquipense.com
END:VEVENT
BEGIN:VEVENT
DTSTART;TZID=Europe/Paris:20190330T203000
DTEND;TZID=Europe/Paris:20190330T223000
DTSTAMP:20260423T054546
CREATED:20190211T112928Z
LAST-MODIFIED:20190211T112928Z
UID:355724-1553977800-1553985000@www.yvelines-infos.fr
SUMMARY:Laeticia Goepfert - Éric Artz
DESCRIPTION:Récital chant et piano\nLaeticia Goepfert (mezzo-soprano) et Éric Artz (piano)\nKarin Hervieu-Causse (modération)\nŒuvres de Chopin\, Meyerbeer\, Puccini\, Bellini\, Liszt\, Bizet\, Satie\, Offenbach\, Lopez\, Lehár \nUne joie de retrouver Laeticia Goepfert\, qui a conquis le public lors de l’édition passée du « Festival du Bruit qui Pense »! Proposant pour le Festival de cette année un programme autour de l’opéra et de l’opérette\, elle se produira en compagnie d’Éric Artz\, pianiste à la sensibilité authentique ne cessant de captiver son public à travers l’Europe. Un véritable voyage à travers les différentes facettes de l’art lyrique! \nInformations et réservations: 0768334478 festival@bruitquipense.com
URL:https://www.yvelines-infos.fr/agenda/laeticia-goepfert-eric-artz/
LOCATION:Salle Camille Saint-Saëns\, 30\, rue du Général Leclerc\, Louveciennes\, 78430
ATTACH;FMTTYPE=image/jpeg:https://www.yvelines-infos.fr/content/uploads/2019/laeticia-goepfert.jpg
ORGANIZER;CN="Festival%20du%20Bruit%20qui%20Pense":MAILTO:festival@bruitquipense.com
END:VEVENT
BEGIN:VEVENT
DTSTART;TZID=Europe/Paris:20190327T150000
DTEND;TZID=Europe/Paris:20190327T163000
DTSTAMP:20260423T054546
CREATED:20190211T112530Z
LAST-MODIFIED:20190211T112530Z
UID:355720-1553698800-1553704200@www.yvelines-infos.fr
SUMMARY:Fanny Gilles
DESCRIPTION:Évènement jeune public\nFanny Gilles (comédienne)\n« Le Secret\, conte musical » de Fanny Gilles et Armand Amar \nRécemment vue à la télévision dans la série SAM sur TF1 dont elle est une des actrices principales\, Fanny Gilles a préparé pour le jeune public un évènement spécial dont elle seule en a le secret\, dans le cadre du « Festival du Bruit qui Pense »! \nInformations et réservations: 0768334478 festival@bruitquipense.com \n 
URL:https://www.yvelines-infos.fr/agenda/fanny-gilles/
LOCATION:Salle Camille Saint-Saëns\, 30\, rue du Général Leclerc\, Louveciennes\, 78430
ATTACH;FMTTYPE=image/jpeg:https://www.yvelines-infos.fr/content/uploads/2019/fanny-gilles.jpg
ORGANIZER;CN="Festival%20du%20Bruit%20qui%20Pense":MAILTO:festival@bruitquipense.com
END:VEVENT
BEGIN:VEVENT
DTSTART;TZID=Europe/Paris:20190324T160000
DTEND;TZID=Europe/Paris:20190324T180000
DTSTAMP:20260423T054546
CREATED:20190211T112535Z
LAST-MODIFIED:20190211T112535Z
UID:355704-1553443200-1553450400@www.yvelines-infos.fr
SUMMARY:Benjamin Herzl - Haiou Zhang
DESCRIPTION:Récital violon et piano\nBenjamin Herzl (violon) et Haiou Zhang (piano)\nCharlotte Leport (modération)\nŒuvres de Mozart\, Beethoven\, Gluck et Saint-Saëns \nUne union explosive entre deux virtuoses\, l’un autrichien et l’autre chinois\, pour un concert vibrant et inspiré dans le cadre du « Festival du Bruit qui Pense ». Une rencontre unique entre deux musiciens qui rivaliseront d’adresse dans un programme coloré! \nInformations et réservations: 0768334478 festival@bruitquipense.com \n 
URL:https://www.yvelines-infos.fr/agenda/benjamin-herzl-haiou-zhang/
LOCATION:Salle Camille Saint-Saëns\, 30\, rue du Général Leclerc\, Louveciennes\, 78430
ATTACH;FMTTYPE=image/jpeg:https://www.yvelines-infos.fr/content/uploads/2019/benjamin-herzl.jpg
ORGANIZER;CN="Festival%20du%20Bruit%20qui%20Pense":MAILTO:festival@bruitquipense.com
END:VEVENT
BEGIN:VEVENT
DTSTART;TZID=Europe/Paris:20190323T203000
DTEND;TZID=Europe/Paris:20190323T223000
DTSTAMP:20260423T054546
CREATED:20190211T111747Z
LAST-MODIFIED:20190211T111747Z
UID:355693-1553373000-1553380200@www.yvelines-infos.fr
SUMMARY:Jean-Claude Pennetier - Ingmar Lazar
DESCRIPTION:Récital piano solo et à 4 mains\nJean-Claude Pennetier (piano) et Ingmar Lazar (piano)\nAlexandre Grandazzi (modération)\nŒuvres de Schubert \nPour le concert d’ouverture du « Festival du Bruit qui Pense »\, Jean-Claude Pennetier a choisi d’interpréter Schubert dont il n’a cessé d’explorer le répertoire tout au long de sa carrière\, et qui demeure sous ses doigts un compositeur de l’absolu. Il sera rejoint en deuxième partie de concert par Ingmar Lazar\, dont le récent enregistrement consacré à Schubert fut encensé par la presse. \nInformations et réservations: 0768334478 festival@bruitquipense.com
URL:https://www.yvelines-infos.fr/agenda/jean-claude-pennetier-ingmar-lazar/
LOCATION:Salle Camille Saint-Saëns\, 30\, rue du Général Leclerc\, Louveciennes\, 78430
ATTACH;FMTTYPE=image/jpeg:https://www.yvelines-infos.fr/content/uploads/2019/jean-claude-pennetier.jpg
ORGANIZER;CN="Festival%20du%20Bruit%20qui%20Pense":MAILTO:festival@bruitquipense.com
END:VEVENT
BEGIN:VEVENT
DTSTART;TZID=Europe/Paris:20190323T180000
DTEND;TZID=Europe/Paris:20190323T191500
DTSTAMP:20260423T054546
CREATED:20190211T111754Z
LAST-MODIFIED:20190211T111754Z
UID:355689-1553364000-1553368500@www.yvelines-infos.fr
SUMMARY:Cercle Cendrars
DESCRIPTION:Dans le cadre du « Festival du Bruit qui Pense »\, le Cercle Cendrars nous propose un voyage à travers les mots afin de découvrir des textes peu connus côtoyant d’autres plus célèbres\, créant des dialogues avec des extraits musicaux choisis avec soin. Un plaisir de les retrouver suite au succès remporté lors de l’édition précédente du Festival! \ninformations et réservations: 0768334478 festival@bruitquipense.com \n 
URL:https://www.yvelines-infos.fr/agenda/cercle-cendrars-2/
LOCATION:Salle Camille Saint-Saëns\, 30\, rue du Général Leclerc\, Louveciennes\, 78430
ATTACH;FMTTYPE=image/jpeg:https://www.yvelines-infos.fr/content/uploads/2019/cercle-cendrars.jpg
ORGANIZER;CN="Festival%20du%20Bruit%20qui%20Pense":MAILTO:festival@bruitquipense.com
END:VEVENT
END:VCALENDAR