BEGIN:VCALENDAR
VERSION:2.0
PRODID:-//Yvelines Infos - ECPv6.0.2//NONSGML v1.0//EN
CALSCALE:GREGORIAN
METHOD:PUBLISH
X-WR-CALNAME:Yvelines Infos
X-ORIGINAL-URL:https://www.yvelines-infos.fr
X-WR-CALDESC:Évènements pour Yvelines Infos
REFRESH-INTERVAL;VALUE=DURATION:PT1H
X-Robots-Tag:noindex
X-PUBLISHED-TTL:PT1H
BEGIN:VTIMEZONE
TZID:Europe/Paris
BEGIN:DAYLIGHT
TZOFFSETFROM:+0100
TZOFFSETTO:+0200
TZNAME:CEST
DTSTART:20190331T010000
END:DAYLIGHT
BEGIN:STANDARD
TZOFFSETFROM:+0200
TZOFFSETTO:+0100
TZNAME:CET
DTSTART:20191027T010000
END:STANDARD
END:VTIMEZONE
BEGIN:VEVENT
DTSTART;VALUE=DATE:20190914
DTEND;VALUE=DATE:20190915
DTSTAMP:20260423T050548
CREATED:20190910T081547Z
LAST-MODIFIED:20190910T081547Z
UID:361656-1568419200-1568505599@www.yvelines-infos.fr
SUMMARY:Golf Tour Club 2019
DESCRIPTION:Du 31 août au 26 octobre les golfs investiront les centres-villes proches de chez eux pour présenter leurs offres de découverte au plus grand nombre\, et inciter les nouveaux golfeurs à poursuivre l’expérience golf dans les clubs avoisinants.  \nFortes du succès populaire du Ryder Cup Golf Tour de 2018\, la ffgolf et ses ligues souhaitent poursuivre d’ici à 2024 la promotion du golf à travers des actions de proximité réparties sur l’ensemble du territoire français. \nLeur objectif est d’organiser chaque année une tournée itinérante qui assure la transition vers les clubs et donc la création de nouveaux golfeurs. \nGrâce au voucher remis sur place\, une initiation gratuite dans le golf partenaire de votre choix. \nVous venez de découvrir le golf en ville ? L’aventure commence seulement. Après avoir participé gratuitement aux différents ateliers de découverte mis en place\, être passé par le photocall\, avoir rencontré des enseignants et des responsables des golfs de votre région\, vous repartirez avec un voucher qui vous permettra d’aller ensuite dans les golfs pour réitérer votre essai\, toujours gratuitement\, découvrir les installations\, et les offres déployées à destination des nouveaux golfeurs.
URL:https://www.yvelines-infos.fr/agenda/golf-tour-club-2019/
LOCATION:Place du marché Notre-Dame – Versailles\, Place du marché Notre-Dame\, Versailles\, 78000\, France
ATTACH;FMTTYPE=image/jpeg:https://www.yvelines-infos.fr/content/uploads/2019/eea1yzuwkaasd1r.jpeg
END:VEVENT
END:VCALENDAR