BEGIN:VCALENDAR
VERSION:2.0
PRODID:-//Yvelines Infos - ECPv6.0.2//NONSGML v1.0//EN
CALSCALE:GREGORIAN
METHOD:PUBLISH
X-ORIGINAL-URL:https://www.yvelines-infos.fr
X-WR-CALDESC:Évènements pour Yvelines Infos
REFRESH-INTERVAL;VALUE=DURATION:PT1H
X-Robots-Tag:noindex
X-PUBLISHED-TTL:PT1H
BEGIN:VTIMEZONE
TZID:Europe/Paris
BEGIN:DAYLIGHT
TZOFFSETFROM:+0100
TZOFFSETTO:+0200
TZNAME:CEST
DTSTART:20210328T010000
END:DAYLIGHT
BEGIN:STANDARD
TZOFFSETFROM:+0200
TZOFFSETTO:+0100
TZNAME:CET
DTSTART:20211031T010000
END:STANDARD
BEGIN:DAYLIGHT
TZOFFSETFROM:+0100
TZOFFSETTO:+0200
TZNAME:CEST
DTSTART:20220327T010000
END:DAYLIGHT
BEGIN:STANDARD
TZOFFSETFROM:+0200
TZOFFSETTO:+0100
TZNAME:CET
DTSTART:20221030T010000
END:STANDARD
END:VTIMEZONE
BEGIN:VEVENT
DTSTART;TZID=Europe/Paris:20220513T203000
DTEND;TZID=Europe/Paris:20220513T203000
DTSTAMP:20260422T215915
CREATED:20220406T103348Z
LAST-MODIFIED:20220406T103348Z
UID:384943-1652473800-1652473800@www.yvelines-infos.fr
SUMMARY:LE PETIT DERNIER DE OLIVIER DE BENOIST
DESCRIPTION:Tout public à partir de 12 ans \nÀ chaque fois qu’Olivier de Benoist a un enfant\, il fait un one-man-show. Comme il en a eu un quatrième\, il revient avec un nouveau spectacle. \n Dans cette véritable ode à la contraception qu’est « Le Petit Dernier »\, Olivier de Benoist vous prodiguera moult conseils puisés dans son expérience de père de quatre charmants bambins. Car si avoir un enfant a de bons côtés – tout le monde se rappelle la joie intense ressentie lorsque votre enfant dit pour la première fois « Papa »\, « Maman » ou « Je m’en vais\, j’ai pris un appart » -\, il n’en reste pas moins que le supporter pendant plus de 18 ans n’est pas une sinécure. \n Pendant la majeure partie de l’histoire de l’humanité\, élever les enfants était une tâche exclusivement féminine. Aujourd’hui\, les choses ont enfin changé. Et Olivier de Benoist en est très content. Car les hommes sont bien meilleurs que les femmes quand il s’agit de s’occuper de leur progéniture. Fort de l’expérience acquise avec ses quatre enfants\, Olivier de Benoist entend enfin révéler aux femmes les secrets d’une éducation réussie.
URL:https://www.yvelines-infos.fr/agenda/le-petit-dernier-de-olivier-de-benoist/
LOCATION:espace Philippe Noiret\, Place Charles de Gaulle\, Les Clayes-sous-Bois\, 78340
ATTACH;FMTTYPE=image/jpeg:https://www.yvelines-infos.fr/content/uploads/2022/thumbnail-1-7.jpeg
ORGANIZER;CN="Espace%20Philippe%20Noiret":MAILTO:espacenoiret@lesclayessousbois.fr
END:VEVENT
BEGIN:VEVENT
DTSTART;TZID=Europe/Paris:20220319T203000
DTEND;TZID=Europe/Paris:20220319T203000
DTSTAMP:20260422T215915
CREATED:20220124T105301Z
LAST-MODIFIED:20220124T105301Z
UID:383172-1647721800-1647721800@www.yvelines-infos.fr
SUMMARY:TARTUFFE
DESCRIPTION:Tartuffe est une affaire de cadre et de hors cadre : on s’y épie\, s’y cache\, s’y retire et y complote. Pour autant\, dans ce Tartuffe\, ni cachette ni recoin. \nIci\, la scène est un ring\, où spectateurs et acteurs sont ensemble les complices de l’invraisemblable aveuglément d’Orgon. Voir ou croire ? Dans cette pièce de dupes et de dupeurs\, nous plongeons sans retenue\, guidés par le plaisir du jeu et nourris par la recherche d’une distance juste entre l’œuvre et nous. \nTartuffe est abordé comme une partition que les comédiens  traversent avec liberté\, iconoclasme et…guitares.
URL:https://www.yvelines-infos.fr/agenda/tartuffe/
LOCATION:espace Philippe Noiret\, Place Charles de Gaulle\, Les Clayes-sous-Bois\, 78340
ATTACH;FMTTYPE=image/jpeg:https://www.yvelines-infos.fr/content/uploads/2022/thumbnail-1-6.jpeg
ORGANIZER;CN="Espace%20Philippe%20Noiret":MAILTO:espacenoiret@lesclayessousbois.fr
END:VEVENT
BEGIN:VEVENT
DTSTART;TZID=Europe/Paris:20220218T203000
DTEND;TZID=Europe/Paris:20220218T203000
DTSTAMP:20260422T215915
CREATED:20211220T100952Z
LAST-MODIFIED:20211220T100952Z
UID:381658-1645216200-1645216200@www.yvelines-infos.fr
SUMMARY:ATA NUI
DESCRIPTION:Musiques polynésienne\nTout public à partir de 6 ans \nLa troupe ATA NUI vous embarquera pour un voyage qui vous fera découvrir les chants et danses de Tahiti et d’Hawaï en passant par la découverte des costumes traditionnels et des instruments si particuliers qu’on retrouve dans la musique polynésienne. Sans oublier le fameux Haka ! \nUn voyage qui s’avérera plein de surprises pour les novices mais aussi pour les connaisseurs…
URL:https://www.yvelines-infos.fr/agenda/ata-nui/
LOCATION:espace Philippe Noiret\, Place Charles de Gaulle\, Les Clayes-sous-Bois\, 78340
ATTACH;FMTTYPE=image/jpeg:https://www.yvelines-infos.fr/content/uploads/2021/thumbnail-3-4.jpeg
ORGANIZER;CN="Espace%20Philippe%20Noiret":MAILTO:espacenoiret@lesclayessousbois.fr
END:VEVENT
BEGIN:VEVENT
DTSTART;TZID=Europe/Paris:20220212T170000
DTEND;TZID=Europe/Paris:20220212T170000
DTSTAMP:20260422T215915
CREATED:20211220T101601Z
LAST-MODIFIED:20211220T101601Z
UID:381619-1644685200-1644685200@www.yvelines-infos.fr
SUMMARY:The Wackids
DESCRIPTION:Concert Rock ‘n’ Toys\, dès 6 ans \nUltime épisode de la wack-trilogie\, back to the 90’s est un véritable voyage sonore et visuel à l’époque où l’on écoutait la musique sur radio K7\, où l’on achetait sa chanson préférée en CD 2 titres et où les clips ne se regardaient que sur MTV. \nPour ce nouveau spectacle\, les Wackids embarquent le public dans un retour vers le passé qui ravivera la jeunesse des parents et transmettra aux enfants la culture rock de la fin du siècle dernier.
URL:https://www.yvelines-infos.fr/agenda/the-wackids/
LOCATION:espace Philippe Noiret\, Place Charles de Gaulle\, Les Clayes-sous-Bois\, 78340
ATTACH;FMTTYPE=image/jpeg:https://www.yvelines-infos.fr/content/uploads/2021/thumbnail-1-6.jpeg
ORGANIZER;CN="Espace%20Philippe%20Noiret":MAILTO:espacenoiret@lesclayessousbois.fr
END:VEVENT
BEGIN:VEVENT
DTSTART;TZID=Europe/Paris:20220208T203000
DTEND;TZID=Europe/Paris:20220208T203000
DTSTAMP:20260422T215915
CREATED:20211220T102441Z
LAST-MODIFIED:20211220T102441Z
UID:381617-1644352200-1644352200@www.yvelines-infos.fr
SUMMARY:All The Fun
DESCRIPTION:All the fun est un rituel défoulatoire qui tentent de répondre aux questions existentielles à l’aide d’objets en plastique produits de manière industrielle. Au son d’une musique électro dansante et hypnotique\, 5 artistes transforment tout ce qui leur passe sous la main en objets de jonglage : massues ou balles coloriées à la main\, micro\, ou même corps d’un comparse. Avec beaucoup de dérision\, ils multiplient les exploits\, se lancent les défis les plus loufoques. \nLe message de fond sera aussi peu clair que possible\, si bien que les artistes eux-mêmes ne sauront pas s’il y a vraiment un propos\, ou si tout ça n’est qu’une bonne blague racontée dans une langue que personne ne comprend. \nUn spectacle de jonglage conçu comme une grande fête par 5 artistes franco-belges totalement déjantés !
URL:https://www.yvelines-infos.fr/agenda/all-the-fun/
LOCATION:espace Philippe Noiret\, Place Charles de Gaulle\, Les Clayes-sous-Bois\, 78340
ATTACH;FMTTYPE=image/jpeg:https://www.yvelines-infos.fr/content/uploads/2021/thumbnail-12.jpeg
ORGANIZER;CN="Espace%20Philippe%20Noiret":MAILTO:espacenoiret@lesclayessousbois.fr
END:VEVENT
BEGIN:VEVENT
DTSTART;TZID=Europe/Paris:20220127T203000
DTEND;TZID=Europe/Paris:20220127T203000
DTSTAMP:20260422T215915
CREATED:20211220T102554Z
LAST-MODIFIED:20211220T102554Z
UID:381475-1643315400-1643315400@www.yvelines-infos.fr
SUMMARY:Le syndrome du banc de touche
DESCRIPTION:Tout public à partir de 12 ans \nIl y a 20 ans\, Aimé Jacquet gagnait la coupe du monde et Léa rêvait de devenir comédienne. Aujourd’hui\, Aimé Jacquet est entré dans l’Histoire et Léa est restée sur la touche\, à l’image des footballeurs remplaçants. En proie à une crise de légitimité\, la jeune femme décide de s’auto titulariser en suivant les pas de l’entraîneur de l’équipe de France. \nIl s’agit ici de se demander quelle peut être la beauté de l’échec dans une société où la performance\, la concurrence et la réussite nous sont données comme les seules lignes de conduite valable. Pourtant\, il y a fort à parier que le succès se rencontre aussi en faisant l’expérience de l’échec…
URL:https://www.yvelines-infos.fr/agenda/le-syndrome-du-banc-de-touche-2/
LOCATION:espace Philippe Noiret\, Place Charles de Gaulle\, Les Clayes-sous-Bois\, 78340
ATTACH;FMTTYPE=image/jpeg:https://www.yvelines-infos.fr/content/uploads/2021/thumbnail-1-5.jpeg
ORGANIZER;CN="Espace%20Philippe%20Noiret":MAILTO:espacenoiret@lesclayessousbois.fr
END:VEVENT
BEGIN:VEVENT
DTSTART;TZID=Europe/Paris:20211110T203000
DTEND;TZID=Europe/Paris:20211110T203000
DTSTAMP:20260422T215915
CREATED:20211109T153107Z
LAST-MODIFIED:20211109T153107Z
UID:380835-1636576200-1636576200@www.yvelines-infos.fr
SUMMARY:Contrebrassens
DESCRIPTION:Pauline Dupuy nous fait redécouvrir Brassens sous un éclairage neuf. Révélant la saveur musicale de ses mélodies et la profondeur de ses textes\, elle nous promène dans des histoires choisies autour de la femme… \nAprès avoir roulé sa bosse seule avec sa contrebasse\, la chanteuse s’entoure à présent de complices invités à se coller avec elle tout contre Brassens. L’univers fantasque et surprenant de Michael Wookey\, la délicieuse fantaisie des cuivres Art Deko\, épousent avec merveille et justesse la douceur et la sobriété de la contrebassiste. \n« Brassens par une femme? Georges en aurait fait une chanson. »
URL:https://www.yvelines-infos.fr/agenda/contrebrassens/
LOCATION:espace Philippe Noiret\, Place Charles de Gaulle\, Les Clayes-sous-Bois\, 78340
ATTACH;FMTTYPE=image/jpeg:https://www.yvelines-infos.fr/content/uploads/2021/thumbnail-4.jpeg
ORGANIZER;CN="Espace%20Philippe%20Noiret":MAILTO:espacenoiret@lesclayessousbois.fr
END:VEVENT
END:VCALENDAR