BEGIN:VCALENDAR
VERSION:2.0
PRODID:-//Yvelines Infos - ECPv6.0.2//NONSGML v1.0//EN
CALSCALE:GREGORIAN
METHOD:PUBLISH
X-ORIGINAL-URL:https://www.yvelines-infos.fr
X-WR-CALDESC:Évènements pour Yvelines Infos
REFRESH-INTERVAL;VALUE=DURATION:PT1H
X-Robots-Tag:noindex
X-PUBLISHED-TTL:PT1H
BEGIN:VTIMEZONE
TZID:Europe/Paris
BEGIN:DAYLIGHT
TZOFFSETFROM:+0100
TZOFFSETTO:+0200
TZNAME:CEST
DTSTART:20210328T010000
END:DAYLIGHT
BEGIN:STANDARD
TZOFFSETFROM:+0200
TZOFFSETTO:+0100
TZNAME:CET
DTSTART:20211031T010000
END:STANDARD
END:VTIMEZONE
BEGIN:VEVENT
DTSTART;TZID=Europe/Paris:20211113T204500
DTEND;TZID=Europe/Paris:20211113T204500
DTSTAMP:20260423T033753
CREATED:20211021T132309Z
LAST-MODIFIED:20211021T132309Z
UID:380205-1636836300-1636836300@www.yvelines-infos.fr
SUMMARY:Viktor Vincent "Mental Circus"
DESCRIPTION:Dans son nouveau seul en scène\, Viktor Vincent repousse une nouvelle fois les limites de son art. Dans l’ambiance des années 30 aux États-Unis\, il crée autour de lui un cirque imaginaire où s’expriment les performances mentales les plus folles et les expériences les plus bluffantes. Ici le pouvoir change de main\, c’est le public qui s’en empare se découvrant des capacités insoupçonnées et des dons qui confèrent aux miracles…\nVous connaissez sa générosité et sa délicatesse\, Viktor Vincent fera toujours en sorte que vous vous sentiez parfaitement à l’aise\, que vous souhaitiez participer sur scène avec lui ou que vous préfériez rester simplement témoins confortablement installés dans la salle.\nUne expérience incroyable dont vous vous souviendrez longtemps. \n  \n 
URL:https://www.yvelines-infos.fr/agenda/viktor-vincent-mental-circus/
LOCATION:Espace Culturel Jacques Brel\, 21 Rue des Merisiers\, Mantes la Ville\, 78711
ATTACH;FMTTYPE=image/jpeg:https://www.yvelines-infos.fr/content/uploads/2021/zzhzo-4740614623795100293.jpg
ORGANIZER;CN="Espace%20culturel%20Jacques%20Brel":MAILTO:culture@manteslaville.fr
END:VEVENT
END:VCALENDAR