BEGIN:VCALENDAR
VERSION:2.0
PRODID:-//Yvelines Infos - ECPv6.0.2//NONSGML v1.0//EN
CALSCALE:GREGORIAN
METHOD:PUBLISH
X-ORIGINAL-URL:https://www.yvelines-infos.fr
X-WR-CALDESC:Évènements pour Yvelines Infos
REFRESH-INTERVAL;VALUE=DURATION:PT1H
X-Robots-Tag:noindex
X-PUBLISHED-TTL:PT1H
BEGIN:VTIMEZONE
TZID:Europe/Paris
BEGIN:DAYLIGHT
TZOFFSETFROM:+0100
TZOFFSETTO:+0200
TZNAME:CEST
DTSTART:20220327T010000
END:DAYLIGHT
BEGIN:STANDARD
TZOFFSETFROM:+0200
TZOFFSETTO:+0100
TZNAME:CET
DTSTART:20221030T010000
END:STANDARD
END:VTIMEZONE
BEGIN:VEVENT
DTSTART;TZID=Europe/Paris:20220218T203000
DTEND;TZID=Europe/Paris:20220218T203000
DTSTAMP:20260423T025922
CREATED:20211220T100939Z
LAST-MODIFIED:20211220T100939Z
UID:381674-1645216200-1645216200@www.yvelines-infos.fr
SUMMARY:Jean-François ZYGEL
DESCRIPTION:Entre virtuosité et fantaisie\, le célèbre pianiste compositeur vous fera partager au cours de ce récital une expérience sensorielle insolite et festive\, un voyage poétique nourri de ses propres émotions et de sa rencontre avec les auditeurs de ce concert unique. Des tableaux musicaux inspirés par l’histoire\, l’architecture\, les lieux emblématiques et les légendes de votre cité. Un concert sur mesure ! \nDurée : 1h20
URL:https://www.yvelines-infos.fr/agenda/jean-francois-zygel/
LOCATION:Espace Albert Camus // Maurepas\, 4 rue de la beauce\, Maurepas\, 78310\, France
ATTACH;FMTTYPE=image/jpeg:https://www.yvelines-infos.fr/content/uploads/2021/thumbnail-13.jpeg
GEO:48.7668288;1.9447844
X-APPLE-STRUCTURED-LOCATION;VALUE=URI;X-ADDRESS=Espace Albert Camus // Maurepas 4 rue de la beauce Maurepas 78310 France;X-APPLE-RADIUS=500;X-TITLE=4 rue de la beauce:geo:1.9447844,48.7668288
END:VEVENT
BEGIN:VEVENT
DTSTART;TZID=Europe/Paris:20220212T203000
DTEND;TZID=Europe/Paris:20220212T203000
DTSTAMP:20260423T025922
CREATED:20211220T102453Z
LAST-MODIFIED:20211220T102453Z
UID:381611-1644697800-1644697800@www.yvelines-infos.fr
SUMMARY:LES RITALS
DESCRIPTION:Bruno Putzulu adapte au théâtre le roman de François Cavanna « Les Ritals ». Seul sur scène avec un accordéoniste il nous entraîne dans cette saga familialie haute en couleurs.\nL’ancien pensionnaire de la Comédie-Française\, dont le départ de la maison avait fait grand bruit en 2005\, incarne tour à tour tous les personnages de cette chronique familiale. Avec une complicité remarquable\, Bruno Putzulu et l’accordéoniste Grégory Daltin\, tous deux imprégnés de cet héritage italien\, nous donnent à entendre le souffle de vie de ce truculent roman autobiographique\, dont les situations et les notes résonnent encore très fort aujourd’hui. \nD’après le roman de François Cavanna\nAvec Bruno Putzulu\nAccordéon : Grégory Daltin\nMise en scène : Mario Putzulu \n\nRéserver un billet :\n01 30 66 55 10\nresa.camus@maurepas.fr
URL:https://www.yvelines-infos.fr/agenda/les-ritals/
LOCATION:Espace Albert Camus // Maurepas\, 4 rue de la beauce\, Maurepas\, 78310\, France
ATTACH;FMTTYPE=image/png:https://www.yvelines-infos.fr/content/uploads/2021/thumbnail-1-6.png
GEO:48.7668288;1.9447844
X-APPLE-STRUCTURED-LOCATION;VALUE=URI;X-ADDRESS=Espace Albert Camus // Maurepas 4 rue de la beauce Maurepas 78310 France;X-APPLE-RADIUS=500;X-TITLE=4 rue de la beauce:geo:1.9447844,48.7668288
END:VEVENT
END:VCALENDAR