BEGIN:VCALENDAR
VERSION:2.0
PRODID:-//Yvelines Infos - ECPv6.0.2//NONSGML v1.0//EN
CALSCALE:GREGORIAN
METHOD:PUBLISH
X-ORIGINAL-URL:https://www.yvelines-infos.fr
X-WR-CALDESC:Évènements pour Yvelines Infos
REFRESH-INTERVAL;VALUE=DURATION:PT1H
X-Robots-Tag:noindex
X-PUBLISHED-TTL:PT1H
BEGIN:VTIMEZONE
TZID:Europe/Paris
BEGIN:DAYLIGHT
TZOFFSETFROM:+0100
TZOFFSETTO:+0200
TZNAME:CEST
DTSTART:20190331T010000
END:DAYLIGHT
BEGIN:STANDARD
TZOFFSETFROM:+0200
TZOFFSETTO:+0100
TZNAME:CET
DTSTART:20191027T010000
END:STANDARD
END:VTIMEZONE
BEGIN:VEVENT
DTSTART;VALUE=DATE:20190625
DTEND;VALUE=DATE:20190921
DTSTAMP:20260423T020928
CREATED:20190625T095737Z
LAST-MODIFIED:20190625T095737Z
UID:359785-1561420800-1569023999@www.yvelines-infos.fr
SUMMARY:Défi presque Zéro Déchet
DESCRIPTION:Participez à la première édition inter-associative du Défi Presque Zéro Déchet Nord Yvelines !\nVenez partager une expérience conviviale pour agir ensemble\, localement\, pour un monde soutenable !\n\nContexte : \nLes chiffres donnent le tournis.\n30 millions de tonnes de déchets ménages sont produits chaque année en France\, dont 60% finissent incinérés ou mis en décharge. Quand on sait que 30% du contenu de nos poubelles est biodégradable\, et que seuls 26% des emballages plastiques sont recyclés\, on comprend l’ampleur de l’enjeu que présentent les déchets. Pourtant\, une multitude de solutions existent et sont portées chaque jour par une multitude d’acteurs (associations\, citoyens\, collectivités…). L’Espace INFO->ÉNERGIE du Nord Yvelines (Énergies Solidaires) a donc décidé de piloter un Défi Presque Zéro Déchet en partenariat avec des associations du territoire (Beynes en Transition\, le Champs des Poissybles\, Triel Environnement\, l’Office du Développement Durable\, Zéro Waste 78 et d’autres encore).\n \nObjectif\nL’objectif est simple : réduire à son échelle sa production de déchets sans se fixer d’objectifs inatteignables (d’où le « presque » zéro déchet) en trouvant les solutions qui conviennent  aux besoins et aux contraintes de chacun.\nLe défi se déroule en trois temps : une première période de pesée hebdomadaire des poubelles permet de connaître sa production de déchets\, suivi d’une période d’ateliers proposés par des associations pour trouver des solutions et enfin une deuxième période de pesée permet de constater ses progrès.\nTout le monde est gagnant dans le défi zéro déchet\, l’expérience de Saint Quentin a rassemblé plus de 300 foyers qui ont réussi à réduire leurs déchets de 30% !\n\nPour vous inscrire  \nNe tardez pas à vous inscrire\, vous avez jusqu’au 20 septembre\, c’est gratuit et s’agissant d’une première édition\, le nombre de places est limité à 100.\nContactez Énergies Solidaires au 01 39 70 23 06 ou par mail : zerodechet@energies-solidaires.org
URL:https://www.yvelines-infos.fr/agenda/defi-presque-zero-dechet/
ATTACH;FMTTYPE=image/jpeg:https://www.yvelines-infos.fr/content/uploads/2019/telechargement-2.jpeg
ORGANIZER;CN="%C3%89nergies%20Solidaires":MAILTO:contact@energies-solidaires.org
END:VEVENT
END:VCALENDAR