BEGIN:VCALENDAR
VERSION:2.0
PRODID:-//Yvelines Infos - ECPv6.0.2//NONSGML v1.0//EN
CALSCALE:GREGORIAN
METHOD:PUBLISH
X-ORIGINAL-URL:https://www.yvelines-infos.fr
X-WR-CALDESC:Évènements pour Yvelines Infos
REFRESH-INTERVAL;VALUE=DURATION:PT1H
X-Robots-Tag:noindex
X-PUBLISHED-TTL:PT1H
BEGIN:VTIMEZONE
TZID:Europe/Paris
BEGIN:DAYLIGHT
TZOFFSETFROM:+0100
TZOFFSETTO:+0200
TZNAME:CEST
DTSTART:20190331T010000
END:DAYLIGHT
BEGIN:STANDARD
TZOFFSETFROM:+0200
TZOFFSETTO:+0100
TZNAME:CET
DTSTART:20191027T010000
END:STANDARD
BEGIN:DAYLIGHT
TZOFFSETFROM:+0100
TZOFFSETTO:+0200
TZNAME:CEST
DTSTART:20200329T010000
END:DAYLIGHT
BEGIN:STANDARD
TZOFFSETFROM:+0200
TZOFFSETTO:+0100
TZNAME:CET
DTSTART:20201025T010000
END:STANDARD
BEGIN:DAYLIGHT
TZOFFSETFROM:+0100
TZOFFSETTO:+0200
TZNAME:CEST
DTSTART:20210328T010000
END:DAYLIGHT
BEGIN:STANDARD
TZOFFSETFROM:+0200
TZOFFSETTO:+0100
TZNAME:CET
DTSTART:20211031T010000
END:STANDARD
END:VTIMEZONE
BEGIN:VEVENT
DTSTART;TZID=Europe/Paris:20210311T210000
DTEND;TZID=Europe/Paris:20210313T000000
DTSTAMP:20260423T054224
CREATED:20210304T091005Z
LAST-MODIFIED:20210304T091357Z
UID:373605-1615496400-1615593600@www.yvelines-infos.fr
SUMMARY:Festival ElectroChic - édition 2021
DESCRIPTION:Le festival de musique électro ElectroChic revient du 11 au 13 mars 2021. Une 5ème édition repensée 100 % en ligne et gratuite ! \nEn 2020\, le Festival ElectroChic était partiellement amputé : nous entrions dans le premier week-end de restriction d’accès aux salles de spectacle. Cette année\, pas question de laisser portes closes ! C’est en ligne et gratuitement que l’équipe d’ElectroChic vous donne rendez-vous autour d’une programmation resserrée. \nJeudi 11 mars\, 21h\n260 ans d’histoire à Jouy-en-Josas rejoindront l’électro Acid Jazz d’Herr Krank pour un set au Musée de la Toile de Jouy\, organisé par la ville de Jouy-en-Josas et les associations Soundmotion et TBA. \nVendredi 12\, 20h\nLaake\, pianiste autodidacte et producteur électro\, se confiera au micro de Radio Sensations en collaboration avec la MJC de la Vallée à Chaville. \nVendredi 12\, 21h\nRencontre inédite entre Mokado et son univers de sons organiques et électroniques et Medium Douce qui proposera une musique aux tendances techno house dans l’architecture si typique de l’Atelier numérique de Versailles. \nSamedi 13\, 21h\nPoint d’orgue du festival : le tremplin dédié aux jeunes talents et organisé par L’Onde\, Théâtre Centre d’art de Vélizy-Villacoublay. Cette année\, chacun pourra voter via les réseaux sociaux pour son artiste préféré et élire\, peut-être\, le « Daft Punk » de demain ?! \nLe temps de la première diffusion en ligne\, les musiciens répondront aux questions des internautes en direct du Facebook. \n\nInscrivez-vous sur l’événement Facebook\nSuivez le Festival sur Instagram\nLes concerts seront aussi retransmis sur YouTube ElectroChic.\n\nLe Festival ElectroChic est organisé en partenariat avec le Département des Yvelines \nFestival ElectroChic 5
URL:https://www.yvelines-infos.fr/agenda/festival-electrochic-edition-2021/
ATTACH;FMTTYPE=image/jpeg:https://www.yvelines-infos.fr/content/uploads/2021/141106701-3326445924126215-7851370214009041133-o.jpg
END:VEVENT
BEGIN:VEVENT
DTSTART;TZID=Europe/Paris:20190316T203000
DTEND;TZID=Europe/Paris:20190316T203000
DTSTAMP:20260423T054224
CREATED:20190219T162122Z
LAST-MODIFIED:20190219T162252Z
UID:355798-1552768200-1552768200@www.yvelines-infos.fr
SUMMARY:Soirée électro-hambourgeoise : Helena Hauff + Session Victim + Smallpeople
DESCRIPTION:À l’occasion de la troisième édition du festival ElectroChic\, l’Onde vous propose une soirée autour de la scène hambourgoise. \nUne soirée\, trois concerts ! \n\n\n\n\n\n\n  \n  \n\nHelena Hauff\n\nDJ et productrice originaire de Hambourg\, Helena Hauff s’est fait une place sur la scène internationale grâce à son style radical et ses morceaux enregistrés de façon strictement analogique. Ancienne résidente du Golden Pudel\, club de sa ville d’origine où elle continue d’animer les très célèbres soirées Birds and Other Instruments\, l’artiste mêle avec une grande habilité ses influences Dirty Acid\, Chicago\, Electro et Wave au service de DJ set intenses. Depuis la sortie de son premier album Discreet Desires en 2015\, l’aura d’Helena Hauff lui a valu de rejoindre les résidents de la fameuse BBC Radio 1. En 2017\, elle était élue « The Most Exciting DJ In The World (Right Now) » par Crack Magazine tandis que son incroyable BBC Essential Mix était désigné comme le meilleur de l’année (elle est d’ailleurs la première femme à recevoir cette distinction). \nSoundcloud : https://soundcloud.com/helena-hauff\nSite web : www.helena-hauff.com\nDiscographie : http://www.discogs.com/artist/Helena+Hauff \n  \n  \n\nSession Victime \n\nDepuis plus dix ans\, le duo Session Victim se passionne pour le son du Vinyle. 2018 marque d’ailleurs la création de leur propre édition\, Pen & Paper\, inspirée du jeu de rôle culte des années 70. En plus de leurs productions originales pour lesquelles le duo s’associe à Retreat\, XK et Real Soon\, Session Victim remix divers artistes issus des labels lassic\, Greco Roman\, Heist\, Toytonics\, Tartelet\, Permanent Vacation ou encore Razor N Tape. Grâce à leur énergie communicative Session Victim parvient à tisser des moments magiques sur la piste marquant chaque représentation de leur personnalité sauvage et laissant sur leur chemin des visages souriants. \nSoundcloud : https://soundcloud.com/sessionvictim/\nDiscographie : https://soundcloud.com/sessionvictim/ \n  \n  \n\nSmallpeople\n\nDerrière ce duo se cachent deux djs et producteurs\, Julius Steinhoff et et Just von Ahlefeld alias Dionne. En 2006\, ils fondent le record store Smallville\, un magasin de disque\, ainsi que le label du même nom un an plus tard. Label qui fera et fait encore les beaux jours de la deep house allemande\, ayant accueilli des artistes comme Lawrence\, Christopher Rau ou encore Moomin. Julius et Dionne\, quant à eux\, diffusent leur house deep et planante sur des labels comme Underground Quality\, Laid et\, bien sûr\, SmallVille sur lequel sortira leur très bel album “Salty Days” en 2012. \nSite web : http://www.smallville-records.com/\nDiscographie : http://www.discogs.com/label/Smallville+Records
URL:https://www.yvelines-infos.fr/agenda/soiree-electro-hambourgeoise-helena-hauff-session-victim-smallpeople/
LOCATION:L'Onde Théâtre Centre d'art\, 8 bis\, avenue Louis Breguet\, Vélizy-Villacoublay\, France\, 78140
ATTACH;FMTTYPE=image/jpeg:https://www.yvelines-infos.fr/content/uploads/2019/helenahauff.jpg
GEO:48.7822173;2.1800377
X-APPLE-STRUCTURED-LOCATION;VALUE=URI;X-ADDRESS=L'Onde Théâtre Centre d'art 8 bis avenue Louis Breguet Vélizy-Villacoublay France 78140;X-APPLE-RADIUS=500;X-TITLE=8 bis\, avenue Louis Breguet:geo:2.1800377,48.7822173
END:VEVENT
BEGIN:VEVENT
DTSTART;TZID=Europe/Paris:20190314T203000
DTEND;TZID=Europe/Paris:20190314T203000
DTSTAMP:20260423T054224
CREATED:20190219T162224Z
LAST-MODIFIED:20190219T162249Z
UID:355794-1552595400-1552595400@www.yvelines-infos.fr
SUMMARY:Jeff Mills X Tony Allen
DESCRIPTION:ElectroChic s’ouvre cette année sur un duo de légende ! \nJeff Mills et Tony Allen unissent leurs talents pour un concert exceptionnel\, à l’occasion de la sortie de leur tout nouvel album Tomorrow Comes The Harvest. \nUne rencontre captivante entre un géant de la techno et l’un des plus grands batteurs du monde. \nhttp://www.festivalelectrochic.fr/ \nDans sa quête pour se libérer de la tyrannie du séquenceur\, Jeff Mills ne pouvait rêver meilleur allié que le père de l’Afrobeat. \nPour beaucoup\, Tony Allen est l’un des plus grands batteurs au monde. Au cours des trente dernières années\, son mélange si caractéristique d’influences nigérianes\, de jazz polyglotte et de funk débridé\, interprété avec une décontraction et une précision absolues\, a conquis la planète et exercé une influence déterminante sur le travail de nombreux artistes. \nJeff Mills\, lui\, est une véritable légende de la scène électro\, un innovateur infatigable qui a joué un rôle majeur dans l’émergence de la scène techno de Détroit au cours des années 1980\, avant de se lancer dans la composition de symphonies électro\, de bandes-son et d’odyssées sonores. Ce parcours l’a conduit à travailler avec des artistes visuels\, des chorégraphes\, des orchestres classiques et même avec des astronautes ! \nTout en s’inscrivant dans la lignée de ces précédentes collaborations\, cette rencontre avec Tony Allen a quelque chose de particulier. « Nous travaillons ensemble pour accomplir quelque chose de plus grand que nous »\, explique Jeff Mills. « Il s’agit d’une véritable collaboration\, dont la nature n’est pas uniquement musicale mais également intellectuelle et spirituelle ».
URL:https://www.yvelines-infos.fr/agenda/jeff-mills-x-tony-allen/
LOCATION:L'Onde Théâtre Centre d'art\, 8 bis\, avenue Louis Breguet\, Vélizy-Villacoublay\, France\, 78140
ATTACH;FMTTYPE=image/jpeg:https://www.yvelines-infos.fr/content/uploads/2019/jeffmillstonyallen.jpg
GEO:48.7822173;2.1800377
X-APPLE-STRUCTURED-LOCATION;VALUE=URI;X-ADDRESS=L'Onde Théâtre Centre d'art 8 bis avenue Louis Breguet Vélizy-Villacoublay France 78140;X-APPLE-RADIUS=500;X-TITLE=8 bis\, avenue Louis Breguet:geo:2.1800377,48.7822173
END:VEVENT
END:VCALENDAR