BEGIN:VCALENDAR
VERSION:2.0
PRODID:-//Yvelines Infos - ECPv6.0.2//NONSGML v1.0//EN
CALSCALE:GREGORIAN
METHOD:PUBLISH
X-ORIGINAL-URL:https://www.yvelines-infos.fr
X-WR-CALDESC:Évènements pour Yvelines Infos
REFRESH-INTERVAL;VALUE=DURATION:PT1H
X-Robots-Tag:noindex
X-PUBLISHED-TTL:PT1H
BEGIN:VTIMEZONE
TZID:Europe/Paris
BEGIN:DAYLIGHT
TZOFFSETFROM:+0100
TZOFFSETTO:+0200
TZNAME:CEST
DTSTART:20220327T010000
END:DAYLIGHT
BEGIN:STANDARD
TZOFFSETFROM:+0200
TZOFFSETTO:+0100
TZNAME:CET
DTSTART:20221030T010000
END:STANDARD
END:VTIMEZONE
BEGIN:VEVENT
DTSTART;TZID=Europe/Paris:20220409T150000
DTEND;TZID=Europe/Paris:20220409T150000
DTSTAMP:20260423T064119
CREATED:20220322T140900Z
LAST-MODIFIED:20220322T140900Z
UID:384596-1649516400-1649516400@www.yvelines-infos.fr
SUMMARY:Show de Vents
DESCRIPTION:Les classes vents du conservatoire vous invitent à leur concert ! Trombones\, saxophones\, flûtes\, clarinettes et trompettes en force pour un après-midi découverte ouvert à tous. \nGratuit sur réservation au 01 30 79 63 31.
URL:https://www.yvelines-infos.fr/agenda/show-de-vents/
ATTACH;FMTTYPE=image/jpeg:https://www.yvelines-infos.fr/content/uploads/2022/csm-cor-musique-f5dab2b97f.jpg
END:VEVENT
END:VCALENDAR