BEGIN:VCALENDAR
VERSION:2.0
PRODID:-//Yvelines Infos - ECPv6.0.2//NONSGML v1.0//EN
CALSCALE:GREGORIAN
METHOD:PUBLISH
X-WR-CALNAME:Yvelines Infos
X-ORIGINAL-URL:https://www.yvelines-infos.fr
X-WR-CALDESC:Évènements pour Yvelines Infos
REFRESH-INTERVAL;VALUE=DURATION:PT1H
X-Robots-Tag:noindex
X-PUBLISHED-TTL:PT1H
BEGIN:VTIMEZONE
TZID:Europe/Paris
BEGIN:DAYLIGHT
TZOFFSETFROM:+0100
TZOFFSETTO:+0200
TZNAME:CEST
DTSTART:20190331T010000
END:DAYLIGHT
BEGIN:STANDARD
TZOFFSETFROM:+0200
TZOFFSETTO:+0100
TZNAME:CET
DTSTART:20191027T010000
END:STANDARD
BEGIN:DAYLIGHT
TZOFFSETFROM:+0100
TZOFFSETTO:+0200
TZNAME:CEST
DTSTART:20200329T010000
END:DAYLIGHT
BEGIN:STANDARD
TZOFFSETFROM:+0200
TZOFFSETTO:+0100
TZNAME:CET
DTSTART:20201025T010000
END:STANDARD
BEGIN:DAYLIGHT
TZOFFSETFROM:+0100
TZOFFSETTO:+0200
TZNAME:CEST
DTSTART:20210328T010000
END:DAYLIGHT
BEGIN:STANDARD
TZOFFSETFROM:+0200
TZOFFSETTO:+0100
TZNAME:CET
DTSTART:20211031T010000
END:STANDARD
BEGIN:DAYLIGHT
TZOFFSETFROM:+0100
TZOFFSETTO:+0200
TZNAME:CEST
DTSTART:20220327T010000
END:DAYLIGHT
BEGIN:STANDARD
TZOFFSETFROM:+0200
TZOFFSETTO:+0100
TZNAME:CET
DTSTART:20221030T010000
END:STANDARD
END:VTIMEZONE
BEGIN:VEVENT
DTSTART;TZID=Europe/Paris:20220329T200000
DTEND;TZID=Europe/Paris:20220329T213000
DTSTAMP:20260423T063700
CREATED:20220322T141829Z
LAST-MODIFIED:20220322T141829Z
UID:384113-1648584000-1648589400@www.yvelines-infos.fr
SUMMARY:LES DENSITÉS – L’ÉPOUSE ET LA MÉNAGÈRE - DANSE
DESCRIPTION:Deux pièces incarnent la dérision\, l’absurdité voire le cauchemar d’une représentation normative. Dans la grande tradition de la danse – théâtre expressionniste\, ces deux pièces passent par l’engagement total du corps de la danseuse qui propose une danse incarnée\, émotionnelle\, expressive. \nDans le cadre de la biennale de danse « SUR QUEL PIED DANSER ?« \, organisée sur tout le territoire de la Communauté Urbaine GPSEO. La biennale\, coordonnée par le CDLD (Centre de la Danse Pierre Doussaint\, Les Mureaux) met en avant la danse sous toutes ses formes. \nRebecca Journo\, danseuse et chorégraphe associée au Collectif 12 depuis 2 ans présentera pour la première fois ses deux premiers solos en continuité : L’Épouse et La Ménagère. \nMalgré la difficulté de la performance physique d’enchainer ces deux pièces\, ils nous semble pertinent de les présenter en diptyque\, non seulement par ce qu’elles se prolongent dans une progression narrative\, mais aussi par ce qu’elles s’enrichissent mutuellement en déployant de nombreux points communs : \nChacun de ces deux personnages est enfermé dans un espace et ses contraintes propres\, et dans un temps spécifique. Un corps de femme aux prises avec la pression de moments archétypaux de la condition féminine : la cérémonie de mariage pour la première\, et l’entretien du foyer familial pour la suivante. \nCe ne sont pas pour autant des satires simplistes de la représentation de la femme\, mais plutôt des portraits mesurant l’écart entre réalité et fantasme. Nous voici face à un corps animé d’une tension entre la construction d’une représentation idéalisée et le mouvement intérieur refoulé du corps vécu\, celui-ci va se manifester en surgissant subrepticement et donner lieu à des dysfonctionnements\, des bugs\, des erreurs système. \nToutes les infos sur le site du Collectif 12 \nRéservation obligatoire : 01 30 33 22 65 / reservation@collectif12.org | Tarifs :  10 / 5 / 3 euros \n 
URL:https://www.yvelines-infos.fr/agenda/les-densites-lepouse-et-la-menagere-danse/
LOCATION:Collectif 12\, 174 boulevard du Maréchal Juin\, Mantes-la-Jolie\, 78200\, France
ATTACH;FMTTYPE=image/jpeg:https://www.yvelines-infos.fr/content/uploads/2022/csm-diptyque-j-gros-abadie-cecacaa9a3.jpg
ORGANIZER;CN="Collectif%2012":MAILTO:contact@collectif12.org
GEO:48.9940911;1.6983974
X-APPLE-STRUCTURED-LOCATION;VALUE=URI;X-ADDRESS=Collectif 12 174 boulevard du Maréchal Juin Mantes-la-Jolie 78200 France;X-APPLE-RADIUS=500;X-TITLE=174 boulevard du Maréchal Juin:geo:1.6983974,48.9940911
END:VEVENT
BEGIN:VEVENT
DTSTART;TZID=Europe/Paris:20220325T200000
DTEND;TZID=Europe/Paris:20220325T213000
DTSTAMP:20260423T063700
CREATED:20220322T141837Z
LAST-MODIFIED:20220322T141837Z
UID:384111-1648238400-1648243800@www.yvelines-infos.fr
SUMMARY:LES DENSITÉS – UBUNTU\, RÉCIT POUR TROIS CASSEROLES - DANSE - CONCERT
DESCRIPTION:Dans le cadre des Densités \n1ère partie : Karnaval Nomade – déambulation avec amateurs \n“À une heure précise\, chaque jour une danse sort de l’invisible.\nEst-ce un groupe qui l’a fait apparaître ?\nEst-ce la danse qui fait naître le groupe ?\nQui s’adresse à qui ?” \nUne procession de créatures masquées et sonores apparaît. Est-ce un rituel\, un défilé\, un carnaval ? Ces créatures évoluent à la façon d’animaux farouches. Le public est invité à suivre leurs déplacements\, les approchant avant de les perdre à nouveau. \nUn groupe de 6 amateurs et amatrices\, aficionado du Collectif 12\, se prête au jeu pour entrer dans les peaux et sous les masques de ces créatures. Pour cette représentation unique ils partageant avec le public leurs interprétations singulières de ces êtres hybrides. \n2ème partie : Ubuntu\, récit pour trois casseroles \n“Je suis ce que je suis grâce à ce que nous sommes tous”\nComment revisiter ces cultures qui nous habitent\, sans qu’on puisse en vérifier\, l’authenticité\, ni en maîtriser les mouvements ? \nUne femme au torse nu\, porte des casseroles\, à la façon d’une carapace ou d’une armure ajourée et percée. Les sonorités du métal se confondent avec sa voix\, qui chante\, scande et raconte. Ce corps musical en mouvement empreinte un voyage aux horizons multiples\, où la méditation\, le rituel et l’envoûtement se dessinent. \nLa danseuse et performeuse Mathilde Rance puise dans son voyage de 2011 en République Démocratique du Congo pour cette création. Elle en ramène trois casseroles qui sont autant de vestiges d’un passé colonialiste et d’un présent où privilèges\, dominations et valeurs des vies humaines restent inégales. Entre silence et fracas les casseroles prennent la parole entre tabou structurel et révélations percutantes. ​ \nLa performeuse crée ainsi un jeu de piste sur les traces de nos histoires\, celles qui nous sont personnelles et nous rattachent pourtant à la “Grande Histoire”. Comment y trouver une cohérence et redessiner l’Histoire à la faveur de ces récits intimes ? \nEn clôture\, Mathilde Rance\, aussi musicienne\, proposera un concert expérimental à partir des casseroles du spectacle. \nToutes les infos sur le site du Collectif 12 \nRéservation : 01 30 33 22 65 / reservation@collectif12.org | Tarifs :  10 / 5 / 3 euros
URL:https://www.yvelines-infos.fr/agenda/les-densites-ubuntu-recit-pour-trois-casseroles-danse-concert/
LOCATION:Collectif 12\, 174 boulevard du Maréchal Juin\, Mantes-la-Jolie\, 78200\, France
ATTACH;FMTTYPE=image/jpeg:https://www.yvelines-infos.fr/content/uploads/2022/csm-visuel-site-ubuntur-d7bd7a5855.jpg
ORGANIZER;CN="Collectif%2012":MAILTO:contact@collectif12.org
GEO:48.9940911;1.6983974
X-APPLE-STRUCTURED-LOCATION;VALUE=URI;X-ADDRESS=Collectif 12 174 boulevard du Maréchal Juin Mantes-la-Jolie 78200 France;X-APPLE-RADIUS=500;X-TITLE=174 boulevard du Maréchal Juin:geo:1.6983974,48.9940911
END:VEVENT
BEGIN:VEVENT
DTSTART;TZID=Europe/Paris:20190513T190000
DTEND;TZID=Europe/Paris:20190513T220000
DTSTAMP:20260423T063700
CREATED:20190509T084712Z
LAST-MODIFIED:20190509T084712Z
UID:358339-1557774000-1557784800@www.yvelines-infos.fr
SUMMARY:Match d'impro "à la manière de Molière"
DESCRIPTION:Dans le cadre de la rénovation de sa politique enfance\, le Département des Yvelines a souhaité mettre l’accent sur la Prévention. Il a notamment souhaité créer les postes de chargés de mission prévention dans les collèges en faveur des adolescents qui sont particulièrement vulnérables. Ces professionnels développent des actions de prévention précoce en lien avec les établissements et les partenaires extérieurs. Les actions mises en place se font autour de différentes thématiques : climat scolaire\, citoyenneté\, culture et mobilité\, relation entre pairs\, santé\, stages… \nC’est dans ce contexte qu’environ 90 élèves du Collège Louis Pasteur de Mantes-la-Jolie scolarisés en 5ème\, 4ème et 3ème participent à l’action « Tous au théâtre » mise en place conjointement par la conseillère principale d’éducation du collège\, la chargée de mission prévention du PEJ du Mantois et la Comédie Française. Le théâtre est un outil ludique à la fois culturel et éducatif qui développe les relations aux autres\, l’imagination\, l’écoute mais également l’estime de soi. En cela il constitue un outil de prévention innovant que nous avons décidé de développer autour de la citoyenneté. \nDepuis juin 2018\, un travail partenarial s’est mis en place entre ses 3 acteurs afin d’offrir aux élèves une expérience innovante\, épanouissante et créative. Des professeurs de français et un professeur d’EPS sont venus renforcer l’équipe projet tout au long de l’année. \n22 ateliers animés par des comédiens d’AD² productions par groupe d’une douzaine d’élèves afin de les préparer à l’univers théâtral et aux matchs des 21 février qui a eu lieu à l’ECM Le Chaplin et 13 mai 2019 au Collectif 12. \nPendant l’année 2018/2019\, les élèves ont pu participer à des représentations théâtrales\, des rencontres et des visites en petit groupe afin de les accompagner dans leur cheminement. \n20/05/2019 : Carmen à l’opéra Bastille \n11/06/2019 : Hors la Loi – Théâtre du Vieux Colombier (Comédie Française)
URL:https://www.yvelines-infos.fr/agenda/match-dimpro-a-la-maniere-de-moliere/
LOCATION:Collectif 12\, 174 boulevard du Maréchal Juin\, Mantes-la-Jolie\, 78200\, France
ATTACH;FMTTYPE=image/png:https://www.yvelines-infos.fr/content/uploads/2019/capture-decran-2019-05-07-a-16-19-25.png
ORGANIZER;CN="Collectif%2012":MAILTO:contact@collectif12.org
GEO:48.9940911;1.6983974
X-APPLE-STRUCTURED-LOCATION;VALUE=URI;X-ADDRESS=Collectif 12 174 boulevard du Maréchal Juin Mantes-la-Jolie 78200 France;X-APPLE-RADIUS=500;X-TITLE=174 boulevard du Maréchal Juin:geo:1.6983974,48.9940911
END:VEVENT
END:VCALENDAR