BEGIN:VCALENDAR
VERSION:2.0
PRODID:-//Yvelines Infos - ECPv6.0.2//NONSGML v1.0//EN
CALSCALE:GREGORIAN
METHOD:PUBLISH
X-ORIGINAL-URL:https://www.yvelines-infos.fr
X-WR-CALDESC:Évènements pour Yvelines Infos
REFRESH-INTERVAL;VALUE=DURATION:PT1H
X-Robots-Tag:noindex
X-PUBLISHED-TTL:PT1H
BEGIN:VTIMEZONE
TZID:Europe/Paris
BEGIN:DAYLIGHT
TZOFFSETFROM:+0100
TZOFFSETTO:+0200
TZNAME:CEST
DTSTART:20170326T010000
END:DAYLIGHT
BEGIN:STANDARD
TZOFFSETFROM:+0200
TZOFFSETTO:+0100
TZNAME:CET
DTSTART:20171029T010000
END:STANDARD
BEGIN:DAYLIGHT
TZOFFSETFROM:+0100
TZOFFSETTO:+0200
TZNAME:CEST
DTSTART:20180325T010000
END:DAYLIGHT
BEGIN:STANDARD
TZOFFSETFROM:+0200
TZOFFSETTO:+0100
TZNAME:CET
DTSTART:20181028T010000
END:STANDARD
END:VTIMEZONE
BEGIN:VEVENT
DTSTART;TZID=Europe/Paris:20180612T210000
DTEND;TZID=Europe/Paris:20180612T230000
DTSTAMP:20260423T010213
CREATED:20180514T084919Z
LAST-MODIFIED:20180514T084919Z
UID:350025-1528837200-1528844400@www.yvelines-infos.fr
SUMMARY:F. SCHUBERT : Messe en mi bémol Majeur
DESCRIPTION:Concert d’été 2018 de l’Orchestre symphonique Les Pléiades\, le Chœur Polycantus de Viroflay et le Chœur Saint-Germain : Messe en mi bémol majeur (D950) de Franz Schubert.  \n Digne des pièces maîtresses de Bach\, Mozart et Beethoven\, cette dernière page grandiose et émouvante de Schubert atteint une puissance musicale et témoigne d’une profondeur de pensée exceptionnelles. \nEn complément de programme\, la Symphonie « La chasse » de FJ Gossec. \n Les chœurs et l’orchestre Les Pléiades seront placés sous la direction de Philippe Lerat.
URL:https://www.yvelines-infos.fr/agenda/f-schubert-messe-mi-bemol-majeur-3/
LOCATION:Eglise Notre Dame du Liban\, 17 rue d'Ulm\, Paris\, 75005
ATTACH;FMTTYPE=image/jpeg:https://www.yvelines-infos.fr/content/uploads/2018/affiche-schubert-2018-paysage6-red-2.jpg
ORGANIZER;CN="Choeur%20POLYCANTUS":MAILTO:polycantus@gmail.com
GEO:48.8440154;2.3452929
X-APPLE-STRUCTURED-LOCATION;VALUE=URI;X-ADDRESS=Eglise Notre Dame du Liban 17 rue d'Ulm Paris 75005;X-APPLE-RADIUS=500;X-TITLE=17 rue d'Ulm:geo:2.3452929,48.8440154
END:VEVENT
BEGIN:VEVENT
DTSTART;TZID=Europe/Paris:20180610T180000
DTEND;TZID=Europe/Paris:20180610T200000
DTSTAMP:20260423T010213
CREATED:20180514T084924Z
LAST-MODIFIED:20180514T084924Z
UID:350023-1528653600-1528660800@www.yvelines-infos.fr
SUMMARY:F. SCHUBERT : Messe en mi bémol Majeur
DESCRIPTION:Concert d’été 2018 de l’Orchestre symphonique Les Pléiades\, le Chœur Polycantus de Viroflay et le Chœur Saint-Germain : Messe en mi bémol majeur (D950) de Franz Schubert.  \n Digne des pièces maîtresses de Bach\, Mozart et Beethoven\, cette dernière page grandiose et émouvante de Schubert atteint une puissance musicale et témoigne d’une profondeur de pensée exceptionnelles. \nEn complément de programme\, la Symphonie « La chasse » de FJ Gossec. \nLes chœurs et l’orchestre Les Pléiades seront placés sous la direction de Philippe Lerat.
URL:https://www.yvelines-infos.fr/agenda/f-schubert-messe-mi-bemol-majeur-4/
LOCATION:Eglise Notre Dame du Chêne\, Rue Rieussec\, Viroflay\, 78220\, France
ATTACH;FMTTYPE=image/jpeg:https://www.yvelines-infos.fr/content/uploads/2018/affiche-schubert-2018-paysage6-red-1.jpg
ORGANIZER;CN="Choeur%20POLYCANTUS":MAILTO:polycantus@gmail.com
GEO:48.8016906;2.1708333
X-APPLE-STRUCTURED-LOCATION;VALUE=URI;X-ADDRESS=Eglise Notre Dame du Chêne Rue Rieussec Viroflay 78220 France;X-APPLE-RADIUS=500;X-TITLE=Rue Rieussec:geo:2.1708333,48.8016906
END:VEVENT
BEGIN:VEVENT
DTSTART;TZID=Europe/Paris:20180608T210000
DTEND;TZID=Europe/Paris:20180806T000000
DTSTAMP:20260423T010213
CREATED:20180514T084916Z
LAST-MODIFIED:20180514T084916Z
UID:350021-1528491600-1533513600@www.yvelines-infos.fr
SUMMARY:F. SCHUBERT : Messe en mi bémol Majeur
DESCRIPTION:Concert d’été 2018 de l’Orchestre symphonique Les Pléiades\, le Chœur Polycantus de Viroflay et le Chœur Saint-Germain : Messe en mi bémol majeur (D950) de Franz Schubert. \nDigne des pièces maîtresses de Bach\, Mozart et Beethoven\, cette dernière page grandiose et émouvante de Schubert atteint une puissance musicale et témoigne d’une profondeur de pensée exceptionnelles. \nEn complément de programme\, la Symphonie « La chasse » de FJ Gossec. \nLes chœurs et l’orchestre Les Pléiades seront placés sous la direction de Philippe Lerat.
URL:https://www.yvelines-infos.fr/agenda/f-schubert-messe-mi-bemol-majeur-2/
LOCATION:Eglise Saint Germain de Saint-Germain-en-Laye\, 4 Place Charles de Gaulle\, Saint-Germain-en-Laye\, 78112\, France
ATTACH;FMTTYPE=image/jpeg:https://www.yvelines-infos.fr/content/uploads/2018/affiche-schubert-2018-paysage6-red.jpg
ORGANIZER;CN="Choeur%20POLYCANTUS":MAILTO:polycantus@gmail.com
GEO:48.8975314;2.0941287
X-APPLE-STRUCTURED-LOCATION;VALUE=URI;X-ADDRESS=Eglise Saint Germain de Saint-Germain-en-Laye 4 Place Charles de Gaulle Saint-Germain-en-Laye 78112 France;X-APPLE-RADIUS=500;X-TITLE=4 Place Charles de Gaulle:geo:2.0941287,48.8975314
END:VEVENT
BEGIN:VEVENT
DTSTART;TZID=Europe/Paris:20180510T180000
DTEND;TZID=Europe/Paris:20180510T200000
DTSTAMP:20260423T010213
CREATED:20180514T084821Z
LAST-MODIFIED:20180514T084821Z
UID:350028-1525975200-1525982400@www.yvelines-infos.fr
SUMMARY:F. SCHUBERT : Messe en mi bémol Majeur
DESCRIPTION:Concert d’été 2018 de l’Orchestre symphonique Les Pléiades\, le Chœur Polycantus de Viroflay et le Chœur Saint-Germain : Messe en mi bémol majeur (D950) de Franz Schubert.  \n Digne des pièces maîtresses de Bach\, Mozart et Beethoven\, cette dernière page grandiose et émouvante de Schubert atteint une puissance musicale et témoigne d’une profondeur de pensée exceptionnelles. \nEn complément de programme\, la Symphonie « La chasse » de FJ Gossec. \nLes chœurs et l’orchestre Les Pléiades seront placés sous la direction de Philippe Lerat.
URL:https://www.yvelines-infos.fr/agenda/f-schubert-messe-mi-bemol-majeur/
LOCATION:Eglise Notre Dame du Chêne\, Rue Rieussec\, Viroflay\, 78220\, France
ATTACH;FMTTYPE=image/jpeg:https://www.yvelines-infos.fr/content/uploads/2018/affiche-schubert-2018-paysage3.jpg
ORGANIZER;CN="Choeur%20POLYCANTUS":MAILTO:polycantus@gmail.com
GEO:48.8016906;2.1708333
X-APPLE-STRUCTURED-LOCATION;VALUE=URI;X-ADDRESS=Eglise Notre Dame du Chêne Rue Rieussec Viroflay 78220 France;X-APPLE-RADIUS=500;X-TITLE=Rue Rieussec:geo:2.1708333,48.8016906
END:VEVENT
BEGIN:VEVENT
DTSTART;TZID=Europe/Paris:20170609T210000
DTEND;TZID=Europe/Paris:20170609T230000
DTSTAMP:20260423T010213
CREATED:20170609T134930Z
LAST-MODIFIED:20170609T141337Z
UID:339894-1497042000-1497049200@www.yvelines-infos.fr
SUMMARY:« Chants de Vie et d’Espérance »
DESCRIPTION:Deux grands romantiques allemands\, Brahms et Mendelssohn\, dans une musique pour chœur et orchestre brillante et émouvante. \nFélix Mendelssohn\, Johannes Brahms : deux compositeurs du XIXe siècle\, pianistes virtuoses et chefs d’orchestre de talent\, célèbres dès leur vivant ; deux êtres très cultivés et passionnés de poésie\, composant dans presque tous les genres musicaux. Le programme de juin 2017 illustre bien la musique pour chœur et orchestre de ces deux géants de la musique romantique allemande. \nProgramme  \n\nMendelssohn\n\nMer calme et heureux Voyage \nPsaume 42 \nHör mein Bitten \n\nBrahms\n\nLe chant du Destin \n  \nInterprètes \nSoprano                Clara GUILLON \nChœurs                 Ensemble Vocal MÉLISANDE (dir. Olivier DELAFOSSE) \nChœur POLYCANTUS  (dir. Gilles ANDRÉ) \nOrchestre             OPF – Orchestre Philharmonique Francilien \nDirection               Jean-Yves MALMASSON \n 
URL:https://www.yvelines-infos.fr/agenda/chants-de-vie-desperance/2017-06-09/
LOCATION:Eglise Notre Dame du Chêne\, Rue Rieussec\, Viroflay\, 78220\, France
ATTACH;FMTTYPE=image/jpeg:https://www.yvelines-infos.fr/content/uploads/2017/opf_affiche-versaillesviroflay_090417-reduite.jpg
ORGANIZER;CN="Choeur%20POLYCANTUS":MAILTO:polycantus@gmail.com
GEO:48.8016906;2.1708333
X-APPLE-STRUCTURED-LOCATION;VALUE=URI;X-ADDRESS=Eglise Notre Dame du Chêne Rue Rieussec Viroflay 78220 France;X-APPLE-RADIUS=500;X-TITLE=Rue Rieussec:geo:2.1708333,48.8016906
END:VEVENT
END:VCALENDAR