BEGIN:VCALENDAR
VERSION:2.0
PRODID:-//Yvelines Infos - ECPv6.0.2//NONSGML v1.0//EN
CALSCALE:GREGORIAN
METHOD:PUBLISH
X-ORIGINAL-URL:https://www.yvelines-infos.fr
X-WR-CALDESC:Évènements pour Yvelines Infos
REFRESH-INTERVAL;VALUE=DURATION:PT1H
X-Robots-Tag:noindex
X-PUBLISHED-TTL:PT1H
BEGIN:VTIMEZONE
TZID:Europe/Paris
BEGIN:DAYLIGHT
TZOFFSETFROM:+0100
TZOFFSETTO:+0200
TZNAME:CEST
DTSTART:20180325T010000
END:DAYLIGHT
BEGIN:STANDARD
TZOFFSETFROM:+0200
TZOFFSETTO:+0100
TZNAME:CET
DTSTART:20181028T010000
END:STANDARD
BEGIN:DAYLIGHT
TZOFFSETFROM:+0100
TZOFFSETTO:+0200
TZNAME:CEST
DTSTART:20190331T010000
END:DAYLIGHT
BEGIN:STANDARD
TZOFFSETFROM:+0200
TZOFFSETTO:+0100
TZNAME:CET
DTSTART:20191027T010000
END:STANDARD
BEGIN:DAYLIGHT
TZOFFSETFROM:+0100
TZOFFSETTO:+0200
TZNAME:CEST
DTSTART:20200329T010000
END:DAYLIGHT
BEGIN:STANDARD
TZOFFSETFROM:+0200
TZOFFSETTO:+0100
TZNAME:CET
DTSTART:20201025T010000
END:STANDARD
BEGIN:DAYLIGHT
TZOFFSETFROM:+0100
TZOFFSETTO:+0200
TZNAME:CEST
DTSTART:20210328T010000
END:DAYLIGHT
BEGIN:STANDARD
TZOFFSETFROM:+0200
TZOFFSETTO:+0100
TZNAME:CET
DTSTART:20211031T010000
END:STANDARD
END:VTIMEZONE
BEGIN:VEVENT
DTSTART;TZID=Europe/Paris:20211127T203000
DTEND;TZID=Europe/Paris:20211127T220000
DTSTAMP:20260423T081219
CREATED:20211020T121318Z
LAST-MODIFIED:20211020T121318Z
UID:380040-1638045000-1638050400@www.yvelines-infos.fr
SUMMARY:Concert 30 ans du Chœur de Chambre de Versailles
DESCRIPTION:Le Chœur de Chambre de Versailles fête ses 30 ans d’existence et vous convie \nSAMEDI 27 Novembre 2021 à 20h30\, en l’Eglise Saint Symphorien de Versailles \nIl propose un concert “voyage” au travers des styles et des époques très variés et interprètera des morceaux de compositeurs classiques et d’autres plus contemporains\, moins connus à découvrir grâce au chant. \nLe chœur\, accompagné par des musiciens talentueux et la jeune soliste Armèle Gadbois\, sera sous la direction de son chef de chœur Arlinda Roux-Majollari. \nUn programme festif\, très enlevé\, à ne pas manquer. \nTarif: 18€\, Tarif réduit pour chômeurs et étudiants : 12 €\, Gratuit – de 15 ans Réservations: choeurdechambreversa.free.fr \nEn espérant vous retrouver nombreux. \nLe pass sanitaire sera demandé et le port du masque obligatoire \nA très bientôt…♫♪
URL:https://www.yvelines-infos.fr/agenda/concert-30-ans-du-choeur-de-chambre-de-versailles/
LOCATION:Eglise Saint Symphorien\, Place Saint Symphorien\, Versailles\, 78000
ATTACH;FMTTYPE=image/jpeg:https://www.yvelines-infos.fr/content/uploads/2021/ccv-30-ans-a4-jpeg.jpg
ORGANIZER;CN="Choeur%20de%20Chambre%20de%20Versailles":MAILTO:choeurdechambreversa.free.fr
END:VEVENT
BEGIN:VEVENT
DTSTART;TZID=Europe/Paris:20180115T080000
DTEND;TZID=Europe/Paris:20180115T170000
DTSTAMP:20260423T081219
CREATED:20180115T091107Z
LAST-MODIFIED:20180223T135547Z
UID:346669-1516003200-1516035600@www.yvelines-infos.fr
SUMMARY:Concert  STABAT MATER de DVOŘÁK: une oeuvre majestueuse
DESCRIPTION:Le Choeur de Chambre de Versailles (dirigé par Arlinda Roux-Majollari\, l’Ensemble Vocal du Chesnay (dirigé par Silvio Segantini) et l’Orchestre Symphonique Paris Rive Droite (dirigé par Sylvain Leclerc) interprètent l’incontournable Stabat Mater de Dvořák. \nComposé en 1877\, suite à la mort de trois de ses enfants \, Antonin Dvořák écrit sa première partition sacrée. Ancrée dans la douleur et l’émotion\, l’œuvre nous conduit\, par sa remarquable écriture vocale et orchestrale\, vers la grandeur universelle et résonne avec beaucoup d’humanité. \nUn magnifique plateau de solistes complète les choeurs et l’orchestre dans cette version intégrale. \nSoprano: Cécile Perrin \nAlto: Marina Haller \nTénor: Se-Jin Hwang \nBasse: Bertrand Grünenwald \nEntrée 22 € /Prévente 18 € /Gratuit ≤ 15 ans et chômeurs \nRéservations: www.weezevent.com/ www.ev-chesnay.com \nchoeurdechambreversa.free.fr/ www.parisrivedroite.com
URL:https://www.yvelines-infos.fr/agenda/concert-stabat-mater-de-dvorak-oeuvre-majestueuse-2/
LOCATION:Eglise Sainte Jeanne D’Arc\, Place Elisabeth Brasseur\, Versailles\, 78000
ATTACH;FMTTYPE=image/jpeg:https://www.yvelines-infos.fr/content/uploads/2018/0001.jpg
ORGANIZER;CN="Choeur%20de%20Chambre%20de%20Versailles":MAILTO:choeurdechambreversa.free.fr
GEO:48.8110402;2.1369261
X-APPLE-STRUCTURED-LOCATION;VALUE=URI;X-ADDRESS=Eglise Sainte Jeanne D’Arc Place Elisabeth Brasseur Versailles 78000;X-APPLE-RADIUS=500;X-TITLE=Place Elisabeth Brasseur:geo:2.1369261,48.8110402
END:VEVENT
END:VCALENDAR