BEGIN:VCALENDAR
VERSION:2.0
PRODID:-//Yvelines Infos - ECPv6.0.2//NONSGML v1.0//EN
CALSCALE:GREGORIAN
METHOD:PUBLISH
X-WR-CALNAME:Yvelines Infos
X-ORIGINAL-URL:https://www.yvelines-infos.fr
X-WR-CALDESC:Évènements pour Yvelines Infos
REFRESH-INTERVAL;VALUE=DURATION:PT1H
X-Robots-Tag:noindex
X-PUBLISHED-TTL:PT1H
BEGIN:VTIMEZONE
TZID:Europe/Paris
BEGIN:DAYLIGHT
TZOFFSETFROM:+0100
TZOFFSETTO:+0200
TZNAME:CEST
DTSTART:20170326T010000
END:DAYLIGHT
BEGIN:STANDARD
TZOFFSETFROM:+0200
TZOFFSETTO:+0100
TZNAME:CET
DTSTART:20171029T010000
END:STANDARD
END:VTIMEZONE
BEGIN:VEVENT
DTSTART;VALUE=DATE:20171203
DTEND;VALUE=DATE:20171204
DTSTAMP:20260423T093533
CREATED:20171016T100744Z
LAST-MODIFIED:20171016T100744Z
UID:344595-1512259200-1512345599@www.yvelines-infos.fr
SUMMARY:Trésor Des Lutins
DESCRIPTION:Vous aimez les chasses au trésor\, la recherche d’indices ? Vous voulez incarner le job de super enquêteur.\nLe Trésor des Lutins vous attend pour une folle aventure\, une chasse au trésor effrénée dans le parc du château … Six zones sont à explorer pour découvrir 6 mots codes qui vous mèneront au code final … \nCollectez les codes\, suivez le fil d’ariane\, munissez vous de votre révélateur d’encre invisible pour traquer les indices … et bien plus encore… Une aventure inédite accessible à partir de 4 ans\, à faire en famille ou entre amis. Vous souhaitez renforcer la cohésion entre vos salariés\, le trésor des lutins s’adapte aussi aux adultes. Quelle équipe saura le mieux s’organiser pour être la plus rapide ?
URL:https://www.yvelines-infos.fr/agenda/tresor-des-lutins/
LOCATION:Château du Bois du Rocher\, route de versailles\, jouy en josas\, France
ATTACH;FMTTYPE=image/jpeg:https://www.yvelines-infos.fr/content/uploads/2017/affichelutinwebRVB-e1508148319673.jpg
ORGANIZER;CN="Chateau%20du%20bois%20du%20rocher":MAILTO:contact@original-store.com
GEO:48.7703735;2.1909524
X-APPLE-STRUCTURED-LOCATION;VALUE=URI;X-ADDRESS=Château du Bois du Rocher route de versailles jouy en josas France;X-APPLE-RADIUS=500;X-TITLE=route de versailles:geo:2.1909524,48.7703735
END:VEVENT
END:VCALENDAR