BEGIN:VCALENDAR
VERSION:2.0
PRODID:-//Yvelines Infos - ECPv6.0.2//NONSGML v1.0//EN
CALSCALE:GREGORIAN
METHOD:PUBLISH
X-ORIGINAL-URL:https://www.yvelines-infos.fr
X-WR-CALDESC:Évènements pour Yvelines Infos
REFRESH-INTERVAL;VALUE=DURATION:PT1H
X-Robots-Tag:noindex
X-PUBLISHED-TTL:PT1H
BEGIN:VTIMEZONE
TZID:Europe/Paris
BEGIN:DAYLIGHT
TZOFFSETFROM:+0100
TZOFFSETTO:+0200
TZNAME:CEST
DTSTART:20190331T010000
END:DAYLIGHT
BEGIN:STANDARD
TZOFFSETFROM:+0200
TZOFFSETTO:+0100
TZNAME:CET
DTSTART:20191027T010000
END:STANDARD
END:VTIMEZONE
BEGIN:VEVENT
DTSTART;VALUE=DATE:20190416
DTEND;VALUE=DATE:20190722
DTSTAMP:20260422T210839
CREATED:20190415T132706Z
LAST-MODIFIED:20190418T092740Z
UID:357450-1555372800-1563753599@www.yvelines-infos.fr
SUMMARY:Madame de Maintenon - dans les allées du pouvoir
DESCRIPTION:À l’occasion du tricentenaire de sa mort\, l’épouse secrète de Louis XIV\, madame de Maintenon\, retrouvera ses appartements au sein du château de Versailles\, le temps d’une exposition dédiée\, du 16 avril au 21 juillet 2019. \n\n\n\n\nL’exposition\nPremière exposition entièrement consacrée à la marquise de Maintenon\, présentée à l’occasion du tricentenaire de sa mort\, le 15 avril 1719\, celle-ci retrace la destinée exceptionnelle de cette femme\, Françoise d’Aubigné\, née dans une prison et devenue l’épouse du Roi-Soleil en 1683. \nTableaux\, dessins\, gravures\, livres\, sculptures\, médailles… Une soixantaine d’œuvres – issues des collections de Versailles et de musées extérieurs – évoque les différentes étapes de sa vie\, à travers un parcours suivant l’enfilade des quatre pièces de l’appartement qu’elle occupe entre 1680 et 1715\, au 1er étage du corps central du Château.
URL:https://www.yvelines-infos.fr/agenda/madame-de-maintenon-dans-les-allees-du-pouvoir/
LOCATION:Château de Versailles\, Place d'armes\, Versailles\, 78000\, France
ATTACH;FMTTYPE=image/jpeg:https://www.yvelines-infos.fr/content/uploads/2019/9782754110723-001-t.jpeg
END:VEVENT
END:VCALENDAR