BEGIN:VCALENDAR
VERSION:2.0
PRODID:-//Yvelines Infos - ECPv6.0.2//NONSGML v1.0//EN
CALSCALE:GREGORIAN
METHOD:PUBLISH
X-WR-CALNAME:Yvelines Infos
X-ORIGINAL-URL:https://www.yvelines-infos.fr
X-WR-CALDESC:Évènements pour Yvelines Infos
REFRESH-INTERVAL;VALUE=DURATION:PT1H
X-Robots-Tag:noindex
X-PUBLISHED-TTL:PT1H
BEGIN:VTIMEZONE
TZID:Europe/Paris
BEGIN:DAYLIGHT
TZOFFSETFROM:+0100
TZOFFSETTO:+0200
TZNAME:CEST
DTSTART:20180325T010000
END:DAYLIGHT
BEGIN:STANDARD
TZOFFSETFROM:+0200
TZOFFSETTO:+0100
TZNAME:CET
DTSTART:20181028T010000
END:STANDARD
BEGIN:DAYLIGHT
TZOFFSETFROM:+0100
TZOFFSETTO:+0200
TZNAME:CEST
DTSTART:20190331T010000
END:DAYLIGHT
BEGIN:STANDARD
TZOFFSETFROM:+0200
TZOFFSETTO:+0100
TZNAME:CET
DTSTART:20191027T010000
END:STANDARD
BEGIN:DAYLIGHT
TZOFFSETFROM:+0100
TZOFFSETTO:+0200
TZNAME:CEST
DTSTART:20200329T010000
END:DAYLIGHT
BEGIN:STANDARD
TZOFFSETFROM:+0200
TZOFFSETTO:+0100
TZNAME:CET
DTSTART:20201025T010000
END:STANDARD
BEGIN:DAYLIGHT
TZOFFSETFROM:+0100
TZOFFSETTO:+0200
TZNAME:CEST
DTSTART:20210328T010000
END:DAYLIGHT
BEGIN:STANDARD
TZOFFSETFROM:+0200
TZOFFSETTO:+0100
TZNAME:CET
DTSTART:20211031T010000
END:STANDARD
BEGIN:DAYLIGHT
TZOFFSETFROM:+0100
TZOFFSETTO:+0200
TZNAME:CEST
DTSTART:20220327T010000
END:DAYLIGHT
BEGIN:STANDARD
TZOFFSETFROM:+0200
TZOFFSETTO:+0100
TZNAME:CET
DTSTART:20221030T010000
END:STANDARD
END:VTIMEZONE
BEGIN:VEVENT
DTSTART;TZID=Europe/Paris:20220515T160000
DTEND;TZID=Europe/Paris:20220515T160000
DTSTAMP:20260423T113106
CREATED:20220513T084854Z
LAST-MODIFIED:20220513T084854Z
UID:386426-1652630400-1652630400@www.yvelines-infos.fr
SUMMARY:Concert Jazz "ANIMAL"
DESCRIPTION:Un trio indomptableprend prétexte du monde animal pour composer un drôle de bestiaire sonore. Derrière les morceaux se cachent des animaux. Saurez-vous les découvrir ? Le dimanche 15 mai prochain ! \nUne baleine qui balise le fond de graves tel un sonar\, un chat qui cavalcade agile sur les grilles\, une souris qui se faufile entre les lignes rythmiques\, un singe qui grimpe dans les octaves… \nLes tromboniste Fidel Fourneyron met en sons une fantasque fantaisie où l’enjeu est de varier les plaisirs et de titiller l’imagination\, sur ce que pourrait être chaque animal mis en sons. \nAvec Fidel Fourneyron (trombone)\, Joachim Florent (contrebasse) et Sylvain Darrifourcq (batterie).
URL:https://www.yvelines-infos.fr/agenda/concert-jazz-animal/
LOCATION:Château de Thoiry\, 2 Rue du Pavillon de Montreuil\, Thoiry\, 78770
ATTACH;FMTTYPE=image/jpeg:https://www.yvelines-infos.fr/content/uploads/2022/affiche-concert-jazz-chateau-thoiry-2022-800x600-1.jpg
ORGANIZER;CN="Ch%C3%A2teau%20de%20Thoiry":MAILTO:chateau@thoiry.net
END:VEVENT
BEGIN:VEVENT
DTSTART;VALUE=DATE:20181214
DTEND;VALUE=DATE:20181215
DTSTAMP:20260423T113106
CREATED:20181204T153536Z
LAST-MODIFIED:20181204T153536Z
UID:354012-1544745600-1544831999@www.yvelines-infos.fr
SUMMARY:Les Mystères du Solstice
DESCRIPTION:Le Château de Thoiry fête l’arrivée imminente du solstice d’hiver. Le 14 décembre\, le public a l’occasion de découvrir le Parc Zoologique et l’architecture ésotérique de Château au cours d’une journée inoubliable !  \nLe Château de Thoiry est un monument extraordinaire et ésotérique de la Renaissance Française.  Si la famille de La Panouse accueille habituellement les visiteurs dans ses salons d’apparat\, elle propose aujourd’hui de découvrir cette bâtisse et son parc d’une manière inédite ! Elle confiera ses nombreux secrets transmis par une nature sauvage au fil des saison…  \nProgramme : \n\n11h : ouverture du Parc Zoologique\n17h : Lumières sauvages\n18h30 : Conférence de Paul de La Panouse sur les mystères du solstice\n20h : verre de l’amitié\n20h30 : diner gastronomique aux chandelles\n\nSur Réservation Uniquement (Places limitées)
URL:https://www.yvelines-infos.fr/agenda/les-mysteres-du-solstice/
LOCATION:Château de Thoiry\, Rue du Pavillon de Montreuil\, Thoiry\, 78770\, France
ATTACH;FMTTYPE=image/jpeg:https://www.yvelines-infos.fr/content/uploads/2018/mystere-du-solstice.jpg
ORGANIZER;CN="Ch%C3%A2teau%20de%20Thoiry":MAILTO:chateau@thoiry.net
GEO:48.862842;1.798275
X-APPLE-STRUCTURED-LOCATION;VALUE=URI;X-ADDRESS=Château de Thoiry Rue du Pavillon de Montreuil Thoiry 78770 France;X-APPLE-RADIUS=500;X-TITLE=Rue du Pavillon de Montreuil:geo:1.798275,48.862842
END:VEVENT
END:VCALENDAR