BEGIN:VCALENDAR
VERSION:2.0
PRODID:-//Yvelines Infos - ECPv6.0.2//NONSGML v1.0//EN
CALSCALE:GREGORIAN
METHOD:PUBLISH
X-WR-CALNAME:Yvelines Infos
X-ORIGINAL-URL:https://www.yvelines-infos.fr
X-WR-CALDESC:Évènements pour Yvelines Infos
REFRESH-INTERVAL;VALUE=DURATION:PT1H
X-Robots-Tag:noindex
X-PUBLISHED-TTL:PT1H
BEGIN:VTIMEZONE
TZID:Europe/Paris
BEGIN:DAYLIGHT
TZOFFSETFROM:+0100
TZOFFSETTO:+0200
TZNAME:CEST
DTSTART:20190331T010000
END:DAYLIGHT
BEGIN:STANDARD
TZOFFSETFROM:+0200
TZOFFSETTO:+0100
TZNAME:CET
DTSTART:20191027T010000
END:STANDARD
END:VTIMEZONE
BEGIN:VEVENT
DTSTART;TZID=Europe/Paris:20190511T173000
DTEND;TZID=Europe/Paris:20190511T190000
DTSTAMP:20260423T041315
CREATED:20190415T155320Z
LAST-MODIFIED:20190415T155320Z
UID:357426-1557595800-1557601200@www.yvelines-infos.fr
SUMMARY:Spectacle Bien vu Miro !
DESCRIPTION:Dans le cadre des Journées du Handicap\, le Centre Communal d’Action Sociale des Essarts-le-Roi présente le spectacle Bien vu Miro ! \nDans son one-man dog show humoristique\, interactif\, instructif et pédagogique\, Norbert Rocher\, accompagné de son chien Leroy\, propose un spectacle de sensibilisation au handicap visuel. Une manière de découvrir la cécité d’un autre œil ! \nSalle polyvalente \n18 rue du 11 Novembre 1918 \nEntrée libre \nSpectacle tout public \nInformations : \nCCAS Les Essarts-le-Roi \nTel : 01 30 46 49 50 \nwww.essarts-le-roi.org
URL:https://www.yvelines-infos.fr/agenda/spectacle-bien-vu-miro/
LOCATION:Salle polyvalente\, Les Essarts-le-Roi\, 18 rue du 11 Novembre 1918\, Les Essarts-le-Roi\, 78690
ATTACH;FMTTYPE=image/jpeg:https://www.yvelines-infos.fr/content/uploads/2019/affiche-spectacle-bien-vu-miro.jpg
ORGANIZER;CN="CCAS%20Les%20Essarts-le-Roi":MAILTO:communication@essarts-le-roi.org
END:VEVENT
END:VCALENDAR