BEGIN:VCALENDAR
VERSION:2.0
PRODID:-//Yvelines Infos - ECPv6.0.2//NONSGML v1.0//EN
CALSCALE:GREGORIAN
METHOD:PUBLISH
X-WR-CALNAME:Yvelines Infos
X-ORIGINAL-URL:https://www.yvelines-infos.fr
X-WR-CALDESC:Évènements pour Yvelines Infos
REFRESH-INTERVAL;VALUE=DURATION:PT1H
X-Robots-Tag:noindex
X-PUBLISHED-TTL:PT1H
BEGIN:VTIMEZONE
TZID:Europe/Paris
BEGIN:DAYLIGHT
TZOFFSETFROM:+0100
TZOFFSETTO:+0200
TZNAME:CEST
DTSTART:20190331T010000
END:DAYLIGHT
BEGIN:STANDARD
TZOFFSETFROM:+0200
TZOFFSETTO:+0100
TZNAME:CET
DTSTART:20191027T010000
END:STANDARD
END:VTIMEZONE
BEGIN:VEVENT
DTSTART;VALUE=DATE:20190615
DTEND;VALUE=DATE:20190616
DTSTAMP:20260423T002139
CREATED:20190424T095735Z
LAST-MODIFIED:20190424T095735Z
UID:358026-1560556800-1560643199@www.yvelines-infos.fr
SUMMARY:6e triathlon national en duo
DESCRIPTION:L’association Valentin Haüy facilite l’accès des personnes déficientes visuelles à la pratique du sport grâce à ses comités répartis sur le territoire et à son service des sports situé au siège parisien. Le 15 juin prochain\, une cinquantaine de binômes s’élancera pour la sixième édition de son triathlon\, sous le parrainage de Brice Marmonnier. \nLancé en 2010 par l’association Valentin Haüy et son comité des Yvelines\, ce triathlon est devenu une compétition emblématique qui rassemble tous les deux ans des sportifs en provenance de la France entière. L’évènement crée une symbiose entre les participants déficients visuels et voyants\, tout en sensibilisant le public au handicap. \nDes places encore disponibles ! Pour les personnes désireuses de participer au 6e Triathlon national en duo\, l’inscription est ouverte jusqu’au 1er mai. L’inscription est ouverte à tout déficient visuel auquel un guide peut être proposé. \nRenseignements et inscriptions : www.avh.asso.fr  \nAssociation Valentin Haüy Comité des Yvelines \n6bis rue Edouard Lefebvre 78000 Versailles \nContact : Bénédicte Gacic Tél. 01 39 50 75 20 \nEmail : comite.yvelines@avh.asso.fr
URL:https://www.yvelines-infos.fr/agenda/6e-triathlon-national-en-duo/
LOCATION:Château de Versailles\, Place d'armes\, Versailles\, 78000\, France
ATTACH;FMTTYPE=image/png:https://www.yvelines-infos.fr/content/uploads/2019/capture-decran-2019-04-24-a-11-53-23.png
ORGANIZER;CN="Association%20Valentin%20Ha%C3%BCy":MAILTO:comite.yvelines@avh.asso.fr
END:VEVENT
END:VCALENDAR