BEGIN:VCALENDAR
VERSION:2.0
PRODID:-//Yvelines Infos - ECPv6.0.2//NONSGML v1.0//EN
CALSCALE:GREGORIAN
METHOD:PUBLISH
X-WR-CALNAME:Yvelines Infos
X-ORIGINAL-URL:https://www.yvelines-infos.fr
X-WR-CALDESC:Évènements pour Yvelines Infos
REFRESH-INTERVAL;VALUE=DURATION:PT1H
X-Robots-Tag:noindex
X-PUBLISHED-TTL:PT1H
BEGIN:VTIMEZONE
TZID:Europe/Paris
BEGIN:DAYLIGHT
TZOFFSETFROM:+0100
TZOFFSETTO:+0200
TZNAME:CEST
DTSTART:20170326T010000
END:DAYLIGHT
BEGIN:STANDARD
TZOFFSETFROM:+0200
TZOFFSETTO:+0100
TZNAME:CET
DTSTART:20171029T010000
END:STANDARD
END:VTIMEZONE
BEGIN:VEVENT
DTSTART;TZID=Europe/Paris:20170708T080000
DTEND;TZID=Europe/Paris:20170709T200000
DTSTAMP:20260423T013919
CREATED:20170704T140411Z
LAST-MODIFIED:20170704T140434Z
UID:340406-1499500800-1499630400@www.yvelines-infos.fr
SUMMARY:Concours Chruniographik
DESCRIPTION:Chruniographik est un concours de recherches chorégraphiques flash réunissant des danseurs et danseuses de tous les styles et de tous les âges. Des équipes de 5 membres sont constituées par tirage au sort. Une bande son de 4 minutes\, un planning de répétitions\, une contrainte\, et un coach sont attribués à chaque équipe qui dispose alors de 24h pour créer. A l’issue de la phase de création\, les équipes présentent leurs recherches sous forme d’un spectacle. \n\n Un jury composé de professionnels du spectacle désigne la meilleure création et attribue un prix pour récompenser le travail de l’équipe.\n\nVidéo de présentation\n\n\nPlaces limitées aux 50 premières inscriptions. \n 
URL:https://www.yvelines-infos.fr/agenda/concours-chruniographik/
LOCATION:Théâtre du vieux marché\, 8 Rue Louis Pasteur\, 78350 Jouy-en-Josas\, 8 rue Louis Pasteur\, Jouy-en-Josas\, 78350\, France
ORGANIZER;CN="Association%20Terre%20Happy":MAILTO:terre_happy@yahoo.com
GEO:48.7655186;2.1666488
X-APPLE-STRUCTURED-LOCATION;VALUE=URI;X-ADDRESS=Théâtre du vieux marché 8 Rue Louis Pasteur 78350 Jouy-en-Josas 8 rue Louis Pasteur Jouy-en-Josas 78350 France;X-APPLE-RADIUS=500;X-TITLE=8 rue Louis Pasteur:geo:2.1666488,48.7655186
END:VEVENT
END:VCALENDAR