BEGIN:VCALENDAR
VERSION:2.0
PRODID:-//Yvelines Infos - ECPv6.0.2//NONSGML v1.0//EN
CALSCALE:GREGORIAN
METHOD:PUBLISH
X-WR-CALNAME:Yvelines Infos
X-ORIGINAL-URL:https://www.yvelines-infos.fr
X-WR-CALDESC:Évènements pour Yvelines Infos
REFRESH-INTERVAL;VALUE=DURATION:PT1H
X-Robots-Tag:noindex
X-PUBLISHED-TTL:PT1H
BEGIN:VTIMEZONE
TZID:Europe/Paris
BEGIN:DAYLIGHT
TZOFFSETFROM:+0100
TZOFFSETTO:+0200
TZNAME:CEST
DTSTART:20190331T010000
END:DAYLIGHT
BEGIN:STANDARD
TZOFFSETFROM:+0200
TZOFFSETTO:+0100
TZNAME:CET
DTSTART:20191027T010000
END:STANDARD
END:VTIMEZONE
BEGIN:VEVENT
DTSTART;TZID=Europe/Paris:20190629T133000
DTEND;TZID=Europe/Paris:20190629T180000
DTSTAMP:20260423T020559
CREATED:20190515T081443Z
LAST-MODIFIED:20190515T081443Z
UID:358597-1561815000-1561831200@www.yvelines-infos.fr
SUMMARY:Le Monde de demain\, quelle place pour les bergers touaregs du Sahel ?
DESCRIPTION:L’association Tawaangal est membre de l’YCID\, elle a pour objet de défendre les cultures d’éleveurs nomades du Sahel et du Sahara\, elle s’investit par ailleurs dans la transition écologique des zones pastorales. \nC’est une rencontre inédite avec les hommes voilés du désert\, inédite parce qu’authentique\, cette manifestation est faite pour séduire. \nLa rencontre permet de déconstruire les préjugés sur des hommes aux coutumes simples d’une profonde sobriété. \nA travers une exposition\, des conférences débats et une projection de film\, les participants  apprendront à mieux connaitre et mieux comprendre les cultures touarègues.
URL:https://www.yvelines-infos.fr/agenda/le-monde-de-demain-quelle-place-pour-les-bergers-touaregs-du-sahel/
LOCATION:Maison Ouverte\, 17 Rue Hoche\, Montreuil\, 93100\, France
ATTACH;FMTTYPE=image/png:https://www.yvelines-infos.fr/content/uploads/2019/rencontre-du-29-juin-2019.png
ORGANIZER;CN="Association%20Tawaangal":MAILTO:presidente@associationtawaangal.org
END:VEVENT
END:VCALENDAR