BEGIN:VCALENDAR
VERSION:2.0
PRODID:-//Yvelines Infos - ECPv6.0.2//NONSGML v1.0//EN
CALSCALE:GREGORIAN
METHOD:PUBLISH
X-ORIGINAL-URL:https://www.yvelines-infos.fr
X-WR-CALDESC:Évènements pour Yvelines Infos
REFRESH-INTERVAL;VALUE=DURATION:PT1H
X-Robots-Tag:noindex
X-PUBLISHED-TTL:PT1H
BEGIN:VTIMEZONE
TZID:Europe/Paris
BEGIN:DAYLIGHT
TZOFFSETFROM:+0100
TZOFFSETTO:+0200
TZNAME:CEST
DTSTART:20210328T010000
END:DAYLIGHT
BEGIN:STANDARD
TZOFFSETFROM:+0200
TZOFFSETTO:+0100
TZNAME:CET
DTSTART:20211031T010000
END:STANDARD
END:VTIMEZONE
BEGIN:VEVENT
DTSTART;TZID=Europe/Paris:20211201T093000
DTEND;TZID=Europe/Paris:20211201T163000
DTSTAMP:20260423T081632
CREATED:20211125T160110Z
LAST-MODIFIED:20211125T160110Z
UID:381682-1638351000-1638376200@www.yvelines-infos.fr
SUMMARY:Journée mondiale de lutte contre le Sida
DESCRIPTION:À quand remonte votre dernier dépistage contre le Sida ?  \nRendez-vous le 1 er Décembre 2021 de 9h30 à 16h30 sur le terre-plein de l’Avenue de Paris (devant le monument aux morts) de la Mairie de Versailles pour obtenir des informations autour de ce virus. \n– Sensibilisations au dépistage \n– Jeux/Questionnaires autour du VIH/SIDA \n– Transmissions d’informations sur le sujet du VIH/SIDA – \nDistribution de préservatifs (masculins et féminins) et de goodies (stylos\, pin’s…)
URL:https://www.yvelines-infos.fr/agenda/journee-mondiale-de-lutte-contre-le-sida/
LOCATION:Versailles
ATTACH;FMTTYPE=image/png:https://www.yvelines-infos.fr/content/uploads/2021/journee-contre-le-sida-e1669842290609.png
END:VEVENT
END:VCALENDAR