BEGIN:VCALENDAR
VERSION:2.0
PRODID:-//Yvelines Infos - ECPv6.0.2//NONSGML v1.0//EN
CALSCALE:GREGORIAN
METHOD:PUBLISH
X-ORIGINAL-URL:https://www.yvelines-infos.fr
X-WR-CALDESC:Évènements pour Yvelines Infos
REFRESH-INTERVAL;VALUE=DURATION:PT1H
X-Robots-Tag:noindex
X-PUBLISHED-TTL:PT1H
BEGIN:VTIMEZONE
TZID:Europe/Paris
BEGIN:DAYLIGHT
TZOFFSETFROM:+0100
TZOFFSETTO:+0200
TZNAME:CEST
DTSTART:20170326T010000
END:DAYLIGHT
BEGIN:STANDARD
TZOFFSETFROM:+0200
TZOFFSETTO:+0100
TZNAME:CET
DTSTART:20171029T010000
END:STANDARD
BEGIN:DAYLIGHT
TZOFFSETFROM:+0100
TZOFFSETTO:+0200
TZNAME:CEST
DTSTART:20180325T010000
END:DAYLIGHT
BEGIN:STANDARD
TZOFFSETFROM:+0200
TZOFFSETTO:+0100
TZNAME:CET
DTSTART:20181028T010000
END:STANDARD
BEGIN:DAYLIGHT
TZOFFSETFROM:+0100
TZOFFSETTO:+0200
TZNAME:CEST
DTSTART:20190331T010000
END:DAYLIGHT
BEGIN:STANDARD
TZOFFSETFROM:+0200
TZOFFSETTO:+0100
TZNAME:CET
DTSTART:20191027T010000
END:STANDARD
BEGIN:DAYLIGHT
TZOFFSETFROM:+0100
TZOFFSETTO:+0200
TZNAME:CEST
DTSTART:20200329T010000
END:DAYLIGHT
BEGIN:STANDARD
TZOFFSETFROM:+0200
TZOFFSETTO:+0100
TZNAME:CET
DTSTART:20201025T010000
END:STANDARD
END:VTIMEZONE
BEGIN:VEVENT
DTSTART;TZID=Europe/Paris:20200402T203000
DTEND;TZID=Europe/Paris:20200402T220000
DTSTAMP:20260423T003602
CREATED:20200303T142630Z
LAST-MODIFIED:20200303T142630Z
UID:365702-1585859400-1585864800@www.yvelines-infos.fr
SUMMARY:Tedi PAPAVRAMI\, violon
DESCRIPTION:Tedi PAPAVRAMI\, violon – à Montfort-L’Amaury le 2 avril à 20h30\, salle de spectacle du CML – 3\, place de Nickenich \nRITMY\, avec le soutien de la ville de Montfort-L’Amaury\, vous propose une soirée vraiment unique avec le violoniste virtuose Tedi PAPAVRAMI. \nNé en Albanie\, violoniste prodige\, il commence le violon à l’âge de 4 ans grâce à son père. Il devient l’élève de Pierre Amoyal au Conservatoire de Paris\, puis avec ses parents il fuit le régime communiste en vigueur en Albanie pour s’installer définitivement avec eux en France. A la faveur de plusieurs prix\, il entame à partir des années 1990 une carrière internationale de soliste avec des grands chefs\, et de musicien de chambre. \nIl nous interprètera des sonates et partitas pour violon seul de J.S. BACH. \nMais avant la partie concert\, nous pourrons voir le film ‘OSTINATO’ réalisé en 2018 par Raphaëlle Régnier\, un magnifique portait du musicien qui retrace son histoire\, émouvante\, et montre les différentes facettes de sa vie actuelle de musicien virtuose. \nNe manquez surtout pas cette soirée exceptionnelle avec l’un des plus grands violonistes actuels\, dont nous découvrirons aussi la vie particulièrement riche. \nConcert organisé par RITMY avec le soutien exceptionnel de la ville de Montfort-L’Amaury\, dans le cadre des 30° Saisons Musicales RITMY. \nTarifs : Normal : 20€ – Réduit (jeune de 12 à 25 ans\, famille nombreuse\, demandeur d’emploi) : 13€ – Groupe (minimum de 10 personnes) : 15€ – Gratuit pour les enfants de moins de 12 ans accompagnés. \nInformations et réservations : www.ritmy.fr  /  contact.ritmy@gmail.com  / 06-08-24-96-61 \nVidéo : https://www.youtube.com/watch?v=T-myos9qjLc
URL:https://www.yvelines-infos.fr/agenda/tedi-papavrami-violon/
LOCATION:Centre Municipal des Loisirs\, Montfort-L’Amaury\, 3 Place de Nickenich\, Montfort-l'Amaury\, 78490
ATTACH;FMTTYPE=image/jpeg:https://www.yvelines-infos.fr/content/uploads/2020/tedi-kapo-entretien-copie-3.jpeg
ORGANIZER;CN="Association%20RITMY":MAILTO:contact.ritmy@gmail.com
GEO:48.7743649;1.8159354
X-APPLE-STRUCTURED-LOCATION;VALUE=URI;X-ADDRESS=Centre Municipal des Loisirs Montfort-L’Amaury 3 Place de Nickenich Montfort-l'Amaury 78490;X-APPLE-RADIUS=500;X-TITLE=3 Place de Nickenich:geo:1.8159354,48.7743649
END:VEVENT
BEGIN:VEVENT
DTSTART;TZID=Europe/Paris:20200315T170000
DTEND;TZID=Europe/Paris:20200315T190000
DTSTAMP:20260423T003602
CREATED:20200226T151208Z
LAST-MODIFIED:20200226T151208Z
UID:365490-1584291600-1584298800@www.yvelines-infos.fr
SUMMARY:Piano à 4 mains\, autour de la danse
DESCRIPTION:Piano à 4 mains\, autour de la danse – à Aubergenville le Dimanche 15 mars 2020 à 17h00\, église Saint-Ouen \nDeux jeunes et talentueux pianistes\, Audrey LONCA-ALBERTO et Paolo RIGUTTO\, qui baignent depuis leur plus jeune âge dans un univers artistique et sont habitués à jouer ensemble\, nous interprèteront à 4 mains ou en solo un très beau programme sur le thème de la DANSE\, avec des compositions de Chopin\, Ravel\, Debussy\, Dvorak\, Grieg… \nFormés à Paris\, à l’Ecole Normale de Musique et au Conservatoire National Supérieur\, ils se produisent comme solistes et en musique de chambre\, en France et à l’étranger\, invités par de nombreux festivals. \nUne grande complicité musicale pour ces deux jeunes pianistes à découvrir\, qui nous entraîneront dans les rythmes joyeux de la danse… valse\, mazurka\, menuet\, polonaise… \nConcert organisé par RITMY et l’Association Nausicaà d’Aubergenville\, dans le cadre des 30° Saisons Musicales RITMY. \nVidéo :  https://www.youtube.com/watch?v=It9AKuzxyeM&feature=emb_logo \nTarifs : Normal : 20€ – Réduit (jeune de 12 à 25 ans\, famille nombreuse\, demandeur d’emploi) : 13€ – Groupe (minimum de 10 personnes) : 15€ – Gratuit pour les enfants de moins de 12 ans accompagnés. \nPage billetterie : http://ritmy.fr/essais/reserver/vos-billets/
URL:https://www.yvelines-infos.fr/agenda/piano-a-4-mains-autour-de-la-danse/
LOCATION:Eglise Saint-Ouen / Aubergenville\, Place de l'église\, Aubergenville\, 78410
ATTACH;FMTTYPE=image/png:https://www.yvelines-infos.fr/content/uploads/2020/audrey-paolo.png
ORGANIZER;CN="Association%20RITMY":MAILTO:contact.ritmy@gmail.com
END:VEVENT
BEGIN:VEVENT
DTSTART;TZID=Europe/Paris:20191117T170000
DTEND;TZID=Europe/Paris:20191117T183000
DTSTAMP:20260423T003602
CREATED:20191017T121940Z
LAST-MODIFIED:20191017T121940Z
UID:362654-1574010000-1574015400@www.yvelines-infos.fr
SUMMARY:‘Carte blanche’ à A. Soumm\, V. Serafimova et T. Enhco
DESCRIPTION:‘Carte blanche’ à A. Soumm\, V. Serafimova et T. Enhco\,  à Orgerus le Dimanche 17 novembre 2019 à 17h00\, salle du Pré Romain \nPour ses 30ièmes Saisons Musicales\, RITMY a donné ‘carte blanche’ à trois trentenaires\, virtuoses de leur instrument : Alexandra SOUMM au violon\, Vassilena SERAFIMOVA au marimba\, et Thomas ENHCO au piano. \nDes interprètes qui se sont déjà produits pour RITMY et que nous avons adorés\, mais réunis en trio pour la première fois. \nAlexandra SOUMM\, née à Moscou et formée à Vienne\, étoile montante du violon\, se produit aux 4 coins du monde; Vassilena SERAFIMOVA percussionniste bulgare\, multi-récompensée\, joue comme soliste et en musique de chambre dans les plus grandes salles. \nEt Thomas ENHCO\, surdoué du piano\, aussi à l’aise en classique qu’en jazz\, il compose dans les deux registres et aime improviser. \nAvec un programme prévu autour de Brahms\, Mozart\, Fauré\, Bartok… et Thomas Enhco\, une rencontre unique qui s’annonce éblouissante ! \nConcert organisé par RITMY et l’Association Bisconcella d’Orgerus\, dans le cadre des 30° Saisons Musicales RITMY. \nTarifs : Normal : 20€ – Réduit (jeune de 12 à 25 ans\, famille nombreuse\, demandeur d’emploi) : 13€ – Groupe (minimum de 10 personnes) : 15€ – Gratuit pour les enfants de moins de 12 ans accompagnés. \nInformations et réservations : www.ritmy.fr  /  contact.ritmy@gmail.com  / 06-81-98-28-62
URL:https://www.yvelines-infos.fr/agenda/carte-blanche-a-a-soumm-v-serafimova-et-t-enhco/
LOCATION:Salle du Pré Romain // Orgerus\, Route de Flexanville\, Orgerus\, 78910
ATTACH;FMTTYPE=image/png:https://www.yvelines-infos.fr/content/uploads/2019/trio-avt.png
ORGANIZER;CN="Association%20RITMY":MAILTO:contact.ritmy@gmail.com
GEO:48.8413769;1.7073156
X-APPLE-STRUCTURED-LOCATION;VALUE=URI;X-ADDRESS=Salle du Pré Romain // Orgerus Route de Flexanville Orgerus 78910;X-APPLE-RADIUS=500;X-TITLE=Route de Flexanville:geo:1.7073156,48.8413769
END:VEVENT
BEGIN:VEVENT
DTSTART;TZID=Europe/Paris:20190922T170000
DTEND;TZID=Europe/Paris:20190922T190000
DTSTAMP:20260423T003602
CREATED:20190809T090912Z
LAST-MODIFIED:20190809T090912Z
UID:360816-1569171600-1569178800@www.yvelines-infos.fr
SUMMARY:Thierry ESCAICH - Orgue
DESCRIPTION:Thierry ESCAICH – Orgue\, à Neauphle-le-Château le Dimanche 22 septembre 2019 à 17h00\, église Saint-Nicolas \nOrganiste\, mais aussi compositeur et improvisateur\, Thierry ESCAICH est une figure unique du monde musical actuel. \nIl se produit en récital dans le monde entier\, mêlant les œuvres du répertoire à ses propres compositions et improvisations.\nIl a composé une centaine d’œuvres\, en particulier pour l’orgue\, qui lui ont valu de nombreux prix dont quatre ‘Victoires de la Musique’.\nIl a succédé à Maurice Duruflé comme organiste titulaire de Saint-Étienne-du-Mont à Paris. \nCe concert sera aussi un HOMMAGE rendu à 3 grands organistes qui ont marqué l’histoire de Ritmy : André ISOIR\, Marie-Claire ALAIN et Pierre PINCEMAILLE. \nDe plus\, nous bénéficierons d’une présentation du concert par le brillant musicologue\, écrivain et conférencier Gilles CANTAGREL. \nThierry ESCAICH interprètera un programme original qui évoquera les 3 organistes auxquels nous rendrons hommage : J.S Bach\, F. Mendelssohn\, J. Alain\, T. Escaich\, et des improvisations. \nSi vous aimez l’orgue\, vous aurez le meilleur de cet instrument\, si vous ne le connaissez pas\, c’est une occasion magnifique d’en découvrir la richesse et la subtilité.\nCe concert d’ouverture de la 30° Saison Musicale Ritmy et d’hommage à trois grands interprètes s’annonce exceptionnel ! \nConcert organisé par RITMY et le Syndicat d’Initiative de Neauphle-le-Château\, dans le cadre des 30° Saisons Musicales RITMY. \nTarifs : Normal : 20€ – Réduit (jeune de 12 à 25 ans\, famille nombreuse\, demandeur d’emploi) : 13€ – Groupe (minimum de 10 personnes) : 15€ – Gratuit pour les enfants de moins de 12 ans accompagnés. Abonnements possibles à partir de 3 concerts. \nInformations et réservations : www.ritmy.fr / contact.ritmy@gmail.com / 06-80-31-06-12
URL:https://www.yvelines-infos.fr/agenda/thierry-escaich-orgue/
LOCATION:Eglise Saint Nicolas // Neauphle-le-Château\, Neauphle-le-Château\, 78640\, France
ATTACH;FMTTYPE=image/jpeg:https://www.yvelines-infos.fr/content/uploads/2019/escaich-6736-c-guy-vivien.jpg
ORGANIZER;CN="Association%20RITMY":MAILTO:contact.ritmy@gmail.com
GEO:48.813651;1.898749
END:VEVENT
BEGIN:VEVENT
DTSTART;TZID=Europe/Paris:20190331T170000
DTEND;TZID=Europe/Paris:20190331T183000
DTSTAMP:20260423T003602
CREATED:20190304T090134Z
LAST-MODIFIED:20190304T090134Z
UID:355950-1554051600-1554057000@www.yvelines-infos.fr
SUMMARY:‘La Petite Symphonie’ - les Quatuors de Mozart
DESCRIPTION:‘La PETITE SYMPHONIE’ – les Quatuors de Mozart \nMéré le Dimanche 31 mars 2019\, à 17h00\, Eglise Saint-Denis \n‘La Petite Symphonie’ est une formation à géométrie variable dirigée par Daniel Isoir au pianoforte\, qui pour notre concert est composée d’un pianoforte\, violon\, alto et violoncelle. \nŒuvres rarement interprétées\, et encore moins sur instruments d’époque\, les deux Quatuors pour pianoforte de Mozart (K478 et K493) sont une fusion parfaite entre le concerto et le quatuor\, un modèle d’équilibre entre le piano et les cordes\, qui se mêlent et alternent tout au long de la partition. \nHabités par la même passion du répertoire classique et du jeu sur instruments d’époque\, Daniel Isoir au pianoforte\, Marieke Bouche au violon\, Diane Chmela à l’alto et Mathurin Matharel au violoncelle renforcent ce dialogue grâce à leur grande complicité. \nIls nous feront vivre sur instruments anciens les deux seuls Quatuors pour pianoforte de Mozart\, qu’ils ont enregistré en 2016\, avec beaucoup de grâce et un séduisant mélange de fougue et de délicatesse ! \nConcert organisé par RITMY et l’ASCL de Méré\, dans le cadre des 29° Saisons Musicales RITMY. \nInformations et réservations : www.ritmy.fr  /  contact.ritmy@gmail.com  / 06-07-29-91-97  et 06-60-42-19-43 \nTarifs : Normal : 20€ – Réduit (jeune de 12 à 25 ans\, famille nombreuse\, demandeur d’emploi) : 13€ – Groupe (minimum de 10 personnes) : 15€ – Gratuit pour les enfants de moins de 12 ans accompagnés. \nVidéo :  https://www.youtube.com/watch?v=jU4y4tZKpwc
URL:https://www.yvelines-infos.fr/agenda/la-petite-symphonie-les-quatuors-de-mozart/
LOCATION:Eglise Saint-Denis // Méré\, Place François Quesnay\, Méré\, 78490\, France
ATTACH;FMTTYPE=image/jpeg:https://www.yvelines-infos.fr/content/uploads/2019/petite-symphonie-9-copie.jpg
ORGANIZER;CN="Association%20RITMY":MAILTO:contact.ritmy@gmail.com
GEO:48.788375;1.819781
X-APPLE-STRUCTURED-LOCATION;VALUE=URI;X-ADDRESS=Eglise Saint-Denis // Méré Place François Quesnay Méré 78490 France;X-APPLE-RADIUS=500;X-TITLE=Place François Quesnay:geo:1.819781,48.788375
END:VEVENT
BEGIN:VEVENT
DTSTART;TZID=Europe/Paris:20190210T170000
DTEND;TZID=Europe/Paris:20190210T183000
DTSTAMP:20260423T003602
CREATED:20190123T103739Z
LAST-MODIFIED:20190123T103739Z
UID:355034-1549818000-1549823400@www.yvelines-infos.fr
SUMMARY:Le TRIO BOHÈME - Les Saisons\, de Tchaïkovki à Piazzolla
DESCRIPTION:Trois musiciens talentueux et complices pour une évasion musicale au fil des saisons et de leurs métamorphoses : Jasmina Kulaglich (piano)\, Lev Maslovsky (violon) et Igor Kiritchenko (violoncelle). \nLe ‘Trio Bohème’nous interprètera un programme de transcriptions pour piano\, violon et violoncelle : ‘Les Saisons’ de Tchaïkovski\, et ‘Les Quatre Saisons à Buenos Aires’ d’Astor Piazzolla. \nLa première escale\, teintée de sensibilité et de nostalgie slave\, nous conduira de la douceur au coin du feu de l’hiver aux folles moissons de l’été. La seconde\, nous transportera dans la fougueuse Argentine de Piazzolla. \nAvec le ‘Trio Bohème’ la musique est un éternel voyage… que nous partagerons avec beaucoup de bonheur ! \nConcert organisé par RITMY et l’association GRAL de Richebourg\, dans le cadre des 29° Saisons Musicales RITMY. \nVidéo :  https://www.youtube.com/watch?time_continue=3&v=PjA9xg8wrTM \nTarifs : Normal : 20€ – Réduit (jeune de 12 à 25 ans\, famille nombreuse\, demandeur d’emploi) : 13€ – Groupe (minimum de 10 personnes) : 15€ – Gratuit pour les enfants de moins de 12 ans accompagnés. \nInformations et réservations : www.ritmy.fr  /  contact.ritmy@gmail.com  / 06-48-69-21-89
URL:https://www.yvelines-infos.fr/agenda/le-trio-boheme-les-saisons-de-tchaikovki-a-piazzolla/
LOCATION:Eglise Saint-Georges // Richebourg\, Rue Saint Georges\, Richebourg\, 78550
ATTACH;FMTTYPE=image/jpeg:https://www.yvelines-infos.fr/content/uploads/2019/trio-boheme-trio-4-copie.jpg
ORGANIZER;CN="Association%20RITMY":MAILTO:contact.ritmy@gmail.com
END:VEVENT
BEGIN:VEVENT
DTSTART;TZID=Europe/Paris:20190113T170000
DTEND;TZID=Europe/Paris:20190113T183000
DTSTAMP:20260423T003602
CREATED:20181217T134619Z
LAST-MODIFIED:20181217T134619Z
UID:354444-1547398800-1547404200@www.yvelines-infos.fr
SUMMARY:Romain LELEU et l’Ensemble ‘Convergences’
DESCRIPTION:Le trompettiste Romain LELEU\, ‘Victoire de la Musique’ en 2009\, est considéré\, grâce à son jeu alliant virtuosité et élégance\, comme l’un des meilleurs interprètes de sa génération. Il est invité par de prestigieux festivals internationaux et sur les plus grandes scènes. \nEn 2010\, il crée l’Ensemble ‘Convergences’\, un quintette à cordes composé de musiciens curieux et audacieux\, chambristes et issus des grands orchestres français\, avec lequel il se produit régulièrement en France et à l’étranger. \nLeur répertoire\, composé essentiellement de transcriptions\, donne un nouveau souffle à la trompette et ses déclinaisons\, mettant en valeur les différentes possibilités de l’instrument : rondeur\, souplesse ou éclat du timbre. \nIls nous offriront un programme issu de leur dernier album « Inspirations » : des transcriptions d’œuvres de Bizet\, Britten\, Kosma\, Bernstein\, ou Piazzolla… \nVous serez emporté par les sonorités tantôt éclatantes\, lyriques ou sensuelles de la trompette\, magnifiquement accompagnée par les cordes !\nConcert organisé par RITMY et l’Association Bisconcella d’Orgerus\, dans le cadre des 29° Saisons Musicales RITMY. \nTarifs : Normal : 20€ – Réduit (jeune de 12 à 25 ans\, famille nombreuse\, demandeur d’emploi) : 13€ – Groupe (minimum de 10 personnes) : 15€ – Gratuit pour les enfants de moins de 12 ans accompagnés. Abonnements possibles à partir de 3 concerts. \nInformations et réservations : www.ritmy.fr / contact.ritmy@gmail.com / 06-81-98-28-62 \n 
URL:https://www.yvelines-infos.fr/agenda/romain-leleu-et-lensemble-convergences/
LOCATION:Salle du Pré Romain // Orgerus\, Route de Flexanville\, Orgerus\, 78910
ATTACH;FMTTYPE=image/jpeg:https://www.yvelines-infos.fr/content/uploads/2018/romain-leleu-copie.jpg
ORGANIZER;CN="Association%20RITMY":MAILTO:contact.ritmy@gmail.com
GEO:48.8413769;1.7073156
X-APPLE-STRUCTURED-LOCATION;VALUE=URI;X-ADDRESS=Salle du Pré Romain // Orgerus Route de Flexanville Orgerus 78910;X-APPLE-RADIUS=500;X-TITLE=Route de Flexanville:geo:1.7073156,48.8413769
END:VEVENT
BEGIN:VEVENT
DTSTART;TZID=Europe/Paris:20180325T170000
DTEND;TZID=Europe/Paris:20180325T183000
DTSTAMP:20260423T003602
CREATED:20180213T165355Z
LAST-MODIFIED:20180223T134954Z
UID:347593-1521997200-1522002600@www.yvelines-infos.fr
SUMMARY:Ensemble IL FESTINO - L'Europe galante au XVII° siècle
DESCRIPTION:L’Ensemble IL FESTINO\, à Houdan le Dimanche 25 mars 2018 à 17h00\, Eglise Saint-Jacques \nL’Ensemble baroque ‘Il Festino’ nous fera revivre tout le raffinement musical de l’Europe galante du XVII° siècle. \nDirigé par le luthiste Manuel de Grange\, ‘Il Festino’ est fidèle à l’esthétique et aux règles déclamatoires du XVII° siècle\, pour le chant et le récit\, mais aussi pour la musique instrumentale jouée sur instruments d’époque. \nDans un esprit presque théâtral\, une soprano et un ténor se promènent et dialoguent en quatre langues dans l’Europe galante du XVII° siècle. Des musiciens les accompagnent (viole de gambe\, luth\, théorbe\, harpe) et renforcent par leur jeu ce que le chant évoque : amour\, joie\, désillusion… \nIls interprèteront ainsi des chansons écrites par les plus grands musiciens de leur temps : Cavalli\, Monteverdi\, Boesset\, Moulinié\, Purcell.. \nDepuis sa création en 2009\, ‘Il Festino’ se produit sur des scènes nationales de renom et dans d’importants festivals en France et à l’étranger. \nNe manquez pas l’occasion de vous plonger dans cette atmosphère raffinée de chansons\, arias\, canciones et songs ! \nConcert organisé par RITMY et l’Ecole de Musique de Houdan dans le cadre des 28° Saisons Musicales RITMY. \nTarifs : Normal : 20€ – Réduit (jeune de 12 à 25 ans\, famille nombreuse\, demandeur d’emploi) : 13€ – Groupe (minimum de 10 personnes) : 15€ – Gratuit pour les enfants de moins de 12 ans accompagnés. \nInformations et réservations : www.ritmy.fr  /  contact.ritmy@gmail.com  / 06-08-02-22-22
URL:https://www.yvelines-infos.fr/agenda/ensemble-festino-leurope-galante-xvii-siecle/
LOCATION:Eglise Saint Jacques // Houdan\, Grande rue\, Houdan\, 78550
ATTACH;FMTTYPE=image/jpeg:https://www.yvelines-infos.fr/content/uploads/2018/il-festino-retenue-prog-copie.jpg
ORGANIZER;CN="Association%20RITMY":MAILTO:contact.ritmy@gmail.com
GEO:48.7904148;1.6013481
X-APPLE-STRUCTURED-LOCATION;VALUE=URI;X-ADDRESS=Eglise Saint Jacques // Houdan Grande rue Houdan 78550;X-APPLE-RADIUS=500;X-TITLE=Grande rue:geo:1.6013481,48.7904148
END:VEVENT
BEGIN:VEVENT
DTSTART;TZID=Europe/Paris:20180311T170000
DTEND;TZID=Europe/Paris:20180311T190000
DTSTAMP:20260423T003602
CREATED:20180127T180210Z
LAST-MODIFIED:20180223T135905Z
UID:347091-1520787600-1520794800@www.yvelines-infos.fr
SUMMARY:Le Quatuor de percussions 'BEAT'
DESCRIPTION:Le Quatuor BEAT\, avec son concert-spectacle ‘Kromoritmos’\, follement énergique\, savant et drôle\, vous fera découvrir la magie des percussions sous un angle nouveau… \nCe sont quatre artistes\, diplômés du Conservatoire de Paris et titulaires percussionnistes dans de grands orchestres français\, qui zigzaguent avec malice entre le marimba\, le vibraphone et la batterie\, pour une échappée en couleurs (Kromo) et en rythmes (Ritmos) dans le vaste monde des percussions. \nLe Quatuor BEAT est le seul ensemble de percussions à avoir obtenu des prix internationaux de concours de musique de chambre ouverts à toutes formations\, avec leurs arrangements inédits. \nVous serez émerveillés par ce ‘concert-spectacle’ où Bernstein\, Piazzolla\, Paganini\, Galliano… vous surprendront. \nLa percussion comme vous ne l’avez jamais vue ! \nConcert organisé par RITMY et l’association GRAL de Richebourg dans le cadre des 28° Saisons Musicales RITMY. \nTarifs : Normal : 20€ – Réduit (jeune de 12 à 25 ans\, famille nombreuse\, demandeur d’emploi) : 13€ – Groupe (minimum de 10 personnes) : 15€ – Gratuit pour les enfants de moins de 12 ans accompagnés. \nInformations et réservations : www.ritmy.fr  /  contact.ritmy@gmail.com  / 06-48-69-21-89
URL:https://www.yvelines-infos.fr/agenda/quatuor-de-percussions-beat-2/
LOCATION:Salle Edith Piaf // Richebourg\, Route de Bazainville\, Richebourg\, 78550
ATTACH;FMTTYPE=image/jpeg:https://www.yvelines-infos.fr/content/uploads/2018/quatuor-beat-8-revu-2.jpg
ORGANIZER;CN="Association%20RITMY":MAILTO:contact.ritmy@gmail.com
GEO:48.8150972;1.6421834
X-APPLE-STRUCTURED-LOCATION;VALUE=URI;X-ADDRESS=Salle Edith Piaf // Richebourg Route de Bazainville Richebourg 78550;X-APPLE-RADIUS=500;X-TITLE=Route de Bazainville:geo:1.6421834,48.8150972
END:VEVENT
BEGIN:VEVENT
DTSTART;TZID=Europe/Paris:20180311T170000
DTEND;TZID=Europe/Paris:20180311T183000
DTSTAMP:20260423T003602
CREATED:20180221T174101Z
LAST-MODIFIED:20180223T134909Z
UID:347836-1520787600-1520793000@www.yvelines-infos.fr
SUMMARY:Quatuor de percussions BEAT
DESCRIPTION:Le Quatuor BEAT\, avec son concert ‘Kromoritmos’\, follement énergique\, savant et drôle\, vous fera découvrir la magie des percussions sous un angle nouveau… \nCe sont quatre artistes\, diplômés du Conservatoire de Paris et titulaires percussionnistes dans de grands orchestres français\, qui zigzaguent avec malice entre le marimba\, le vibraphone et la batterie\, pour une échappée en rythmes dans le vaste monde des percussions. \nLe Quatuor BEAT est le seul ensemble de percussions à avoir obtenu des prix internationaux de concours de musique de chambre ouverts à toutes formations\, avec leurs arrangements inédits. \nVous serez émerveillés par ce concert où Bernstein\, Piazzolla\, Paganini\, Galliano… vous surprendront. \nLa percussion comme vous ne l’avez jamais vue ! \nConcert organisé par RITMY et l’association GRAL de Richebourg dans le cadre des 28° Saisons Musicales RITMY. \nTarifs : Normal : 20€ – Réduit (jeune de 12 à 25 ans\, famille nombreuse\, demandeur d’emploi) : 13€ – Groupe (minimum de 10 personnes) : 15€ – Gratuit pour les enfants de moins de 12 ans accompagnés. \nInformations et réservations : www.ritmy.fr  /  contact.ritmy@gmail.com  / 06-48-69-21-89
URL:https://www.yvelines-infos.fr/agenda/quatuor-de-percussions-beat/
LOCATION:Salle Edith Piaf // Richebourg\, 3\, Route de Bazainville\, Richebourg\, 78550
ATTACH;FMTTYPE=image/jpeg:https://www.yvelines-infos.fr/content/uploads/2018/quatuor-beat-8-revu-2-1.jpg
ORGANIZER;CN="Association%20RITMY":MAILTO:contact.ritmy@gmail.com
GEO:48.8207745;1.6370658
X-APPLE-STRUCTURED-LOCATION;VALUE=URI;X-ADDRESS=Salle Edith Piaf // Richebourg 3 Route de Bazainville Richebourg 78550;X-APPLE-RADIUS=500;X-TITLE=3\, Route de Bazainville:geo:1.6370658,48.8207745
END:VEVENT
BEGIN:VEVENT
DTSTART;TZID=Europe/Paris:20171015T170000
DTEND;TZID=Europe/Paris:20171015T183000
DTSTAMP:20260423T003602
CREATED:20170911T142221Z
LAST-MODIFIED:20170911T142221Z
UID:343289-1508086800-1508092200@www.yvelines-infos.fr
SUMMARY:Concert : Le Quatuor ELYSÉE - "Sérénade russe"
DESCRIPTION:En concert d’ouverture de la nouvelle Saison Musicale RITMY 2017-2018\, nous accueillons le magnifique Quatuor à cordes ‘ELYSÉE’. \nL’ensemble a été fondé par d’anciens membres de deux quatuors ayant chacun remporté le Grand Prix au Concours International d’Evian : les Quatuors Anton et Ysaye. Quatre musiciens merveilleusement complices\, qui représentent à la fois l’école française et la prestigieuse école russe. Deux écoles qui s’enrichissent mutuellement en apportant de nouvelles dimensions dans l’interprétation ainsi qu’une puissance d’expression d’une grande originalité. \nLe Quatuor ‘ELYSÉE’ se produit dans de nombreux pays\, en Europe ainsi qu’au Japon\, Chine\, Canada… En France\, il est invité par d’importants festivals comme celui de l’Orangerie de Sceaux ou du Périgord Noir. \nAvec un programme ‘Sérénade russe’\, composé d’œuvres de compositeurs russes des 19° et 20° siècles (Tchaïkovski\, Rachmaninov\, Borodine\, Glazounov…)\, ce superbe Quatuor nous transportera\, avec sensibilité et passion\, en plein romantisme slave ! \nConcert organisé par RITMY et l’Ecole de Musique de Mareil-sur-Mauldre dans le cadre des 28° Saisons Musicales Ritmy. \n 
URL:https://www.yvelines-infos.fr/agenda/concert-quatuor-elysee-serenade-russe/
LOCATION:Eglise Saint-Martin\, Mareil-sur-Mauldre\, 78124\, France
ATTACH;FMTTYPE=image/jpeg:https://www.yvelines-infos.fr/content/uploads/2017/quatuor-elysee-1-copie.jpg
ORGANIZER;CN="Association%20RITMY":MAILTO:contact.ritmy@gmail.com
GEO:48.8801481;1.859606
END:VEVENT
END:VCALENDAR