BEGIN:VCALENDAR
VERSION:2.0
PRODID:-//Yvelines Infos - ECPv6.0.2//NONSGML v1.0//EN
CALSCALE:GREGORIAN
METHOD:PUBLISH
X-ORIGINAL-URL:https://www.yvelines-infos.fr
X-WR-CALDESC:Évènements pour Yvelines Infos
REFRESH-INTERVAL;VALUE=DURATION:PT1H
X-Robots-Tag:noindex
X-PUBLISHED-TTL:PT1H
BEGIN:VTIMEZONE
TZID:Europe/Paris
BEGIN:DAYLIGHT
TZOFFSETFROM:+0100
TZOFFSETTO:+0200
TZNAME:CEST
DTSTART:20180325T010000
END:DAYLIGHT
BEGIN:STANDARD
TZOFFSETFROM:+0200
TZOFFSETTO:+0100
TZNAME:CET
DTSTART:20181028T010000
END:STANDARD
END:VTIMEZONE
BEGIN:VEVENT
DTSTART;TZID=Europe/Paris:20180303T103000
DTEND;TZID=Europe/Paris:20180303T183000
DTSTAMP:20260423T093950
CREATED:20180208T145229Z
LAST-MODIFIED:20180307T161448Z
UID:347531-1520073000-1520101800@www.yvelines-infos.fr
SUMMARY:Trophées de robotique / Rencontre Ile-de-France
DESCRIPTION:L’association Planète Sciences Ile-de-France convie petits et grands à une journée festive autour de la robotique. \nRencontre francilienne des Trophées de robotique\nThème : Robot Cities\nSamedi 3 mars 2018 de 10h30 à 18h30\nà la Ferme du Manet\n61 avenue du Manet 78180 Montigny-le-Bretonneux \nVenez découvrir les robots et encourager les équipes.\nDes animations autour des sciences et de la robotique auront toute la journée. \nEntrée libre et gratuite \nDes sciences techniques et ludiques \nLes Trophées de robotique sont des défis scientifiques et techniques qui apportent aux jeunes des connaissances en mécanique\, électricité\, informatique et électronique grâce à une démarche scientifique ludique et amusante. \nAprès plusieurs mois de réflexion et de création\, les jeunes présentent et testent leurs robots lors de rencontres originales en accord avec le thème de l’année.
URL:https://www.yvelines-infos.fr/agenda/trophees-de-robotique-rencontre-ile-de-france/
LOCATION:Ferme du Manet\, 61 avenue du Manet\, Montigny le Bretonneux\, 78180
ATTACH;FMTTYPE=image/jpeg:https://www.yvelines-infos.fr/content/uploads/2018/robot-trophees.jpg
ORGANIZER;CN="Association%20Plan%C3%A8te%20Sciences%20Ile-de-France":MAILTO:emma.asson@planete-sciences.org
GEO:48.7647869;2.0195077
X-APPLE-STRUCTURED-LOCATION;VALUE=URI;X-ADDRESS=Ferme du Manet 61 avenue du Manet Montigny le Bretonneux 78180;X-APPLE-RADIUS=500;X-TITLE=61 avenue du Manet:geo:2.0195077,48.7647869
END:VEVENT
END:VCALENDAR