BEGIN:VCALENDAR
VERSION:2.0
PRODID:-//Yvelines Infos - ECPv6.0.2//NONSGML v1.0//EN
CALSCALE:GREGORIAN
METHOD:PUBLISH
X-WR-CALNAME:Yvelines Infos
X-ORIGINAL-URL:https://www.yvelines-infos.fr
X-WR-CALDESC:Évènements pour Yvelines Infos
REFRESH-INTERVAL;VALUE=DURATION:PT1H
X-Robots-Tag:noindex
X-PUBLISHED-TTL:PT1H
BEGIN:VTIMEZONE
TZID:Europe/Paris
BEGIN:DAYLIGHT
TZOFFSETFROM:+0100
TZOFFSETTO:+0200
TZNAME:CEST
DTSTART:20170326T010000
END:DAYLIGHT
BEGIN:STANDARD
TZOFFSETFROM:+0200
TZOFFSETTO:+0100
TZNAME:CET
DTSTART:20171029T010000
END:STANDARD
BEGIN:DAYLIGHT
TZOFFSETFROM:+0100
TZOFFSETTO:+0200
TZNAME:CEST
DTSTART:20180325T010000
END:DAYLIGHT
BEGIN:STANDARD
TZOFFSETFROM:+0200
TZOFFSETTO:+0100
TZNAME:CET
DTSTART:20181028T010000
END:STANDARD
BEGIN:DAYLIGHT
TZOFFSETFROM:+0100
TZOFFSETTO:+0200
TZNAME:CEST
DTSTART:20190331T010000
END:DAYLIGHT
BEGIN:STANDARD
TZOFFSETFROM:+0200
TZOFFSETTO:+0100
TZNAME:CET
DTSTART:20191027T010000
END:STANDARD
END:VTIMEZONE
BEGIN:VEVENT
DTSTART;VALUE=DATE:20190530
DTEND;VALUE=DATE:20190603
DTSTAMP:20260423T041402
CREATED:20190605T091728Z
LAST-MODIFIED:20190605T091728Z
UID:358934-1559174400-1559519999@www.yvelines-infos.fr
SUMMARY:Au fil de l'eau\, au fil de l'art
DESCRIPTION:Balade artistique et musicale le long des Petits Ponts \n  \nChevreuse\, du 30 mai au 2 juin 2019 \n  \nEn clôture du « Mois Racine » organisé par la ville de Chevreuse\, un programme préparé par l’association Hélium et constitué d’expositions\, de concerts\, de lectures* est proposé au public du 30 mai au 2 juin 2019 : Au fil de l’eau\, au fil de l’art. \nPour la 2ème année consécutive\, l’association Hélium s’associe à cette manifestation en prenant part à sa programmation et son animation. Sont également parties prenantes de cet événement les membres de l’atelier d’arts plastiques de l’ALC et les enfants du Club de loisirs de Chevreuse. \n  \nAu cœur du village de Chevreuse\, Hélium organise l’exposition « Au fil de l’eau\, au fil de l’Art » avec 41 artistes (peintres\, sculpteurs\, photographes\, graveurs\, plasticiens…) qui investissent les murs\, petits ponts et lavoirs ornant le cours de l’Yvette\, depuis la ruelle du Mandar jusqu’au Séchoir à Peaux (500m de distance)\, avec des œuvres imprimées sur bâches (de 3m2 environ)\, des sculptures et des installations sur l’eau. \nCette exposition en extérieur restera installée jusqu’au 30 juin inclus. \nEn complément\, les artistes participants proposent\, au Séchoir à peaux et au Prieuré Saint-Saturnin\, deux expositions collectives présentant les originaux des œuvres présentées sur bâches en extérieur (entrée libre\, 11h – 19h). \n  \nLes 41 artistes : \n\n\nVéronique Arnault\nAnne-Marie Barboteau\nMichel Brouand\nCorine Bouladoux\nCécile Bourgoin-Odic Béatrice Carré\nStéphane Clouet\nRaphaële Colombi\nK-Rol Cordier\nCécile Dachary\nCorinne Delusseau-Rouxel Ghislain Delusseau\nMarie-Jo Dilly\nMichel Di Maggio\nCJ Dubreuil\nDominique Ducouret\nMarie-Pierre Dunod\nNeige Elbaum\nIsabelle Garbil-Fauve-Piot Catherine Gendron\nDaniel Hess\nShelagh Hickman\nClaude Laurent\nColine Louber\nAlice Marc\nDanielo Martin\nJoël Migneaux\nPascal Mollet\nBertrand Peyrot\nPatrick Pogu\nJean-Paul Privat\nBruno Raoux\nMarie Romain\nCharlotte Rouhier-Hohn Chris Sharpe\nMartine Swynghedauw Marie Taklanti\nVéronique Tiberge\nMario Urbanet\nFabienne Veverka\nAnne Vuarnesson\n\n 
URL:https://www.yvelines-infos.fr/agenda/au-fil-de-leau-au-fil-de-lart/
LOCATION:sentier des petits Ponts\, Chevreuse\, 78460
ATTACH;FMTTYPE=image/jpeg:https://www.yvelines-infos.fr/content/uploads/2019/visuel-201917034.jpg
END:VEVENT
BEGIN:VEVENT
DTSTART;TZID=Europe/Paris:20190316T110000
DTEND;TZID=Europe/Paris:20190324T190000
DTSTAMP:20260423T041402
CREATED:20190320T140042Z
LAST-MODIFIED:20190320T140042Z
UID:356366-1552734000-1553454000@www.yvelines-infos.fr
SUMMARY:La fécondité
DESCRIPTION:L’association Hélium présente une nouvelle exposition\, collective et thématique\, qui aura lieu \nà Fontenay-lès-Briis\, en partenariat avec la Communauté de Communes du Pays de Limours\, du 16 au 24 mars 2019. \n  \nL’exposition La Fécondité est le prolongement d’un fil rouge qui s’est tenu sur le Parcours d’Artistes Hélium en 2018. Les artistes qui le souhaitaient étaient invités à présenter\, dans leur lieu d’exposition\, une oeuvre sur ce thème. \nL’exposition présentée à la Chapelle de Soucy réunit 23 d’entre eux (peintres\, photographes\, \nplasticiens et sculpteurs). \n  \nL’association Hélium participe\, depuis 14 ans au sein du Parc naturel régional de la Haute Vallée de Chevreuse à la la promotion de l’art et est connue jusque-là pour être à l’origine d’un Parcours d’Artistes\, qui a lieu chaque année en octobre. \n  \nEn organisant une exposition collective réunissant un groupe d’artistes\, elle permet à ces derniers\, dispersés aux quatre coins du PNR et pour certains\, en dehors\, de se rencontrer\, de se retrouver et pourquoi pas\, de se rapprocher pour de futures collaborations. En créant cet événement\, Hélium cherche à développer son audience et son rayonnement sur son territoire et offre au public l’opportunité de découvrir la grande diversité des talents de ses artistes membres. \n  \n  \nLes 23 artistes \nVéronique Arnault – Juliette Berny – Klasien Boulloud – Bus – Muriel Chéné – Dorothée \nDelornoir- Corinne Delusseau-Rouxel – Dominique Ducouret – Ross Gash – K-rol Cordier – \nClaude Laurent – Sylviane Le Boulc’h – Bruno Madelaine – Pascale Marchesini-Arnal – \nFrédéric Marquis – Joël Migneaux – Caroline Regnaut – Marie Romain – Catherine Seznec – \nVéronique Tiberge – Camille Toutée – Sophie Vincent – « Yaya » K. \n  \nLes artistes seront présents sur l’exposition\, en alternance. \nContact Exposition (Hélium) : Bus\, 06 88 12 42 16 – sebastien71@gmail.com
URL:https://www.yvelines-infos.fr/agenda/la-fecondite/
LOCATION:Domaine de Soucy\, Chapelle St Eloi\, Domaine de Soucy\, 2-4 Mont-Louvet\, Fontenay-lès-Briis\, 91640
ATTACH;FMTTYPE=image/jpeg:https://www.yvelines-infos.fr/content/uploads/2019/affiche-fecondite2.jpg
END:VEVENT
BEGIN:VEVENT
DTSTART;TZID=Europe/Paris:20190119T140000
DTEND;TZID=Europe/Paris:20190203T180000
DTSTAMP:20260423T041402
CREATED:20190117T090242Z
LAST-MODIFIED:20190117T090308Z
UID:355001-1547906400-1549216800@www.yvelines-infos.fr
SUMMARY:Hélium prend l'air Exposition collective\, 2ème édition
DESCRIPTION:Du 19 janvier au 3 février 2019\, Hélium renouvelle une expérience d’exposition collective après une première édition qui avait eu lieu en 2016\, à Jouars-Pontchartrain (78). \nCette fois-ci\, 52 artistes investissent l’espace de la Maison Decauville\, à Voisins-le-Bretonneux\, ville partenaire de cet événement. Ils sont peintres\, sculpteurs\, plasticiens\, photographes\, graveurs ou vidéastes… \nL’association Hélium œuvre depuis 14 ans au sein du Parc naturel régional de la Haute Vallée de Chevreuse (Yvelines et Essonne) pour la promotion de l’art et est connue jusque-là pour être à l’initiative d’un Parcours d’Artistes\, chaque année en octobre. \nEn organisant une exposition collective réunissant un grand nombre d’artistes\, elle permet à ces derniers\, dispersés aux quatre coins du PNR et pour certains\, en dehors\, de se rencontrer\, de se retrouver et pourquoi pas\, de se rapprocher pour de futures collaborations. \nEn créant cet événement\, Hélium cherche à développer son audience et son rayonnement aux limites de son territoire et permet aux Vicinois de découvrir la grande diversité des talents de ses artistes membres. \nLes permanences sur cette exposition seront assurées par les artistes eux-mêmes\, à tour de rôle. L’entrée y est libre. \nLes  52 artistes : \nKhaled Alkhani – Véronique Arnault – Anne-Marie Barboteau – Daniella Coelho – Corine Bouladoux – Michel Brouand – Bus – Béatrice Carré – Diane Chaland de Chamborant – Muriel Chéné – Raphaële Colombi – Cyrille Coudray – Michel Coury – Cécile Dachary – Marie.jo Dilly – Nathalie Dubleumortier – CJ Dubreuil – Dominique Ducouret – Marie-Pierre Dunod – Neige Elbaum – Ross Gash – Françoise Gomes – Claudine Guittet – Valérie Anceaume Gutierrez – Sophie Hamel-Galvao – Agnès Heitz Krantz – Daniel Hess – Shelagh Hickman – K-rol Cordier – « Yaya. » K. – Claude Laurent – Sunhee Lee – Bruno Madelaine – Frédéric Marquis – Daniel Martin – Emmanuelle Mertian de Muller – Joël Migneaux – Cyrille Morin – Fabienne Nuyttens-Perin – Bertrand Peyrot – Patrick Pogu – Jean-Paul Privat – Caroline Regnaut – Christophe Renault – Marie Romain – Shaftaï – Chris Sharpe – Martine Swynghedauw  – Sylc – Marie Taklanti – Camille Toutée – Sophie Vincent.
URL:https://www.yvelines-infos.fr/agenda/helium-prend-lair-exposition-collective-2eme-edition/
LOCATION:Maison Decauville\, 5 place de la Division-Leclerc\, Voisins-le-Bretonneux\, 78960
ATTACH;FMTTYPE=image/jpeg:https://www.yvelines-infos.fr/content/uploads/2019/capture.jpg
END:VEVENT
BEGIN:VEVENT
DTSTART;TZID=Europe/Paris:20181201T100000
DTEND;TZID=Europe/Paris:20181202T190000
DTSTAMP:20260423T041402
CREATED:20181204T153531Z
LAST-MODIFIED:20181204T153531Z
UID:354129-1543658400-1543777200@www.yvelines-infos.fr
SUMMARY:5ème biennale Exposition-Vente Hélium
DESCRIPTION:Les 1er et 2 décembre prochains se tiendra la 5ème édition de l’exposition-vente des artistes de l’association Hélium au profit de SNL (antennes Pays de Limours et Vallée de Chevreuse). \nL’association Hélium\, qui regroupe une centaine d’artistes oeuvrant sur le territoire de la Vallée de Chevreuse\, connue pour le Parcours d’ateliers d’artistes qu’elle organise chaque année en octobre\, a également une vocation sociale et d’entraide : elle soutient l’association Solidarités Nouvelles pour le Logement depuis 2010. \nL’association Solidarités Nouvelles pour le Logement a pour vocation\, grâce à ses membres bénévoles\, de favoriser la création de logements destinés à des personnes seules ou des familles en situation précaire\, comme une transition avant une réinsertion dans le circuit locatif.\nSNL Pays de Limours oeuvre depuis 1998\, gère actuellement 14 logements (Limours et Les Molières) et en gèrera 26 supplémentaires d’ici 2020 (Gometz-la-Ville\, Fontenay-lès-Briis\, Briis-sous-Forges\, Forges-les-Bains et Les Molières).\nSNL Vallée de Chevreuse oeuvre depuis 2007\, gère actuellement 8 logements (Chevreuse et Saint-Rémy-lès-Chevreuse) et en gèrera 2 supplémentaires à Cernay-la-Ville d’ici la fin de l’année. \nL’Espace Fernand Léger\, Chemin des Regains à Chevreuse\, accueillera la manifestation à laquelle est associée une quarantaine d’artistes qui ont accepté de reverser tout ou partie de leurs gains à SNL.\nEn effet\, deux modes d’exposition sont proposés aux artistes :\n– une exposition collective : les artistes proposent 4 oeuvres maximum à la vente (et reverseront 50% de leurs gains à SNL) ;\n– une exposition thématique\, Parle-moi de toi(t) : les artistes proposent une oeuvre spécifique à la vente (et reverseront 100% de leurs gains à SNL). \nLe total des sommes récoltées à l’issue de cette manifestation servira à la création des nouveaux logements ou à l’entretien du parc existant. Lors des précédentes éditions\, les artistes ont pu remettre à chaque fois entre 4000 et 5000€ à SNL. \nLes artistes: \nValérie Anceaume Gutierrez – Anne-Marie Barboteau – Klasien Boulloud – Michel Brouand – Daniella Coelho – Raphaële Colombi – Cécile Dachary – Dorothée Delornoir – Michel Di Maggio – Nathalie Dubleumortier – CJ Dubreuil – Françoise Gomes – Claudine Guittet –Sophie Hamel-Galvao – Shelagh Hickman– Claude Laurent – Marie Lavault – Sunhee Lee – Valérie Loiseau – Coline Louber – Frédéric Marquis – Emmanuelle Mertian de Muller – Pascal Mollet – Fabienne Nuyttens-Perin – Jean-Paul Privat – Bruno Raoux – Caroline Regnaut – Marie Romain – Rudolph Rosch – Catherine Seznec – Chris Sharpe – Martine Swynghedauw – Marie Taklanti – Véronique Tiberge – « YaYa » K.
URL:https://www.yvelines-infos.fr/agenda/5eme-biennale-exposition-vente-helium/
LOCATION:espace Fernand Léger\, Chemin des Regains\, Chevreuse\, 78460
ATTACH;FMTTYPE=image/jpeg:https://www.yvelines-infos.fr/content/uploads/2018/affiche-snl-helium-2018.jpg
END:VEVENT
BEGIN:VEVENT
DTSTART;TZID=Europe/Paris:20170930T140000
DTEND;TZID=Europe/Paris:20171008T190000
DTSTAMP:20260423T041402
CREATED:20170911T142649Z
LAST-MODIFIED:20170911T142649Z
UID:343304-1506780000-1507489200@www.yvelines-infos.fr
SUMMARY:13ème Parcours d'Ateliers d'Artistes en Vallée de Chevreuse
DESCRIPTION:  \nLe Parcours d’Ateliers d’Artistes organisé par l’association Hélium est un événement annuel qui\, depuis 13 ans\, offre au public une opportunité de rencontres avec des peintres\, plasticiens\, graveurs\, sculpteurs et photographes locaux\, répartis sur le territoire du Parc naturel  régional de la Haute Vallée de Chevreuse et sur quelques communes portes. \nLa programmation artistique proposée par le Parcours est également le prétexte\, au gré de différents circuits possibles\, de traverser les départements des Yvelines et de l’Essonne à la découverte d’un riche patrimoine architectural. \nEn 2016\, le Parcours a bénéficié de 10000 visites sur les deux week-ends. D’un Parcours à l’autre\, de nouveaux artistes ont rejoint l’association et de nouveaux lieux sont proposés. \nCette année\, 90 artistes participent en ouvrant leur atelier personnel ou en exposition collective\, dans 49 lieux répartis sur 29 communes. \nCommunes participant au parcours 2017 dans les Yvelines : \nAuffargis\, Bazoches-sur-Guyonne\, Bonnelles\, Bullion\, Châteaufort\, Chevreuse\, Choisel\, Jouars-Pontchartrain\, La Queue-lez-Yvelines\, Les Mesnuls\, Lévis-Saint-Nom\, Magny-les-Hameaux\, Méré\, Neauphle-le-Château\, Poigny-la-Forêt\, Rambouillet\, St-Arnoult-en-Yvelines\, St-Remy-lès-Chevreuse\, Villiers-Saint-Frédéric \nLes 30 septembre\, 1er octobre et 7\,8 octobre 2017 – Samedis de 14h à 19h et dimanches de 11h à 19h \n 
URL:https://www.yvelines-infos.fr/agenda/13eme-parcours-dateliers-dartistes-vallee-de-chevreuse/
LOCATION:Vallée de Chevreuse\, France
ATTACH;FMTTYPE=image/jpeg:https://www.yvelines-infos.fr/content/uploads/2017/Affiche-Parcours-Helium-2017-web.jpg
GEO:46.227638;2.213749
END:VEVENT
END:VCALENDAR