BEGIN:VCALENDAR
VERSION:2.0
PRODID:-//Yvelines Infos - ECPv6.0.2//NONSGML v1.0//EN
CALSCALE:GREGORIAN
METHOD:PUBLISH
X-ORIGINAL-URL:https://www.yvelines-infos.fr
X-WR-CALDESC:Évènements pour Yvelines Infos
REFRESH-INTERVAL;VALUE=DURATION:PT1H
X-Robots-Tag:noindex
X-PUBLISHED-TTL:PT1H
BEGIN:VTIMEZONE
TZID:Europe/Paris
BEGIN:DAYLIGHT
TZOFFSETFROM:+0100
TZOFFSETTO:+0200
TZNAME:CEST
DTSTART:20180325T010000
END:DAYLIGHT
BEGIN:STANDARD
TZOFFSETFROM:+0200
TZOFFSETTO:+0100
TZNAME:CET
DTSTART:20181028T010000
END:STANDARD
END:VTIMEZONE
BEGIN:VEVENT
DTSTART;VALUE=DATE:20181006
DTEND;VALUE=DATE:20181008
DTSTAMP:20260423T090449
CREATED:20180912T134214Z
LAST-MODIFIED:20180912T134214Z
UID:352556-1538784000-1538956799@www.yvelines-infos.fr
SUMMARY:BazainVille d’Art 2018
DESCRIPTION:Pour la quatrième fois\, l’association ArtÔBaz et le Comité des fêtes de Bazainville offrent deux journées de découverte des métiers d’art dans les rues du village de Bazainville.\n30 créateurs et artistes sont accueillis dans des lieux privés ou publics sur un circuit dans les rues du village.\nCe parcours est émaillé de concerts et spectacles tout au long du week-end.\nEn vedette cette année\, Gervaise\, chanteuse française dont la carrière s’étoffe de façon magistrale depuis un an\, avec par exemple le premier prix du concours Moustaki. Mais aussi de la musique classique avec un concert de Musique en Randonnée\, un récital de viole et voix avec Francisco Mañalick ou encore un duo étonnant\, Contre Verre et Basse à pied.\nPour les enfants\, BazainVille d’Art organise des ateliers créatifs proposés pour la première fois\, un spectacle de magie par la Compagnie LilyPop et un conte où il est question de pelote de laine.\nPour tous\, une visite guidée du village pour découvrir le patrimoine architectural du village et son bâtit ancien ou\nencore une installation éphémère dans l’église de deux artistes plasticiennes\, mêlant le textile et le verre.\nBazainVille d’Art est une sortie familiale\, ludique et festive oùchaque artisan et artiste offre aux visiteurs un moment de\npartage de son art.\nBuvette et petite restauration sur place.
URL:https://www.yvelines-infos.fr/agenda/bazainville-dart-2018/
LOCATION:centre village de Bazainville\, Bazainville\, 78550
ATTACH;FMTTYPE=image/jpeg:https://www.yvelines-infos.fr/content/uploads/2018/affiche-bazainville-dart-2018-a4.jpg
ORGANIZER;CN="association%20Art%C3%94Baz":MAILTO:asso.artobaz@gmail.com
END:VEVENT
END:VCALENDAR