BEGIN:VCALENDAR
VERSION:2.0
PRODID:-//Yvelines Infos - ECPv6.0.2//NONSGML v1.0//EN
CALSCALE:GREGORIAN
METHOD:PUBLISH
X-WR-CALNAME:Yvelines Infos
X-ORIGINAL-URL:https://www.yvelines-infos.fr
X-WR-CALDESC:Évènements pour Yvelines Infos
REFRESH-INTERVAL;VALUE=DURATION:PT1H
X-Robots-Tag:noindex
X-PUBLISHED-TTL:PT1H
BEGIN:VTIMEZONE
TZID:Europe/Paris
BEGIN:DAYLIGHT
TZOFFSETFROM:+0100
TZOFFSETTO:+0200
TZNAME:CEST
DTSTART:20190331T010000
END:DAYLIGHT
BEGIN:STANDARD
TZOFFSETFROM:+0200
TZOFFSETTO:+0100
TZNAME:CET
DTSTART:20191027T010000
END:STANDARD
END:VTIMEZONE
BEGIN:VEVENT
DTSTART;TZID=Europe/Paris:20190407T083000
DTEND;TZID=Europe/Paris:20190407T123000
DTSTAMP:20260423T092436
CREATED:20190403T141919Z
LAST-MODIFIED:20190403T142215Z
UID:357053-1554625800-1554640200@www.yvelines-infos.fr
SUMMARY:74e édition du Paris-Mantes-en-Yvelines
DESCRIPTION:La 74e édition de la classique Paris-Mantes-en-Yvelines se dispute ce dimanche dans le département des Yvelines\, en partenariat avec le Conseil départemental.  \nCréée en 1945\, cette épreuve s’est imposée au fil des ans comme étant l’une des plus rigoureuses et des plus prestigieuses course cycliste du calendrier français et international. \nChaque année\, les meilleurs coureurs s’affrontent sur les routes d’Ile-de-France. C’est à ce jour l’unique épreuve à se dérouler intégralement dans la région francilienne. \nOuverte à un large panel de coureurs\, de l’élite professionnelle aux équipes interrégionales en passant par les équipes de division nationale espoirs\, cette course internationale est depuis plusieurs années une épreuve reconnue. \nLa course qui se déroule habituellement fin avril change de format et de date car elle a l’honneur de servir de support à la 2ème épreuve de la Coupe de France des clubs DN1 ! La Division Nationale 1 représente l’élite des coureurs amateurs français. La course fait partie d’un ensemble de 7 courses qui composent la Coupe de France.\n20 équipes et 120 coureurs vont se disputer les victoires sur le parcours d’environ 172.3 kilomètres avec\, nous l’espérons\, un public venu en masse sur les bords de route. \nLe départ de la course se fera donc dimanche 7 avril à 8h30 depuis Orgeval. L’arrivée est prévue vers 12h30 à Mantes-la-Jolie\, rue Thiers devant la Collégiale. \nLe vainqueur succèdera à Gianni Marchand (Cibel) lauréat de l’édition 2018 en Classe 1.2. Tous les détails sur www.parismantesenyvelines.fr
URL:https://www.yvelines-infos.fr/agenda/74e-edition-du-paris-mantes-en-yvelines/
ATTACH;FMTTYPE=image/jpeg:https://www.yvelines-infos.fr/content/uploads/2019/5ca323bd38792.jpg
END:VEVENT
END:VCALENDAR