BEGIN:VCALENDAR
VERSION:2.0
PRODID:-//Yvelines Infos - ECPv6.0.2//NONSGML v1.0//EN
CALSCALE:GREGORIAN
METHOD:PUBLISH
X-ORIGINAL-URL:https://www.yvelines-infos.fr
X-WR-CALDESC:Évènements pour Yvelines Infos
REFRESH-INTERVAL;VALUE=DURATION:PT1H
X-Robots-Tag:noindex
X-PUBLISHED-TTL:PT1H
BEGIN:VTIMEZONE
TZID:Europe/Paris
BEGIN:DAYLIGHT
TZOFFSETFROM:+0100
TZOFFSETTO:+0200
TZNAME:CEST
DTSTART:20190331T010000
END:DAYLIGHT
BEGIN:STANDARD
TZOFFSETFROM:+0200
TZOFFSETTO:+0100
TZNAME:CET
DTSTART:20191027T010000
END:STANDARD
END:VTIMEZONE
BEGIN:VEVENT
DTSTART;TZID=Europe/Paris:20190210T170000
DTEND;TZID=Europe/Paris:20190210T200000
DTSTAMP:20260423T092907
CREATED:20190122T113457Z
LAST-MODIFIED:20190122T140408Z
UID:355045-1549818000-1549828800@www.yvelines-infos.fr
SUMMARY:Concert  de Tom Leeb à Thoiry
DESCRIPTION:Venez découvrir les talents de compositeur-interprète de Tom Leeb\, le temps d’un concert caritatif à Thoiry. \nCet artiste à la voix soul et au grand coeur vous offre une pause hors du temps\, bercée par ses morceaux aussi riches que variés. \nCe concert permettra\, en plus\, de reverser une grand partie des bénéfices à l’oeuvre caritative d’Alexandra Hutton pour la scolarisation d’enfants défavorisés au Sénégal. \nLe nombre de places étant limité\, réservez vite la votre sur le site www.artsbeauty.fr ou sur Weezevent. \nBuvette sur place.
URL:https://www.yvelines-infos.fr/agenda/concert-de-tom-leeb-a-thoiry/
LOCATION:Thoiry\, Salle Polyvalente\, Thoiry\, 78770
ATTACH;FMTTYPE=image/jpeg:https://www.yvelines-infos.fr/content/uploads/2019/concert-tom-leeb.jpg
ORGANIZER;CN="art%27s%20beauty":MAILTO:lololefevre@free.fr
END:VEVENT
END:VCALENDAR