BEGIN:VCALENDAR
VERSION:2.0
PRODID:-//Yvelines Infos - ECPv6.0.2//NONSGML v1.0//EN
CALSCALE:GREGORIAN
METHOD:PUBLISH
X-ORIGINAL-URL:https://www.yvelines-infos.fr
X-WR-CALDESC:Évènements pour Yvelines Infos
REFRESH-INTERVAL;VALUE=DURATION:PT1H
X-Robots-Tag:noindex
X-PUBLISHED-TTL:PT1H
BEGIN:VTIMEZONE
TZID:Europe/Paris
BEGIN:DAYLIGHT
TZOFFSETFROM:+0100
TZOFFSETTO:+0200
TZNAME:CEST
DTSTART:20170326T010000
END:DAYLIGHT
BEGIN:STANDARD
TZOFFSETFROM:+0200
TZOFFSETTO:+0100
TZNAME:CET
DTSTART:20171029T010000
END:STANDARD
END:VTIMEZONE
BEGIN:VEVENT
DTSTART;TZID=Europe/Paris:20170917T100000
DTEND;TZID=Europe/Paris:20170917T170000
DTSTAMP:20260423T104106
CREATED:20170915T080740Z
LAST-MODIFIED:20170915T080740Z
UID:343448-1505642400-1505667600@www.yvelines-infos.fr
SUMMARY:Visite guidée de l'Édifice culturel Sainte-Thérèse
DESCRIPTION:Visite guidée de l’Édifice culturel Sainte-Thérèse avec Catherine Chauvelier de l’association Amicale Aubergenvilloise de Généalogie et d’Histoire. \nDe 10h à 17h\, Place Louvain
URL:https://www.yvelines-infos.fr/agenda/visite-guidee-de-ledifice-culturel-sainte-therese/
LOCATION:Edifice culturel Sainte Thérèse\, Place Louvain\, Aubergenville\, 78410\, France
ATTACH;FMTTYPE=image/jpeg:https://www.yvelines-infos.fr/content/uploads/2017/AFFICHE-AUBER.jpg
ORGANIZER;CN="Amicale%20Aubergenvilloise%20de%20G%C3%A9n%C3%A9alogie%20et%20d%E2%80%99Histoire.":MAILTO:chauvelier.catherine@wanadoo.fr
GEO:48.9761752;1.8452875
X-APPLE-STRUCTURED-LOCATION;VALUE=URI;X-ADDRESS=Edifice culturel Sainte Thérèse Place Louvain Aubergenville 78410 France;X-APPLE-RADIUS=500;X-TITLE=Place Louvain:geo:1.8452875,48.9761752
END:VEVENT
END:VCALENDAR