BEGIN:VCALENDAR
VERSION:2.0
PRODID:-//Yvelines Infos - ECPv6.0.2//NONSGML v1.0//EN
CALSCALE:GREGORIAN
METHOD:PUBLISH
X-WR-CALNAME:Yvelines Infos
X-ORIGINAL-URL:https://www.yvelines-infos.fr
X-WR-CALDESC:Évènements pour Yvelines Infos
REFRESH-INTERVAL;VALUE=DURATION:PT1H
X-Robots-Tag:noindex
X-PUBLISHED-TTL:PT1H
BEGIN:VTIMEZONE
TZID:Europe/Paris
BEGIN:DAYLIGHT
TZOFFSETFROM:+0100
TZOFFSETTO:+0200
TZNAME:CEST
DTSTART:20180325T010000
END:DAYLIGHT
BEGIN:STANDARD
TZOFFSETFROM:+0200
TZOFFSETTO:+0100
TZNAME:CET
DTSTART:20181028T010000
END:STANDARD
BEGIN:DAYLIGHT
TZOFFSETFROM:+0100
TZOFFSETTO:+0200
TZNAME:CEST
DTSTART:20190331T010000
END:DAYLIGHT
BEGIN:STANDARD
TZOFFSETFROM:+0200
TZOFFSETTO:+0100
TZNAME:CET
DTSTART:20191027T010000
END:STANDARD
END:VTIMEZONE
BEGIN:VEVENT
DTSTART;VALUE=DATE:20180504
DTEND;VALUE=DATE:20180910
DTSTAMP:20260422T212752
CREATED:20180514T104715Z
LAST-MODIFIED:20180514T104715Z
UID:349891-1525392000-1536537599@www.yvelines-infos.fr
SUMMARY:Concours la Maison économe
DESCRIPTION:Déjà la 12e édition du concours maison économe dans les Yvelines et au delà ! \nL’ALEC SQY et Energies Solidaires\, Espaces INFO-ENERGIE des Yvelines lancent la 12ème édition du Concours Maison Économe qui récompensera les particuliers Yvelinois engagés dans une démarche de changement de comportements et de transformation de l’habitat énergivore en un habitat économe en énergie. Nouveauté cette année\, l’idée du Concours Maison Économe a séduit au-delà des frontières des Yvelines ! En effet\, convaincue de l’intérêt du concours\, l’Agence locale de l’énergie Ouest Essonne le propose sur son territoire pour la première fois ! \nDES PROJETS TOUJOURS PLUS PERFORMANTS D’ANNEES EN ANNEES !\nC’est pour valoriser les travaux de rénovation ou de construction neuve performante et ainsi encourager la diffusion des bonnes pratiques que le Concours Maison Econome a été lancé en 2007. Depuis 12 ans maintenant\, il a permis aux habitants des Yvelines de découvrir de nombreuses maisons BBC\, passives et surtout des logements économes en énergie. Plus de 140 candidats yvelinois ont déjà participé au concours ! Constructions en bois\, toitures végétalisées\, isolation thermique par l’extérieur et chaudières biomasses sont autant de techniques qui ont été mises en lumière grâce au concours et à la participation active et passionnée des participants ! \nCe concours est organisé en partenariat avec l’ADEME\, le Conseil régional d’Ile-de-France\, la Communauté d’agglomération de Saint-Quentin-en-Yvelines\, la Communauté Urbaine Grand Paris Seine&Oise\, le Parc naturel régional de la Haute Vallée de Chevreuse\, la CAPEB\, le CAUE 78\, la CMA des Yvelines et l’association Maisons paysannes de France. Nous espérons que l’édition 2018 sera marquée de nouvelles réalisations performantes (économe en énergie) ! \nLES MODALITES DE PARTICIPATION\nTous les particuliers des Yvelines peuvent y participer.\nDeux catégories de réalisations seront récompensées : \n– les constructions neuves (dont les extensions)\n– les rénovations\, partielles ou totales \nLes réalisations les plus recherchées seront les optimisations énergétiques dans le cadre d’une rénovation légère\, les maisons rénovées au niveau basse consommation\, ainsi que les maisons passives et à énergie positive. Les matériaux bio-sourcés\, locaux ou issus du recyclage pourront être valorisés devant les membres du jury. \nIl y aura un lauréat par catégorie et par territoire. Chacun gagnera un vélo à assistance électrique soit un total de 4 vélos à gagner !\nLes remises de prix seront organisées en octobre 2018 : l’une sur le territoire d’intervention de l’ALEC SQY (sud des Yvelines)\, l’autre sur le territoire d’intervention d’Energies Solidaires (nord des Yvelines). \nLES INSCRIPTIONS SONT OUVERTES DES AUJOURD’HUI\, JUSQU’AU 9 SEPTEMBRE 2018 A MINUIT\nPour télécharger le formulaire de candidature\, le règlement et en savoir plus sur les précédentes éditions\, vous pouvez consulter la rubrique « Particuliers » du site Internet de l’ALEC SQY www.energie-sqy.com et le site d’Energies Solidaires www.energies-solidaires.org.
URL:https://www.yvelines-infos.fr/agenda/concours-maison-econome-2/
LOCATION:Yvelines\, France
ATTACH;FMTTYPE=image/jpeg:https://www.yvelines-infos.fr/content/uploads/2018/logo.jpg
ORGANIZER;CN="ALEC%20SQY":MAILTO:conseil@alecsqy.org
END:VEVENT
BEGIN:VEVENT
DTSTART;VALUE=DATE:20190510
DTEND;VALUE=DATE:20190909
DTSTAMP:20260422T212752
CREATED:20190605T092158Z
LAST-MODIFIED:20190605T092158Z
UID:358448-1557446400-1567987199@www.yvelines-infos.fr
SUMMARY:Concours la Maison économe
DESCRIPTION:DÉJÀ LA 13EME ÉDITION DU CONCOURS MAISON ÉCONOME DANS LES YVELINES ET AU DELÀ ! \nL’Alec SQY et Énergies Solidaires\, Espaces Conseil FAIRE des Yvelines\, lancent la 13ème édition du Concours Maison économe qui récompensera les particuliers Yvelinois engagés dans une démarche de changement de comportements et de transformation de l’habitat énergivore en un habitat économe en énergie. Pour la 2ème année\, l’idée du Concours la Maison économe a séduit au-delà des frontières des Yvelines ! En effet\, convaincue de l’intérêt du concours\, les Agences locales de l’énergie Ouest Essonne et Sud parisienne\, le CAUE 94 le proposent également sur leur territoire ! \nDES PROJETS TOUJOURS PLUS PERFORMANTS D’ANNÉES EN ANNÉES !\nC’est pour valoriser les travaux de rénovation ou de construction neuve performante et ainsi encourager la diffusion des bonnes pratiques que le Concours la Maison économe a été lancé en 2007. Depuis 13 ans maintenant\, il a permis aux habitants des Yvelines de découvrir de nombreuses maisons BBC\, passives et surtout des logements économes en énergie. Plus de 150 candidats yvelinois ont déjà participé au concours ! Constructions en bois\, toitures végétalisées\, isolation thermique par l’extérieur et chaudières biomasses sont autant de techniques qui ont été mises en lumière grâce au concours et à la participation active et passionnée des participants ! \nCe concours est organisé en partenariat avec l’ADEME\, le Conseil régional d’Ile-de-France\, la Communauté d’agglomération de Saint-Quentin-en-Yvelines\, la Communauté Urbaine Grand Paris Seine&Oise\, le Parc naturel régional de la Haute Vallée de Chevreuse\, la CAPEB\, le CAUE 78\, la CMA des Yvelines et l’association Maisons paysannes de France. Nous espérons que l’édition 2019 sera marquée de nouvelles réalisations performantes (économe en énergie) ! \nLES MODALITÉS DE PARTICIPATION\nTous les particuliers des Yvelines peuvent y participer.\nDeux catégories de réalisations seront récompensées :\n– les constructions neuves (dont les extensions)\n– les rénovations\, partielles ou totales\nLes réalisations les plus recherchées seront les optimisations énergétiques dans le cadre d’une rénovation légère\, les maisons rénovées au niveau basse consommation\, ainsi que les maisons passives et à énergie positive. Les matériaux bio-sourcés\, locaux ou issus du recyclage pourront être valorisés devant les membres du jury. \nIl y aura un lauréat par catégorie et par territoire. Chacun gagnera un vélo à assistance électrique soit un total de 4 vélos à gagner !\nLes remises de prix seront organisées en octobre 2019 : l’une sur le territoire d’intervention de l’ALEC SQY (sud des Yvelines)\, l’autre sur le territoire d’intervention d’Énergies Solidaires (nord des Yvelines). \nLES INSCRIPTIONS SONT OUVERTES DES AUJOURD’HUI\, JUSQU’AU 8 SEPTEMBRE 2019 A MINUIT\nPour télécharger le formulaire de candidature\, le règlement et en savoir plus sur les précédentes éditions\, vous pouvez consulter la rubrique « Particuliers » du site Internet de l’Alec SQY http://www.alecsqy.org et le site d’Énergies Solidaires www.energies-solidaires.org dans la rubrique « L’association ». \nPour plus de renseignements\, veuillez écrire un courriel à maisoneconome78@gmail.com.\nSi vous habitez le sud des Yvelines\, vous pouvez contacter l’Alec SQY au 01 30 47 98 90. Si vous habitez le nord des Yvelines\, vous pouvez contacter Énergies Solidaires au 01 39 70 23 06.
URL:https://www.yvelines-infos.fr/agenda/concours-la-maison-econome/
LOCATION:Yvelines\, France
ATTACH;FMTTYPE=image/jpeg:https://www.yvelines-infos.fr/content/uploads/2019/cme2019y-bandeau-web-1.jpg
ORGANIZER;CN="ALEC%20SQY":MAILTO:conseil@alecsqy.org
END:VEVENT
END:VCALENDAR