BEGIN:VCALENDAR
VERSION:2.0
PRODID:-//Yvelines Infos - ECPv6.0.2//NONSGML v1.0//EN
CALSCALE:GREGORIAN
METHOD:PUBLISH
X-ORIGINAL-URL:https://www.yvelines-infos.fr
X-WR-CALDESC:Évènements pour Yvelines Infos
REFRESH-INTERVAL;VALUE=DURATION:PT1H
X-Robots-Tag:noindex
X-PUBLISHED-TTL:PT1H
BEGIN:VTIMEZONE
TZID:Europe/Paris
BEGIN:DAYLIGHT
TZOFFSETFROM:+0100
TZOFFSETTO:+0200
TZNAME:CEST
DTSTART:20210328T010000
END:DAYLIGHT
BEGIN:STANDARD
TZOFFSETFROM:+0200
TZOFFSETTO:+0100
TZNAME:CET
DTSTART:20211031T010000
END:STANDARD
BEGIN:DAYLIGHT
TZOFFSETFROM:+0100
TZOFFSETTO:+0200
TZNAME:CEST
DTSTART:20220327T010000
END:DAYLIGHT
BEGIN:STANDARD
TZOFFSETFROM:+0200
TZOFFSETTO:+0100
TZNAME:CET
DTSTART:20221030T010000
END:STANDARD
END:VTIMEZONE
BEGIN:VEVENT
DTSTART;TZID=Europe/Paris:20211116T203000
DTEND;TZID=Europe/Paris:20211116T203000
DTSTAMP:20260423T011222
CREATED:20211025T121711Z
LAST-MODIFIED:20211025T121711Z
UID:380297-1637094600-1637094600@www.yvelines-infos.fr
SUMMARY:MICHAEL WOOKEY & HIS TOY ORCHESTRA
DESCRIPTION:Festival Blues sur Seine \nNé à Southampton en Angleterre\, Michael Wookey s’installe dans les années 2000 à Paris où il compose 5 albums entre 2007 et 2018. On y retrouve ses inspirations telles que Tom Waits\, Sparklehorse\, Eels\, Leonard Cohen ou Sufjan Stevens. \nAuteur compositeur et véritable performeur\, il s’accompagne\, pour ce nouveau projet\, de musiciens drôlement équipés : aux cordes\, cuivres et percussions s’ajoutent des instruments pour enfants et autres objets en tout genre. Il interprète ses chansons en anglais\, ainsi que quelques reprises. On y découvre un univers excentrique et loufoque\, un peu de fantasque\, beaucoup de ludique\, mais aussi quelques touches de mélancolie\, le tout sur des mélodies pop aux accents folk et New-Orleans. \nTarifs : Catégorie 1 \n15€/Etudiant\, 15€/+65ans\, 20€/Plein tarif \nTarifs : Catégorie 2 \n10€/Etudiant\, 10€/+65ans\, 15€/Plein tarif
URL:https://www.yvelines-infos.fr/agenda/michael-wookey-his-toy-orchestra/
LOCATION:Théâtre Simone-Signoret\, 12\, place Auguste-Romagné\, Conflans-Sainte-Honorine\, 78700
ATTACH;FMTTYPE=image/jpeg:https://www.yvelines-infos.fr/content/uploads/2021/mike3-cmjnlouisequignon-scaled-1600x0-c-default.jpg
ORGANIZER;CN="Th%26eacute%3B%26acirc%3Btre%20Simone-Signoret":MAILTO:theatre.signoret@mairie-conflans.fr
END:VEVENT
BEGIN:VEVENT
DTSTART;TZID=Europe/Paris:20211201T150000
DTEND;TZID=Europe/Paris:20211201T150000
DTSTAMP:20260423T011222
CREATED:20211025T121642Z
LAST-MODIFIED:20211025T121642Z
UID:380313-1638370800-1638370800@www.yvelines-infos.fr
SUMMARY:MOUSTACHE ACADEMY
DESCRIPTION:Dans le cadre du Festival des 400 coups \nLe trio passe par le rap et le hip-hop\, dans un mélange de théâtre\, musique et danse\, pour décrypter avec humour et sensibilité le quotidien d’un petit écolier. Un rap joyeux et entraînant\, une écriture moderne et impertinente qui évoque les sujets de prédilection d’un écolier (la maîtresse\, le chouchou…)\, ses joies (la rentrée\, l’amitié…)\, ses peines (les préjugés\, les chagrins d’amour\, les problèmes familiaux)\, ses peurs (les caïds de la cour de récré…). \nMoustache Academy va au-delà du simple divertissement pour faire émerger une vision positive de l’école\, promouvoir le respect de l’autre\, lutter contre la violence et créer un partage festif\, familial et intergénérationnel. Une approche originale pour transmettre aux générations à venir des valeurs de tolérance et d’humanité. \nAuteurs interprètes Astien Bosche\, Mathurin Meslay\, Julien Pauriol dit Ed Wood                                                                                Mise en scène Julie Chaize                                                                                                                                                          Compositeur Jonathan Oberlander
URL:https://www.yvelines-infos.fr/agenda/moustache-academy/
LOCATION:Théâtre Simone-Signoret\, 12\, place Auguste-Romagné\, Conflans-Sainte-Honorine\, 78700
ATTACH;FMTTYPE=image/jpeg:https://www.yvelines-infos.fr/content/uploads/2021/moustache-academy-cstellak-1-1600x0-c-default.jpg
END:VEVENT
BEGIN:VEVENT
DTSTART;TZID=Europe/Paris:20220125T203000
DTEND;TZID=Europe/Paris:20220125T203000
DTSTAMP:20260423T011222
CREATED:20211104T151420Z
LAST-MODIFIED:20211104T151420Z
UID:380715-1643142600-1643142600@www.yvelines-infos.fr
SUMMARY:Aime comme marquise
DESCRIPTION:Paris\, 1668\, au Théâtre de l’Hôtel de Bourgogne. Thérèse du Parc\, dite Marquise\, se prépare à jouer Andromaque de Racine\, lorsque le lieutenant général de la police entre dans sa loge pour l’interroger. Dès lors\, une enquête commence et nous dévoile l’extraordinaire parcours de cette fille du peuple qui a fasciné les hommes les plus illustres de son temps tels que Molière\, Corneille\, Racine\, La Fontaine\, d’Artagnan ou encore Louis XIV. \nUne coiffeuse\, un paravent\, un valet de nuit\, une malle… nous sommes dans les coulisses. Le spectacle s’installe dans une scénographie intimiste et montre ainsi ce qui est habituellement caché. \nL’auteur\, Philippe Froget\, a voulu écrire sur ces hommes qui\, partis de rien\, se hissent au plus haut niveau de la société\, grâce à leur talent\, leur charisme et surtout leur culot. \nTarif B : https://www.theatre-simone-signoret.fr/tarification/
URL:https://www.yvelines-infos.fr/agenda/aime-comme-marquise/
LOCATION:Théâtre Simone-Signoret\, 12\, place Auguste-Romagné\, Conflans-Sainte-Honorine\, 78700
ATTACH;FMTTYPE=image/jpeg:https://www.yvelines-infos.fr/content/uploads/2021/6-aime-comme-marquise-2-cjean-bernard-vincens.jpg
END:VEVENT
END:VCALENDAR