BEGIN:VCALENDAR
VERSION:2.0
PRODID:-//Yvelines Infos - ECPv6.0.2//NONSGML v1.0//EN
CALSCALE:GREGORIAN
METHOD:PUBLISH
X-ORIGINAL-URL:https://www.yvelines-infos.fr
X-WR-CALDESC:Évènements pour Yvelines Infos
REFRESH-INTERVAL;VALUE=DURATION:PT1H
X-Robots-Tag:noindex
X-PUBLISHED-TTL:PT1H
BEGIN:VTIMEZONE
TZID:Europe/Paris
BEGIN:DAYLIGHT
TZOFFSETFROM:+0100
TZOFFSETTO:+0200
TZNAME:CEST
DTSTART:20210328T010000
END:DAYLIGHT
BEGIN:STANDARD
TZOFFSETFROM:+0200
TZOFFSETTO:+0100
TZNAME:CET
DTSTART:20211031T010000
END:STANDARD
BEGIN:DAYLIGHT
TZOFFSETFROM:+0100
TZOFFSETTO:+0200
TZNAME:CEST
DTSTART:20220327T010000
END:DAYLIGHT
BEGIN:STANDARD
TZOFFSETFROM:+0200
TZOFFSETTO:+0100
TZNAME:CET
DTSTART:20221030T010000
END:STANDARD
END:VTIMEZONE
BEGIN:VEVENT
DTSTART;TZID=Europe/Paris:20211119T203000
DTEND;TZID=Europe/Paris:20211119T203000
DTSTAMP:20260422T192928
CREATED:20211109T152710Z
LAST-MODIFIED:20211109T152710Z
UID:380877-1637353800-1637353800@www.yvelines-infos.fr
SUMMARY:Looking For Beethoven
DESCRIPTION:À l’occasion du 250ème anniversaire de sa naissance en 2020\, Pascal Amoyel mène une enquête palpitante et décode le chef-d’œuvre absolu du piano\, les 32 Sonates\, véritable journal d’une vie. Servi par un pianiste de renommée internationale\, récompensé par une Victoire de la Musique\, ce spectacle révèle le visage secret de l’homme ou\, comment\, alors que la vie lui refusait la joie\, Beethoven la créa lui-même dans sa musique pour en faire don à l’humanité…
URL:https://www.yvelines-infos.fr/agenda/looking-for-beethoven/
LOCATION:Théâtre Espace Coluche\, 980 Av. du Général de Gaulle\, Plaisir\, 78370
ATTACH;FMTTYPE=image/jpeg:https://www.yvelines-infos.fr/content/uploads/2021/84ea50-584ff9301f1041e782b043e291fc5a6e-mv2.jpg
ORGANIZER;CN="Th%26eacute%3B%26acirc%3Btre%20Espace%20Coluche":MAILTO:resa.tec@ville-plaisir.fr
END:VEVENT
BEGIN:VEVENT
DTSTART;TZID=Europe/Paris:20211121T153000
DTEND;TZID=Europe/Paris:20211121T153000
DTSTAMP:20260422T192928
CREATED:20211109T152549Z
LAST-MODIFIED:20211109T152549Z
UID:380885-1637508600-1637508600@www.yvelines-infos.fr
SUMMARY:Misérables
DESCRIPTION:Une œuvre forte\, un spectacle musical vivant\, complet et beau qui ravira les enfants comme les adultes. \nJean Valjean\, Cosette\, Gavroche\, les Thénardier… Autant de noms rendus célèbres à tout jamais par Victor Hugo via l’immense épopée populaire des Misérables\, « monument » de la littérature française. L’adaptation et la mise en scène de William Mesguich se concentrent sur la petite Coosette en proie à l’injustice et aux redoutables Thénardier. Les quatre comédiens interprètent plusieurs personnages. Chaque séquence est ponctuée d’un passage musical (12 chansons)\, cette dimension apportant incontestablement une touche originale au spectacle. Les décors projetés\, tel un livre d’images\, sont superbes. Une grande fresque théâtrale et musicale à voir en famille… et pour donner envie de relire le chef  d’œuvre de Victor Hugo. \nPlein tarif : 15€\, Abonné : 11€\, -26 ans : 9€\, Enfant – 12 ans : 7€
URL:https://www.yvelines-infos.fr/agenda/miserables/
LOCATION:Théâtre Espace Coluche\, 980 Av. du Général de Gaulle\, Plaisir\, 78370
ATTACH;FMTTYPE=image/jpeg:https://www.yvelines-infos.fr/content/uploads/2021/thumbnail-1-2.jpeg
ORGANIZER;CN="Th%26eacute%3B%26acirc%3Btre%20Espace%20Coluche":MAILTO:resa.tec@ville-plaisir.fr
END:VEVENT
BEGIN:VEVENT
DTSTART;TZID=Europe/Paris:20211208T153000
DTEND;TZID=Europe/Paris:20211208T163000
DTSTAMP:20260422T192928
CREATED:20211109T152542Z
LAST-MODIFIED:20211109T152542Z
UID:380888-1638977400-1638981000@www.yvelines-infos.fr
SUMMARY:Un roi sans réponse
DESCRIPTION:Cinéma d’objets\, théâtre d’ombres\, marionnettes\, danse et musique\, fabriqué en direct sous les yeux des spectateurs. \nUn jour\, le roi du plus beau pays du monde se perd dans la forêt. Le souverain du royaume voisin le découvre et lui promet la vie sauve\, à condition qu’il réponde à cette question : qu’est-ce que les femmes désirent le plus au monde ? \nConte intemporel tiré de la légende du Roi Arthur\, il se transmet de génération en génération\, s’enrichissant au fil du temps des histoires de ceux qui la racontent.  » Qu’est-ce que les femmes désirent le plus au monde ? « . Voilà une question simple et complexe. Seule une sorcière apporte au roi la réponse\, après avoir posé ses conditions… Un comédien qui traduit le texte en langage des signes amplifie la magie de ce spectacle unique. \nDurée : 45min \nPlein tarif : 15€\, Abonné : 11€\, -26 ans : 9€\, Enfant – 12 ans : 7€
URL:https://www.yvelines-infos.fr/agenda/un-roi-sans-reponse/
LOCATION:Théâtre Espace Coluche\, 980 Av. du Général de Gaulle\, Plaisir\, 78370
ATTACH;FMTTYPE=image/jpeg:https://www.yvelines-infos.fr/content/uploads/2021/thumbnail-2-2.jpeg
ORGANIZER;CN="Th%26eacute%3B%26acirc%3Btre%20Espace%20Coluche":MAILTO:resa.tec@ville-plaisir.fr
END:VEVENT
BEGIN:VEVENT
DTSTART;TZID=Europe/Paris:20211215T203000
DTEND;TZID=Europe/Paris:20211215T203000
DTSTAMP:20260422T192928
CREATED:20211109T152535Z
LAST-MODIFIED:20211109T152535Z
UID:380890-1639600200-1639600200@www.yvelines-infos.fr
SUMMARY:Jules et Marcel
DESCRIPTION:L’histoire de l’éternelle amitié entre Marcel Pagnol et Raimu\, son acteur fétiche. \nTout commence en 1929 lorsqu’un certain Marcel Pgnol\, jeune auteur provincial encore inconnu frappe timidement à la porte de la loge d’un certain Jules Muraire alias  » Raimu « \, star montante de la scène théâtrale comique française\, pour lui proposer le manuscrit d’une certaine pièce intitulée  » Marius « … Jules et Marcel reprennent souffle et vie au travers de leur coresspondance retrouvée dans les archives familiales. Leur joute épistolaire joyeusement féroce donne au public l’occasion de redécouvrir ces deux géants sous un angle plus humain. C’est aussi l’occasion d’entendre Marcel Pagnol dont la parole était rare\, préférant selon ses propres mots  » faire parler les autres « . La présence de Nicolas Pagnol qui signe la mise en scène intensifie évidemment l’émotion véhiculée par le spectacle et lui confère une saveur toute particulière. Du rire\, des enguelades et de l’émotion au programme ! \nDurée : 1h20 \nPlein tarif : 27€\, Abonné : 23€\, -26 ans : 17€\, Enfant – 12 ans : 9€
URL:https://www.yvelines-infos.fr/agenda/jules-et-marcel/
LOCATION:Théâtre Espace Coluche\, 980 Av. du Général de Gaulle\, Plaisir\, 78370
ATTACH;FMTTYPE=image/jpeg:https://www.yvelines-infos.fr/content/uploads/2021/thumbnail-3-1.jpeg
ORGANIZER;CN="Th%26eacute%3B%26acirc%3Btre%20Espace%20Coluche":MAILTO:resa.tec@ville-plaisir.fr
END:VEVENT
BEGIN:VEVENT
DTSTART;TZID=Europe/Paris:20220107T203000
DTEND;TZID=Europe/Paris:20220107T203000
DTSTAMP:20260422T192928
CREATED:20211109T152528Z
LAST-MODIFIED:20211109T152528Z
UID:380892-1641587400-1641587400@www.yvelines-infos.fr
SUMMARY:Je vole... et le reste je le dirai aux ombres
DESCRIPTION:De l’homme au monstre\, du réel au magique\, le parcours du  » tueur de Nanterre « . \nDans l’obscurité\, une voix nous parle. Richard nous raconte ce rêve qu’il réalise enfin. Richard nous raconte ce rêve qu’il réalise enfin. Voler. Depuis l’enfance il savait que ses pouvoirs surnaturels se manifesteraient un jour. Alors il s’élance depuis la petite fenêtre\, et saute. Nous sommes le 28 mars 2002\, 10h30. Richard Durn se jette par la fenêtre de la salle d’interrogatoir du 36 Quai des orfèvres\, et durant une seconde\, dans sa tête\, tout reprend vie\, les personnages du quotidien\, les rencontres d’un soir\, les héros imaginaires. \nTous se côtoient et s’entrechoquent pêle-mêle dans son espace intérieur : sa mère\, son seul ami\, la vendeuse d’arme\, le professeur d’art dramatique\, Roberto Zucco\, l’amoureuse de Bosnie\, Robocop\, l’adjointe au maire et Brad Pitt. De ce chaos de la pensée\, extraire un sens\, trouver une explication et peut-être les miettes d’une humanité dépiautée. Comment passe-t-on d’un prétexte humaniste à un acte sanguinaire ? Comment peut-on se rêver Gandhi et agir comme Kouachi ? Où gît le mensonge ? \nDurée : 1h25 \nPlein tarif : 27€\, Abonné : 23€\, -26 ans : 11€
URL:https://www.yvelines-infos.fr/agenda/je-vole-et-le-reste-je-le-dirai-aux-ombres/
LOCATION:Théâtre Espace Coluche\, 980 Av. du Général de Gaulle\, Plaisir\, 78370
ATTACH;FMTTYPE=image/jpeg:https://www.yvelines-infos.fr/content/uploads/2021/thumbnail-4-1.jpeg
ORGANIZER;CN="Th%26eacute%3B%26acirc%3Btre%20Espace%20Coluche":MAILTO:resa.tec@ville-plaisir.fr
END:VEVENT
BEGIN:VEVENT
DTSTART;TZID=Europe/Paris:20220129T203000
DTEND;TZID=Europe/Paris:20220129T203000
DTSTAMP:20260422T192928
CREATED:20211116T143749Z
LAST-MODIFIED:20211116T143749Z
UID:381002-1643488200-1643488200@www.yvelines-infos.fr
SUMMARY:Les noces de Figaro
DESCRIPTION:Près de Séville\, à la fin du XVIIIe siècle. Figaro et Suzanne\, respectivement valet et camériste du Comte et de la Comtesse Almaviva\, préparent leurs noces. Mais leur joie risque d’être ternie par les audaces du Comte\, prêt à tout pour séduire la future mariée. Aidés de la Comtesse\, elle-même délaissée par son époux volage\, Figaro et Suzanne devront faire preuve d’imagination pour déjouer les pièges d’Almaviva\, éviter les chausse-trapes sournoises des Marceline\, Bartholo et autre Basile\, et utiliser au mieux les maladresses de Chérubin\, jeune page enflammé. \nDurée : 3h30 (entracte compris) \nPlein tarif : 35 €\, Abonné : 31 €\, – 26 ans : 23 €
URL:https://www.yvelines-infos.fr/agenda/les-noces-de-figaro/
LOCATION:Théâtre Espace Coluche\, 980 Av. du Général de Gaulle\, Plaisir\, 78370
ATTACH;FMTTYPE=image/jpeg:https://www.yvelines-infos.fr/content/uploads/2021/84ea50-6470dd1457624b8395358f9b2028523c-mv2.jpg
ORGANIZER;CN="Th%26eacute%3B%26acirc%3Btre%20Espace%20Coluche":MAILTO:resa.tec@ville-plaisir.fr
END:VEVENT
BEGIN:VEVENT
DTSTART;TZID=Europe/Paris:20220204T203000
DTEND;TZID=Europe/Paris:20220204T203000
DTSTAMP:20260422T192928
CREATED:20220126T133045Z
LAST-MODIFIED:20220126T133045Z
UID:382803-1644006600-1644006600@www.yvelines-infos.fr
SUMMARY:Le porteur d'histoire
DESCRIPTION:La découverte par une nuit pluvieuse d’un carnet manuscrit va entraîner Martin Martin dans une quête vertigineuse à travers l’Histoire et les continents. Quinze ans plus tard\, au cœur du désert algérien\, une mère et sa fille disparaissent mystérieusement. Elles ont été entraînées par le récit d’un inconnu\, à la recherche d’un amas de livres frappés d’un étrange calice\, et d’un trésor colossal\, accumulé à travers les âges par une légendaire société secrète. \nDurée : 1h40
URL:https://www.yvelines-infos.fr/agenda/le-porteur-dhistoire-2/
LOCATION:Théâtre Espace Coluche\, 980 Av. du Général de Gaulle\, Plaisir\, 78370
ATTACH;FMTTYPE=image/jpeg:https://www.yvelines-infos.fr/content/uploads/2022/84ea50-6b9d3c077bd74847b4bd8ab65c359244-mv2.jpg
ORGANIZER;CN="Th%26eacute%3B%26acirc%3Btre%20Espace%20Coluche":MAILTO:resa.tec@ville-plaisir.fr
END:VEVENT
BEGIN:VEVENT
DTSTART;TZID=Europe/Paris:20220204T203000
DTEND;TZID=Europe/Paris:20220204T203000
DTSTAMP:20260422T192928
CREATED:20211116T143250Z
LAST-MODIFIED:20211116T143250Z
UID:381010-1644006600-1644006600@www.yvelines-infos.fr
SUMMARY:Le porteur d'histoire
DESCRIPTION:La première création d’Alexis Michalik qui l’a propulsé sur le devant de la scène. \nLa découverte par une nuit pluvieuse d’un carnet manuscrit va entraîner Martin Martin dans une quête vertigineuse à travers l’Histoire et les continents. Quinze ans plus tard\, au cœur du désert algérien\, une mère et sa fille disparaissent mystérieusement. Elles ont été entraînées par le récit d’un inconnu\, à la recherche d’un amas de livres frappés d’un étrange calice\, et d’un trésor colossal\, accumulé à travers les âges par une légendaire société secrète. \nDurée : 1h40 \nPlein tarif : 27 €\, Abonné : 23 €\, – 26 ans : 9 €
URL:https://www.yvelines-infos.fr/agenda/le-porteur-dhistoire/
LOCATION:Théâtre Espace Coluche\, 980 Av. du Général de Gaulle\, Plaisir\, 78370
ATTACH;FMTTYPE=image/jpeg:https://www.yvelines-infos.fr/content/uploads/2021/84ea50-6b9d3c077bd74847b4bd8ab65c359244-mv2.jpg
ORGANIZER;CN="Th%26eacute%3B%26acirc%3Btre%20Espace%20Coluche":MAILTO:resa.tec@ville-plaisir.fr
END:VEVENT
BEGIN:VEVENT
DTSTART;TZID=Europe/Paris:20220212T203000
DTEND;TZID=Europe/Paris:20220212T203000
DTSTAMP:20260422T192928
CREATED:20211116T143231Z
LAST-MODIFIED:20211116T143231Z
UID:381014-1644697800-1644697800@www.yvelines-infos.fr
SUMMARY:My Land
DESCRIPTION:Cette création de la compagnie Recirquel de renommée internationale\, a été selectionnée par les critiques comme étant la meilleure proposition artistique parmi des milliers en août 2018\, dans le cadre du plus grand festival artistique du monde : le Fringe d’Edimbourg. Sept acrobates virtuoses ukrainiens sont réunis dans un spectacle visuellement magique qui mêle arts du cirque et danse. \nDurée : 1h00 \nPlein tarif : 31 €\, Abonné : 27 €\, – 26 ans : 21 €\, Enfant – 12 ans : 13 €
URL:https://www.yvelines-infos.fr/agenda/my-land/
LOCATION:Théâtre Espace Coluche\, 980 Av. du Général de Gaulle\, Plaisir\, 78370
ATTACH;FMTTYPE=image/jpeg:https://www.yvelines-infos.fr/content/uploads/2021/84ea50-a7dc101e710443429ac3e1a461a8688f-mv2.jpg
ORGANIZER;CN="Th%26eacute%3B%26acirc%3Btre%20Espace%20Coluche":MAILTO:resa.tec@ville-plaisir.fr
END:VEVENT
BEGIN:VEVENT
DTSTART;TZID=Europe/Paris:20220218T203000
DTEND;TZID=Europe/Paris:20220218T203000
DTSTAMP:20260422T192928
CREATED:20211220T102148Z
LAST-MODIFIED:20211220T102148Z
UID:381295-1645216200-1645216200@www.yvelines-infos.fr
SUMMARY:Flavia Coelho
DESCRIPTION:Une soirée 100% Brésil en partenariat avec la Clé des Champs \nJoao Selva\, en première partie\, c’est une véritable hymne à la créolité et au tropicalisme\, porté par des sonorités funk\, jazz ou encore disco\, un carnet de voyages exubérant où l’on retrouve la pétillante Flavia Coelho\, une croisière musicale palpitante naviguant à vue sur le mythique Atlantique Noir. \nFlavia Coehlo\, a voyagé partout dans le monde. Des morros de Rio de Janeiro aux rues pavées de Paris. La nomade est à la maison où elle se sent bien accueillie\, et sa musique est faite de cette alchimie. Elle est immatérielle\, une vibration cosmique qui se déplace dans l’air : des bouffées de chaleur aux brises glacées\, elle résonne sous toutes les latitudes. Flavia le sait aussi. Son chant a sonné des raids au abribus\, des cafés-concerts aux plus grands festivals du monde.
URL:https://www.yvelines-infos.fr/agenda/flavia-coelho/
LOCATION:Théâtre Espace Coluche\, 980 Av. du Général de Gaulle\, Plaisir\, 78370
ATTACH;FMTTYPE=image/jpeg:https://www.yvelines-infos.fr/content/uploads/2021/84ea50-04ff0fc9dba6453796d02b92e6c0d3b5-mv2.jpg
ORGANIZER;CN="Th%26eacute%3B%26acirc%3Btre%20Espace%20Coluche":MAILTO:resa.tec@ville-plaisir.fr
END:VEVENT
BEGIN:VEVENT
DTSTART;TZID=Europe/Paris:20220312T203000
DTEND;TZID=Europe/Paris:20220312T203000
DTSTAMP:20260422T192928
CREATED:20211220T102142Z
LAST-MODIFIED:20211220T102142Z
UID:381317-1647117000-1647117000@www.yvelines-infos.fr
SUMMARY:Marie des poules
DESCRIPTION:Deux femmes\, deux destins\, un même combat pour la liberté.  \nC’est l’histoire vraie et émouvante d’une fillette qui fût l’employée de George Sand : Marie Caillaud\, surnommé Marie des poules\, car elle fut tout d’abord charger de poulailler. Engagée à 11 ans\, cette petite analphabète\, simple fille de tisserand\, montra très vite son intelligence et du goût pour le théâtre. La romancière féministe se chargea de lui apprendre à lire et à écrire et lui fit rencontrer d’autres auteurs et des peintres célèbres : Alexandre Dumas fils\, Delacroix\, Nadar et d’autres… Marie des poules\, en accédant à la culture\, se libéra du carcan de la femme soumise. Combien un tel personnage nous parle encore aujourd’hui où tant de femmes sont empêchées de s’épanouir en étant étouffées par l’ignorance ! Voilà l’histoire officielle mais… il y en eut autre\, cachée\, plus émouvante\, que cette pièce vous invite à découvrir. En dire davantage serait en déflorer le sujet\, chaque être ayant sa part de mystère… \nDurée : 1h15 \nPlein tarif : 29€\, Abonné : 25€\, -26 ans : 11€ \n 
URL:https://www.yvelines-infos.fr/agenda/marie-des-poules/
LOCATION:Théâtre Espace Coluche\, 980 Av. du Général de Gaulle\, Plaisir\, 78370
ATTACH;FMTTYPE=image/jpeg:https://www.yvelines-infos.fr/content/uploads/2021/84ea50-c87d7c01fadc41e28a43a4a2d15d66a6-mv2.jpg
ORGANIZER;CN="Th%26eacute%3B%26acirc%3Btre%20Espace%20Coluche":MAILTO:resa.tec@ville-plaisir.fr
END:VEVENT
BEGIN:VEVENT
DTSTART;TZID=Europe/Paris:20220317T203000
DTEND;TZID=Europe/Paris:20220317T203000
DTSTAMP:20260422T192928
CREATED:20220126T131819Z
LAST-MODIFIED:20220126T131819Z
UID:383132-1647549000-1647549000@www.yvelines-infos.fr
SUMMARY:PANAYOTIS PASCOT
DESCRIPTION:LE DÉBIT ULTRA RAPIDE DE CEUX QUI ONT DES CHOSES À DIRE\, ET LA TCHATCHE DE CEUX QUI SAVENT FAIRE DES BLAGUES. \nStand upper et humoriste surdoué il est aussi un conteur hors pair qu’on ira voir pour ses récits. Dès son entrée en scène\, Panayotis Pascot emporte son auditoire dans un grand éclat de rire\, pour un voyage dans les méandres savoureux d’une enfance marquée par un père taiseux\, une mère qui étale ses sentiments à qui veut les entendre (et même à ceux qui ne le veulent pas)\, et son incapacité notoire à embrasser une fille.
URL:https://www.yvelines-infos.fr/agenda/panayotis-pascot/
LOCATION:Théâtre Espace Coluche\, 980 Av. du Général de Gaulle\, Plaisir\, 78370
ATTACH;FMTTYPE=image/jpeg:https://www.yvelines-infos.fr/content/uploads/2022/thumbnail-1-5-scaled.jpeg
ORGANIZER;CN="Th%26eacute%3B%26acirc%3Btre%20Espace%20Coluche":MAILTO:resa.tec@ville-plaisir.fr
END:VEVENT
BEGIN:VEVENT
DTSTART;TZID=Europe/Paris:20220326T203000
DTEND;TZID=Europe/Paris:20220326T203000
DTSTAMP:20260422T192928
CREATED:20220209T113545Z
LAST-MODIFIED:20220209T113545Z
UID:383357-1648326600-1648326600@www.yvelines-infos.fr
SUMMARY:GOLDMEN
DESCRIPTION:GOLDMEN c’est l’histoire de 6 gars qui aiment la musique de Jean-Jacques GOLDMAN… Alain Stevez\, chant lead guitare et clavier\, s’impatientant du retour du géant de la variété française a décidé de prendre les devants. Il crée ce qu’on appelle « un tribute » en hommage à son idole. Les musiciens avec lesquels il travaille souvent\, Bruno Szeremeta le clavier\, Pierre-Henri Dromard le bassiste\, David Mahieux le guitariste\, John Brenner le saxophoniste et Jérémy Stevez le batteur le suivent sans hésiter tellement la musique de JJ est bonne !! Depuis\, le groupe baptisé « GOLDMEN » écume les scènes en défendant fièrement les titres qui ont marqué les années 80\, 90 et 2000 que le public connaît par cœur. Chacun peut fredonner ses refrains préférés depuis « Envole-moi » en passant par « Encore un matin » ou autre « Il suffira d’un signe ». Venez-vous fondre dans l’univers de Jean-Jacques GOLDMAN. \nConcert\, Durée : 1h45\nPlein tarif : 39€\, Abonné : 35€\, -26 ans : 25€
URL:https://www.yvelines-infos.fr/agenda/goldmen/
LOCATION:Théâtre Espace Coluche\, 980 Av. du Général de Gaulle\, Plaisir\, 78370
ATTACH;FMTTYPE=image/jpeg:https://www.yvelines-infos.fr/content/uploads/2022/84ea50-aa9ef9f5379942299a834dd09fee2a5a-mv2.jpg
ORGANIZER;CN="Th%26eacute%3B%26acirc%3Btre%20Espace%20Coluche":MAILTO:resa.tec@ville-plaisir.fr
END:VEVENT
BEGIN:VEVENT
DTSTART;TZID=Europe/Paris:20220405T203000
DTEND;TZID=Europe/Paris:20220405T203000
DTSTAMP:20260422T192928
CREATED:20220209T113628Z
LAST-MODIFIED:20220209T113628Z
UID:383369-1649190600-1649190600@www.yvelines-infos.fr
SUMMARY:ALEX LUTZ
DESCRIPTION:Est-ce nécessaire d’être sur un cheval pour faire rire ? Est-ce nécessaire d’avoir des doutes pour faire rire ? Non\, mais ce sont les choix d’Alex ! Oui\, il a toujours cet univers irrésistible. \nOui\, il incarne toujours des personnages avec un brio incontestable. Drôle\, ironique et déroutant\, Alex nous embarque dans sa vie\, dans nos vies\, et prouve qu’on peut (beaucoup) rire et se souvenir\, beaucoup rire et s’attendrir. Ceux qui adorent Alex l’adoreront. \nQuant aux autres\, ils le découvriront et l’adoreront. Alex doutait qu’il puisse faire mieux après son Molière et son César mais il avait tort ! \nOne Man Show\, Durée : 1h50\nPlein tarif : 39€\, Abonné : 35€\, -26 ans : 25€\, -12 ans : 23€
URL:https://www.yvelines-infos.fr/agenda/alex-lutz/
LOCATION:Théâtre Espace Coluche\, 980 Av. du Général de Gaulle\, Plaisir\, 78370
ATTACH;FMTTYPE=image/jpeg:https://www.yvelines-infos.fr/content/uploads/2022/84ea50-a5f1f18406a641ad95d5fbb64eec7acf-mv2.jpg
ORGANIZER;CN="Th%26eacute%3B%26acirc%3Btre%20Espace%20Coluche":MAILTO:resa.tec@ville-plaisir.fr
END:VEVENT
BEGIN:VEVENT
DTSTART;TZID=Europe/Paris:20220415T203000
DTEND;TZID=Europe/Paris:20220415T203000
DTSTAMP:20260422T192928
CREATED:20220406T103422Z
LAST-MODIFIED:20220406T103422Z
UID:384936-1650054600-1650054600@www.yvelines-infos.fr
SUMMARY:LA GALERIE
DESCRIPTION:Le cirque envahit le musée ! Sept acrobates disjonctés et une musicienne électrisante s’emparent d’une exposition monochrome. Dans un élan créatif\, ils la transforment en une explosion de couleurs. Se moquant allègrement des conventions\, ces personnages\, aussi loufoques que touchants\, explorent avec avidité l’envers du décor. Stupéfiants\, certains portés sont à couper le souffle\, tandis que le numéro de jonglerie tient presque de la prestidigitation. Les quilles voltigent entre les artistes et nous ramènent à la galerie\, où des collectionneurs en goguette passent outre les cordons de sécurité. Ils se livreront bientôt à une vente aux enchères de haut vol\, théâtre d’un sensationnel numéro de barre russe teinté d’humour.
URL:https://www.yvelines-infos.fr/agenda/la-galerie-2/
LOCATION:Théâtre Espace Coluche\, 980 Av. du Général de Gaulle\, Plaisir\, 78370
ATTACH;FMTTYPE=image/jpeg:https://www.yvelines-infos.fr/content/uploads/2022/thumbnail-8.jpeg
ORGANIZER;CN="Th%26eacute%3B%26acirc%3Btre%20Espace%20Coluche":MAILTO:resa.tec@ville-plaisir.fr
END:VEVENT
BEGIN:VEVENT
DTSTART;TZID=Europe/Paris:20220415T203000
DTEND;TZID=Europe/Paris:20220415T203000
DTSTAMP:20260422T192928
CREATED:20220322T141901Z
LAST-MODIFIED:20220322T141901Z
UID:384100-1650054600-1650054600@www.yvelines-infos.fr
SUMMARY:LA GALERIE
DESCRIPTION:Prouesses vertigineuses\, trouvailles surprenantes\, poésie colorée et autodérision sont au programme de cette ode à la créativité. \nLe cirque envahit le musée ! Sept acrobates disjonctés et une musicienne électrisante s’emparent d’une exposition monochrome. Dans un élan créatif\, ils la transforment en une explosion de couleurs. Se moquant allègrement des conventions\, ces personnages\, aussi loufoques que touchants\, explorent avec avidité l’envers du décor. Stupéfiants\, certains portés sont à couper le souffle\, tandis que le numéro de jonglerie tient presque de la prestidigitation. Les quilles voltigent entre les artistes et nous ramènent à la galerie\, où des collectionneurs en goguette passent outre les cordons de sécurité. Ils se livreront bientôt à une vente aux enchères de haut vol\, théâtre d’un sensationnel numéro de barre russe teinté d’humour. \n 
URL:https://www.yvelines-infos.fr/agenda/la-galerie/
LOCATION:Théâtre Espace Coluche\, 980 Av. du Général de Gaulle\, Plaisir\, 78370
ATTACH;FMTTYPE=image/jpeg:https://www.yvelines-infos.fr/content/uploads/2022/84ea50-f3b8fc9ad0524004b690a488f229b4dd-mv2.jpg
ORGANIZER;CN="Th%26eacute%3B%26acirc%3Btre%20Espace%20Coluche":MAILTO:resa.tec@ville-plaisir.fr
END:VEVENT
BEGIN:VEVENT
DTSTART;TZID=Europe/Paris:20220512T183000
DTEND;TZID=Europe/Paris:20220512T183000
DTSTAMP:20260422T192928
CREATED:20220401T131034Z
LAST-MODIFIED:20220401T131034Z
UID:385118-1652380200-1652380200@www.yvelines-infos.fr
SUMMARY:Ma vie sous le regard de l'oiseau-lyre
DESCRIPTION:DANS LE CADRE DU FESTIVAL VTT – LES VADROUILLES THEATRALES TOUT TERRAIN \nUne autrice\, Dominique Paquet\, qui est à la fois comédienne\, philosophe et écrivaine a eu la chance\, dans son parcours d’artiste\, de s’immerger au milieu des habitants de cités aux quatre coins de la planète pour rencontrer de façon conviviale des personnalités féminines et masculines de tous âges et écrire\, décrire\, poétiser à la scène des parcours de vie recueillis en direct ! \nCette année\, c’est sur le quartier de Valibout que Dominique a posé son regard ! Depuis septembre\, elle fréquente assidument différents lieux de vie comme la Mosaïque\, la maison de quartier\, le collège Rabelais… où\, en toute simplicité\, elle échange avec ceux qui veulent bien lui raconter une petite partie de leur parcours de vie. \nDominique Paquet\, a donc écrit une pièce originale à partir des témoignages recueillis. Cette pièce sera mise en scène par Patrick Simon et interprétée par les comédiens et les musiciens professionnels de la cie 3.5.81.
URL:https://www.yvelines-infos.fr/agenda/ma-vie-sous-le-regard-de-loiseau-lyre/
LOCATION:Théâtre Espace Coluche\, 980 Av. du Général de Gaulle\, Plaisir\, 78370
ATTACH;FMTTYPE=image/jpeg:https://www.yvelines-infos.fr/content/uploads/2022/843c50-351a69287ddc42bf9ec88dab5172e2a0-mv2.jpg
ORGANIZER;CN="Th%26eacute%3B%26acirc%3Btre%20Espace%20Coluche":MAILTO:resa.tec@ville-plaisir.fr
END:VEVENT
BEGIN:VEVENT
DTSTART;TZID=Europe/Paris:20220515T153000
DTEND;TZID=Europe/Paris:20220515T153000
DTSTAMP:20260422T192928
CREATED:20220322T141856Z
LAST-MODIFIED:20220322T141856Z
UID:384102-1652628600-1652628600@www.yvelines-infos.fr
SUMMARY:Boxing Shadow
DESCRIPTION:La boxe comme moteur de l’initiation d’une jeune fille à de belles valeurs. \nUne jeune migrante vole le portefeuille d’un homme d’une soixantaine d’années dans le métro. Ils habitent la même rue\, le même immeuble. C’est le début de la rencontre entre une jeune fille sans avenir\, fragilisée et révoltée\, et un ancien boxeur devenu bibliothécaire en proie à la solitude et à l’ennui. Il va lui apprendre à transformer sa rage grâce à l’apprentissage des règles de la boxe et ils vont\, ensemble\, retrouver le goût de la vie. Une comédie douce-amère\, où le rire alterne avec l’émotion\, nous renvoyant à nos failles comme à nos forces.
URL:https://www.yvelines-infos.fr/agenda/boxing-shadow/
LOCATION:Théâtre Espace Coluche\, 980 Av. du Général de Gaulle\, Plaisir\, 78370
ATTACH;FMTTYPE=image/jpeg:https://www.yvelines-infos.fr/content/uploads/2022/84ea50-4c435f6faf2c40b2b5671a8c1e4a48c3-mv2.jpg
ORGANIZER;CN="Th%26eacute%3B%26acirc%3Btre%20Espace%20Coluche":MAILTO:resa.tec@ville-plaisir.fr
END:VEVENT
BEGIN:VEVENT
DTSTART;TZID=Europe/Paris:20220521T203000
DTEND;TZID=Europe/Paris:20220521T203000
DTSTAMP:20260422T192928
CREATED:20220322T141850Z
LAST-MODIFIED:20220322T141850Z
UID:384104-1653165000-1653165000@www.yvelines-infos.fr
SUMMARY:Abd al Malik - Le Jeune Noir à l’épée
DESCRIPTION:« Le Jeune noir à l’épée » est d’abord le titre d’une peinture de Pierre Puvis de Chavannes qui a bouleversé Abd al MaliK et l’a poussé à écrire un long poème sur l’identité à l’ère de la mondialisation\, à la croisée du langage poétique de Baudelaire et de la philosophie de Glissant. L’histoire de ce jeune noir\, c’est une rébellion rythmée\, déclamée\, rappée\, slamée et chantée sur une musique noire\, blanche\, métisse\, ancienne et moderne\, faîtes de fragments mélodiques\, d’échantillons musicaux disparates\, dont la mise en relation accidentelle et inattendue fait surgir\, contre toute attente\, du nouveau et de l’harmonieux. Salia Sanou accompagne par sa chorégraphie la poésie des mots et des images.
URL:https://www.yvelines-infos.fr/agenda/abd-al-malik-le-jeune-noir-a-lepee/
LOCATION:Théâtre Espace Coluche\, 980 Av. du Général de Gaulle\, Plaisir\, 78370
ATTACH;FMTTYPE=image/jpeg:https://www.yvelines-infos.fr/content/uploads/2022/84ea50-c930241739084a02907123149b9d2e52-mv2.jpg
ORGANIZER;CN="Th%26eacute%3B%26acirc%3Btre%20Espace%20Coluche":MAILTO:resa.tec@ville-plaisir.fr
END:VEVENT
END:VCALENDAR