BEGIN:VCALENDAR
VERSION:2.0
PRODID:-//Yvelines Infos - ECPv6.0.2//NONSGML v1.0//EN
CALSCALE:GREGORIAN
METHOD:PUBLISH
X-ORIGINAL-URL:https://www.yvelines-infos.fr
X-WR-CALDESC:Évènements pour Yvelines Infos
REFRESH-INTERVAL;VALUE=DURATION:PT1H
X-Robots-Tag:noindex
X-PUBLISHED-TTL:PT1H
BEGIN:VTIMEZONE
TZID:Europe/Paris
BEGIN:DAYLIGHT
TZOFFSETFROM:+0100
TZOFFSETTO:+0200
TZNAME:CEST
DTSTART:20180325T010000
END:DAYLIGHT
BEGIN:STANDARD
TZOFFSETFROM:+0200
TZOFFSETTO:+0100
TZNAME:CET
DTSTART:20181028T010000
END:STANDARD
END:VTIMEZONE
BEGIN:VEVENT
DTSTART;TZID=Europe/Paris:20180518T210000
DTEND;TZID=Europe/Paris:20180527T223000
DTSTAMP:20260423T132848
CREATED:20180503T141545Z
LAST-MODIFIED:20180504T074316Z
UID:349815-1526677200-1527460200@www.yvelines-infos.fr
SUMMARY:"Les Filles aux Mains Jaunes"
DESCRIPTION:En 1915\, Julie\, Rose\, Jeanne et Louise se rencontrent dans une usine d’armement où elles fabriquent des obus. Les Comédiens de la Tour proposent un spectacle rempli de vie et dirigent la lumière sur un pan d’Histoire oublié des célébrations.  \nUne plongée dans la grande Histoire\, celle de 14-18. Pas celle des tranchées\, ni celle des poilus\, mais celle des petites abeilles courageuses de l’arrière… C’est l’histoire simple des femmes ouvrières qui fabriquent des obus à en avoir les mains jaunes. Dans leur usine\, Jeanne\, Rose\, Julie et Louise découvrent tout à la fois : la liberté de corps\, de paroles\, d’esprit\, les conditions inhumaines de travail\, la solidarité\, la résistance. Elles vont vivre là\, jusqu’à la fin de la guerre\, quelque chose qui ressemble à un début d’émancipation… \n « Si les femmes s’arrêtaient de travailler 20 minutes\, les Alliés perdraient la guerre ! » \nCe spectacle dirige la lumière sur un pan d’Histoire oublié des célébrations et redonne à toutes ces ouvrières une place sur le devant de la scène. Un spectacle interprété par un fabuleux quatuor franco-belge\, à recommander chaleureusement aux adolescents. Confrontant ! \nMise en scène de Nicole Pertat\, assistée d’Agnès Henry \nRéservation au 01 39 27 94 59 ou par formulaire sur le site des Comédiens de la Tour. \nDates : \n\nVendredi 18 mai à 21h\nSamedi 19 mai à 21h\nDimanche 20 mai à 16h\nLundi 21 mai à 21h\nJeudi 24 mai à 21h\nVendredi 25 mai à 21h\nSamedi 26 mai à 21h\nDimanche 27 mai à 16h\n\n 
URL:https://www.yvelines-infos.fr/agenda/filles-aux-mains-jaunes/
LOCATION:Théâtre Octave Mirabeau\, 3 Rue Cadot\, Triel-sur-Seine\, 78510\, France
ATTACH;FMTTYPE=image/jpeg:https://www.yvelines-infos.fr/content/uploads/2018/affichefmj.jpg
GEO:48.9817696;2.0017876
X-APPLE-STRUCTURED-LOCATION;VALUE=URI;X-ADDRESS=Théâtre Octave Mirabeau 3 Rue Cadot Triel-sur-Seine 78510 France;X-APPLE-RADIUS=500;X-TITLE=3 Rue Cadot:geo:2.0017876,48.9817696
END:VEVENT
END:VCALENDAR