BEGIN:VCALENDAR
VERSION:2.0
PRODID:-//Yvelines Infos - ECPv6.0.2//NONSGML v1.0//EN
CALSCALE:GREGORIAN
METHOD:PUBLISH
X-ORIGINAL-URL:https://www.yvelines-infos.fr
X-WR-CALDESC:Évènements pour Yvelines Infos
REFRESH-INTERVAL;VALUE=DURATION:PT1H
X-Robots-Tag:noindex
X-PUBLISHED-TTL:PT1H
BEGIN:VTIMEZONE
TZID:Europe/Paris
BEGIN:DAYLIGHT
TZOFFSETFROM:+0100
TZOFFSETTO:+0200
TZNAME:CEST
DTSTART:20180325T010000
END:DAYLIGHT
BEGIN:STANDARD
TZOFFSETFROM:+0200
TZOFFSETTO:+0100
TZNAME:CET
DTSTART:20181028T010000
END:STANDARD
END:VTIMEZONE
BEGIN:VEVENT
DTSTART;TZID=Europe/Paris:20180517T203000
DTEND;TZID=Europe/Paris:20180517T223000
DTSTAMP:20260423T020716
CREATED:20180503T134427Z
LAST-MODIFIED:20180503T134427Z
UID:349809-1526589000-1526596200@www.yvelines-infos.fr
SUMMARY:"Baby" au Théâtre Montansier
DESCRIPTION:Isabelle Carré et Bruno Solo jouent dans une comédie douce-amère mettant en scène deux couples au bout du rouleau. L’un en Louisiane\, pauvre parmi les pauvres\, l’autre à Los Angeles\, riche parmi les riches. \n« Ils ont échoué dans un terrain de camping en Louisiane. Pauvres parmi les pauvres de cette Amérique dure aux miséreux\, ils sont au bout du rouleau\, sans boulot\, perdus\, paumés. Ils sont jeunes\, ils s’aiment\, ils attendent leur cinquième enfant. \nIls ont une magnifique maison avec piscine à Los Angeles. Ils  ont un métier valorisant dans le cinéma. Riches parmi les riches\, ils ont tout pour être heureux.\nIls s’aiment\, ils ne peuvent pas avoir d’enfant.\nAu bout du rouleau\, ils passent une annonce dans le journal :\n» Enceinte ? Couple marié\, épanoui\, cultivé et très à l’aise financièrement veut offrir à un enfant blanc en parfaite santé une vie heureuse. Différentes formes d’aides envisageables. Appeler en pcv. « \nWanda et All\, Rachel et Richard\, deux couples inoubliables qui vous empoignent le cœur. »  Hélène Vincent \n \nMise en scène Hélène Vincent avec Isabelle Carré\, Bruno Solo\, Camille Japy\, Vincent Deniard et Cyril Couton\nCoproduction Théâtre de l’Atelier et Théâtre Montansier/Versailles \nTarifs :  \n\nCatégorie A\nSérie 1 : 39 € / Série 2 : 34 €\nAdhérents 32 € / Série 2 : 26 €\nJeunes : 15 €\nDurée : 2h (entracte compris)
URL:https://www.yvelines-infos.fr/agenda/baby-theatre-montansier-3/
LOCATION:Théâtre Montansier\, 13 rue des Réservoirs\, Versailles\, 78000\, France
ATTACH;FMTTYPE=image/jpeg:https://www.yvelines-infos.fr/content/uploads/2018/0515-17-baby.jpg
GEO:48.8080771;2.1242302
X-APPLE-STRUCTURED-LOCATION;VALUE=URI;X-ADDRESS=Théâtre Montansier 13 rue des Réservoirs Versailles 78000 France;X-APPLE-RADIUS=500;X-TITLE=13 rue des Réservoirs:geo:2.1242302,48.8080771
END:VEVENT
END:VCALENDAR