BEGIN:VCALENDAR
VERSION:2.0
PRODID:-//Yvelines Infos - ECPv6.0.2//NONSGML v1.0//EN
CALSCALE:GREGORIAN
METHOD:PUBLISH
X-ORIGINAL-URL:https://www.yvelines-infos.fr
X-WR-CALDESC:Évènements pour Yvelines Infos
REFRESH-INTERVAL;VALUE=DURATION:PT1H
X-Robots-Tag:noindex
X-PUBLISHED-TTL:PT1H
BEGIN:VTIMEZONE
TZID:Europe/Paris
BEGIN:DAYLIGHT
TZOFFSETFROM:+0100
TZOFFSETTO:+0200
TZNAME:CEST
DTSTART:20170326T010000
END:DAYLIGHT
BEGIN:STANDARD
TZOFFSETFROM:+0200
TZOFFSETTO:+0100
TZNAME:CET
DTSTART:20171029T010000
END:STANDARD
END:VTIMEZONE
BEGIN:VEVENT
DTSTART;TZID=Europe/Paris:20170323T080000
DTEND;TZID=Europe/Paris:20170323T170000
DTSTAMP:20260423T084954
CREATED:20170323T102641Z
LAST-MODIFIED:20170323T103001Z
UID:337416-1490256000-1490288400@www.yvelines-infos.fr
SUMMARY:La Fête de la Chanson Française
DESCRIPTION:Arc en Ciel Productions présentent : \nLA FÊTE DE LA CHANSON FRANÇAISE \nUn spectacle musical qui se définit par la mise en valeur de la langue Française\, dansé et chanté en direct par les artistes de la Compagnie Trabucco.\nAprès Piaf… 100 Ans d’Amour\, Vos Années Bonheur et Il était une Fois l’Opérette\, la Compagnie Trabucco présente son nouveau spectacle «La Fête de la Chanson Française»\, une comédie musicale célébrant les tubes des années 50 au début des années 80. \nVous revivrez à travers un spectacle éblouissant mêlant amour\, humour\, et émotion l’une des plus belles périodes de la Chanson Française.\nUn voyage musical où nos artistes (chanteurs – danseurs – comédiens) évoqueront la naissance des premières vedettes du music-hall\, entre la tradition et l’esprit de révolte\, l’héritage de l’élégance et de la gaieté. \nIls célèbreront les grands auteurs compositeurs interprètes qui ont révolutionné les années 50 à travers des textes engagés. Puis les paroles font jeu égal avec l’arrangement orchestral et nous amène à cette génération d’artistes appelée « Yé-yé » qui va mettre à mal le «Music-hall de Papa » ! Le public a le même âge que ses idoles. Les années 60 confirment le talent de Brassens\, Aznavour\, Brel et autres. Charles Trenet est toujours le fou chantant\, Yves Montand se recycle acteur mais n’en a pas fini avec la chanson. Le charme d’un Tino opère encore et Chevalier porte toujours le canotier. Edith devient à jamais la « grande dame » de la chanson Française. Ces années voient Brel au sommet de son art\, l’explosion lyrique de Ferré et l’avénement de Barbara\, Jean Ferrat\, Juliette Gréco\, Serge Gainsbourg\, Dalida\, etc. \nVous l’aurez compris\, tour à tour festives\, engagées ou plus consensuelles\, les chansons de ces décennies ont marqué plusieurs générations. Les artistes de la Compagnie Trabucco sont réunis une nouvelle fois sur scène afin de vous faire redécouvrir l’âge d’or de la variété française. \nTarifs : \nIndividuel : 27 €\nGroupe : 25 € (à partir de 10 personnes payantes)\n(hors frais de location) \nRéservations :\nAux points de vente habituels (FNAC\, Ticketnet…)\nGroupes\, PMR : Arc en Ciel Productions (02 35 86 85 00)
URL:https://www.yvelines-infos.fr/agenda/fete-de-chanson-francaise/
LOCATION:Théâtre Molière // Poissy\,  Place de la République\, Poissy\, 78300 \, France
ATTACH;FMTTYPE=image/jpeg:https://www.yvelines-infos.fr/content/uploads/2017/affiche-lfcf-hd.jpg
GEO:48.928361;2.043356
X-APPLE-STRUCTURED-LOCATION;VALUE=URI;X-ADDRESS=Théâtre Molière // Poissy  Place de la République Poissy 78300  France;X-APPLE-RADIUS=500;X-TITLE=Place de la République:geo:2.043356,48.928361
END:VEVENT
END:VCALENDAR