BEGIN:VCALENDAR
VERSION:2.0
PRODID:-//Yvelines Infos - ECPv6.0.2//NONSGML v1.0//EN
CALSCALE:GREGORIAN
METHOD:PUBLISH
X-WR-CALNAME:Yvelines Infos
X-ORIGINAL-URL:https://www.yvelines-infos.fr
X-WR-CALDESC:Évènements pour Yvelines Infos
REFRESH-INTERVAL;VALUE=DURATION:PT1H
X-Robots-Tag:noindex
X-PUBLISHED-TTL:PT1H
BEGIN:VTIMEZONE
TZID:Europe/Paris
BEGIN:DAYLIGHT
TZOFFSETFROM:+0100
TZOFFSETTO:+0200
TZNAME:CEST
DTSTART:20220327T010000
END:DAYLIGHT
BEGIN:STANDARD
TZOFFSETFROM:+0200
TZOFFSETTO:+0100
TZNAME:CET
DTSTART:20221030T010000
END:STANDARD
END:VTIMEZONE
BEGIN:VEVENT
DTSTART;TZID=Europe/Paris:20220215T193000
DTEND;TZID=Europe/Paris:20220215T193000
DTSTAMP:20260423T015621
CREATED:20211220T101502Z
LAST-MODIFIED:20211220T101502Z
UID:381861-1644953400-1644953400@www.yvelines-infos.fr
SUMMARY:BON DÉBARRAS !
DESCRIPTION:La compagnie belge Alula fait vivre un siècle d’histoire sous un escalier. De 1900 à nos jours : une maison\, un escalier\, un débarras et des moments de vie piochés sans chronologie dans cet espace insolite. Des années séparent ses jeunes occupants\, pourtant leurs jeux\, leurs émotions et leurs aspirations se ressemblent. Par le trou de la serrure\, dans les coulisses des petits et grands drames\, notre œil observe des histoires choisies qui ont marqué les habitants de la maison. Peu à peu\, le fil se tisse\, chacun et chacune ayant laissé une  trace pour les occupants suivants. Bon débarras ! est un spectacle qui célèbre nos enfances\, celles de nos parents et de nos grands-mères. Un petit bijou d’émotion !
URL:https://www.yvelines-infos.fr/agenda/bon-debarras/
LOCATION:Théatre du Vésinet\, 59 bd Carnot\, Le Vésinet\, 78110\, France
ATTACH;FMTTYPE=image/jpeg:https://www.yvelines-infos.fr/content/uploads/2021/20-bon-debarras-1-1-1200x600-1.jpg
ORGANIZER;CN="Th%C3%A9%C3%A2tre%20du%20V%C3%A9sinet":MAILTO:lvannucci.vesinet@orange.fr
GEO:48.8937763;2.1344153
X-APPLE-STRUCTURED-LOCATION;VALUE=URI;X-ADDRESS=Théatre du Vésinet 59 bd Carnot Le Vésinet 78110 France;X-APPLE-RADIUS=500;X-TITLE=59 bd Carnot:geo:2.1344153,48.8937763
END:VEVENT
BEGIN:VEVENT
DTSTART;TZID=Europe/Paris:20220217T204500
DTEND;TZID=Europe/Paris:20220217T204500
DTSTAMP:20260423T015621
CREATED:20211220T101412Z
LAST-MODIFIED:20211220T101412Z
UID:381867-1645130700-1645130700@www.yvelines-infos.fr
SUMMARY:CAMARADES
DESCRIPTION:COMPAGNIE LES MALADROITS \nÀ la croisée de l’intime et du documentaire\, ce passionnant théâtre d’objets mêle petite et grande Histoire. À partir de témoignages de leurs parents et d’objets leur ayant appartenus\, les quatre co-auteurs dessinent le portrait de Colette\, figure féministe et engagée pendant les Trente Glorieuses. Née au lendemain de la Seconde Guerre mondiale à Saint-Nazaire\, étudiante à Nantes en mai 68\, voyageuse aussi\, elle devient adulte au moment de la plus grande grève générale en France\, du début des mouvements féministes et de l’opposition à la guerre du Vietnam…Tricotant les fils de sa biographie et ceux de l’histoire sociale\, les comédiens de cette belle compagnie unissent leurs forces\, leurs talents et leur art de détourner les objets ordinaires pour nous conter l’histoire d’une époque\,  d’une génération dont nous sommes les héritiers.
URL:https://www.yvelines-infos.fr/agenda/camarades/
LOCATION:Théatre du Vésinet\, 59 bd Carnot\, Le Vésinet\, 78110\, France
ATTACH;FMTTYPE=image/jpeg:https://www.yvelines-infos.fr/content/uploads/2021/camarades-1200x600-1.jpg
ORGANIZER;CN="Th%C3%A9%C3%A2tre%20du%20V%C3%A9sinet":MAILTO:lvannucci.vesinet@orange.fr
GEO:48.8937763;2.1344153
X-APPLE-STRUCTURED-LOCATION;VALUE=URI;X-ADDRESS=Théatre du Vésinet 59 bd Carnot Le Vésinet 78110 France;X-APPLE-RADIUS=500;X-TITLE=59 bd Carnot:geo:2.1344153,48.8937763
END:VEVENT
BEGIN:VEVENT
DTSTART;TZID=Europe/Paris:20220222T204500
DTEND;TZID=Europe/Paris:20220222T204500
DTSTAMP:20260423T015621
CREATED:20211220T101510Z
LAST-MODIFIED:20211220T101510Z
UID:381859-1645562700-1645562700@www.yvelines-infos.fr
SUMMARY:MOMENTOS
DESCRIPTION:« Danser est mon langage\, le flamenco est ma voix. »\nEntourée de deux danseurs et quatre musiciens\, Valérie Ortiz bouscule les codes du flamenco traditionnel en y invitant l’accordéon. Momentos c’est l’envie de danser\, de respirer\, d’échanger\, de vivre l’instant. À travers le langage du corps et la puissance du geste\, ce spectacle nous livre l’émotion d’une rencontre. Pour l’une de ses chorégraphies\, elle a fait appel au directeur artistique dy Ballet National d’Espagne\, Antonio Najarra\, lui-même danseur et chorégraphe reconnu. Les lumières\, créées au sein de notre théâtre lors de leur résidence\, dévoilent un écrin dans lequel l’émotion nous touchera en plein cœur. Un spectacle passionnant\, virevoltant et percutant comme un pas de flamenco. \nDurée : 1h30
URL:https://www.yvelines-infos.fr/agenda/momentos/
LOCATION:Théatre du Vésinet\, 59 bd Carnot\, Le Vésinet\, 78110\, France
ATTACH;FMTTYPE=image/jpeg:https://www.yvelines-infos.fr/content/uploads/2021/34-momentos-1-1-1200x600-1.jpg
ORGANIZER;CN="Th%C3%A9%C3%A2tre%20du%20V%C3%A9sinet":MAILTO:lvannucci.vesinet@orange.fr
GEO:48.8937763;2.1344153
X-APPLE-STRUCTURED-LOCATION;VALUE=URI;X-ADDRESS=Théatre du Vésinet 59 bd Carnot Le Vésinet 78110 France;X-APPLE-RADIUS=500;X-TITLE=59 bd Carnot:geo:2.1344153,48.8937763
END:VEVENT
END:VCALENDAR