BEGIN:VCALENDAR
VERSION:2.0
PRODID:-//Yvelines Infos - ECPv6.0.2//NONSGML v1.0//EN
CALSCALE:GREGORIAN
METHOD:PUBLISH
X-ORIGINAL-URL:https://www.yvelines-infos.fr
X-WR-CALDESC:Évènements pour Yvelines Infos
REFRESH-INTERVAL;VALUE=DURATION:PT1H
X-Robots-Tag:noindex
X-PUBLISHED-TTL:PT1H
BEGIN:VTIMEZONE
TZID:Europe/Paris
BEGIN:DAYLIGHT
TZOFFSETFROM:+0100
TZOFFSETTO:+0200
TZNAME:CEST
DTSTART:20170326T010000
END:DAYLIGHT
BEGIN:STANDARD
TZOFFSETFROM:+0200
TZOFFSETTO:+0100
TZNAME:CET
DTSTART:20171029T010000
END:STANDARD
BEGIN:DAYLIGHT
TZOFFSETFROM:+0100
TZOFFSETTO:+0200
TZNAME:CEST
DTSTART:20180325T010000
END:DAYLIGHT
BEGIN:STANDARD
TZOFFSETFROM:+0200
TZOFFSETTO:+0100
TZNAME:CET
DTSTART:20181028T010000
END:STANDARD
END:VTIMEZONE
BEGIN:VEVENT
DTSTART;TZID=Europe/Paris:20171110T204500
DTEND;TZID=Europe/Paris:20171110T230000
DTSTAMP:20260423T054813
CREATED:20171009T084401Z
LAST-MODIFIED:20171009T084401Z
UID:344332-1510346700-1510354800@www.yvelines-infos.fr
SUMMARY:Théâtre : Combat\, (1944-1945) Albert Camus et la pratique de l'idéal
DESCRIPTION:Le 21 août 1944\, en pleine insurrection parisienne\, Combat paraît\, après les années de résistance. Avec Albert Camus\, Pascal Pia et cinq autres de l’équipe du journal\, on va vivre la Libération et l’année qui l’a suivie. Une France nouvelle est à reconstruire\, mais laquelle ? \nL’autorité exceptionnelle du général de Gaulle n’efface pas les divisions héritées de la défaite et de la collaboration.\nLes combinaisons politiciennes et les intérêts reviennent inexorablement. Dans l’équipe\, les discussions sont passionnées\, mêlant professionnels\, écrivains\, étudiants.\n70 ans après\, ce qu’ils ont vécu\, ce que Camus a écrit et inspiré continue de tracer les voies exigeantes et -hélas- toujours actuelles d’une pratique de l’idéal. \nCOMBAT (1944 – 1945) Albert Camus et la pratique de l’idéal\nde Denis Randet\nThéâtre\nCie Et Plus Si Affinités\nMise en scène : Clémence Carayol
URL:https://www.yvelines-infos.fr/agenda/theatre-combat-1944-1945-albert-camus-pratique-de-lideal/
LOCATION:Théâtre du Grenier // Bougival\,  7 rue du Général Leclerc \, Bougival\, 78380 \, France
ATTACH;FMTTYPE=image/jpeg:https://www.yvelines-infos.fr/content/uploads/2017/TRACT-COMBAT-.jpg
GEO:48.8662549;2.1384266
X-APPLE-STRUCTURED-LOCATION;VALUE=URI;X-ADDRESS=Théâtre du Grenier // Bougival  7 rue du Général Leclerc  Bougival 78380  France;X-APPLE-RADIUS=500;X-TITLE=7 rue du Général Leclerc:geo:2.1384266,48.8662549
END:VEVENT
BEGIN:VEVENT
DTSTART;TZID=Europe/Paris:20171125T204500
DTEND;TZID=Europe/Paris:20171125T230000
DTSTAMP:20260423T054813
CREATED:20171009T083113Z
LAST-MODIFIED:20171009T083113Z
UID:344334-1511642700-1511650800@www.yvelines-infos.fr
SUMMARY:Théâtre :  Le médecin malgré lui
DESCRIPTION:Martine\, épouse battue\, imagine de se venger de son mari Sganarelle en le faisant passer pour un grand médecin un peu fantasque qui n’accepte de soigner les malades qu’après avoir été roué de coups. Justement\, Géronte est à la recherche d’un médecin capable. \nLa célèbre farce de Molière est revisitée par la Compagnie du Lézard Bleu dans un esprit qui révèle au public la vie d’une troupe itinérante au XVIIème siècle. Chandelles\, costumes et postiches donnent au chef d’œuvre de Molière tout son sens burlesque.\nMise en scène : Anne-Sophie Nédélec\nCie Le Lézard Bleu \n 
URL:https://www.yvelines-infos.fr/agenda/theatre-medecin-malgre-lui/2017-11-25/
LOCATION:Théâtre du Grenier // Bougival\,  7 rue du Général Leclerc \, Bougival\, 78380 \, France
GEO:48.8662549;2.1384266
X-APPLE-STRUCTURED-LOCATION;VALUE=URI;X-ADDRESS=Théâtre du Grenier // Bougival  7 rue du Général Leclerc  Bougival 78380  France;X-APPLE-RADIUS=500;X-TITLE=7 rue du Général Leclerc:geo:2.1384266,48.8662549
END:VEVENT
BEGIN:VEVENT
DTSTART;TZID=Europe/Paris:20171208T080000
DTEND;TZID=Europe/Paris:20171208T170000
DTSTAMP:20260423T054813
CREATED:20171208T154924Z
LAST-MODIFIED:20171208T154924Z
UID:346116-1512720000-1512752400@www.yvelines-infos.fr
SUMMARY:Théâtre : Les feux de poitrine
DESCRIPTION:13 comédiens de 7 à 70 ans vous emmèneront avec eux à travers six fêtes pour rester vivants : une fête pour celui qui revient de loin et qu’on ne veut plus perdre\, un mariage où l’on se rencontre et se plaît… Peut-être\, la fête de la victoire jusqu’à la liesse autour d’un feu sur une plage. Les Feux de poitrine sont une suite de nouvelles poétiques et théâtrales\, instantanés sur des moments que l’on s’efforce de rendre collectivement hors du commun\, dans un bras de fer permanent avec la mélancolie. \nDe Mariette Navarro\nCompagnie Grains de Scène
URL:https://www.yvelines-infos.fr/agenda/theatre-feux-de-poitrine/
LOCATION:Théâtre du Grenier // Bougival\,  7 rue du Général Leclerc \, Bougival\, 78380 \, France
ORGANIZER;CN="BOUGIVAL":MAILTO:reservation.grenier@ville-bougival.fr
GEO:48.8662549;2.1384266
X-APPLE-STRUCTURED-LOCATION;VALUE=URI;X-ADDRESS=Théâtre du Grenier // Bougival  7 rue du Général Leclerc  Bougival 78380  France;X-APPLE-RADIUS=500;X-TITLE=7 rue du Général Leclerc:geo:2.1384266,48.8662549
END:VEVENT
BEGIN:VEVENT
DTSTART;TZID=Europe/Paris:20180519T204500
DTEND;TZID=Europe/Paris:20180519T223000
DTSTAMP:20260423T054813
CREATED:20180514T104015Z
LAST-MODIFIED:20180514T104039Z
UID:349934-1526762700-1526769000@www.yvelines-infos.fr
SUMMARY:Le Ruban
DESCRIPTION:Le Ruban\, c’est un spectacle de musique\, de chant et de danse\, avec des créatures insolites\, poétiques\, des femmes au ruban\, tragiques\, comiques… des grands chemins\, des tranches de vie… Et mieux encore\, c’est la femme et l’homme\, c’est la vie. \nIls sont nombreux les vocables qui\, du tremplin au rade (qui furent la rue ou la route avant d’être le café)\, ont désigné le trottoir\, en passant par le truc\, ou encore le turf. Le ruban est celui que l’on préfère…\nIl concerne les grands chemins\, de la vie\, du vice\, de la femme\, de l’amour… « J’en ai vu de toutes les couleurs sur le ruban » disait\nCasque d’Or. Il est rouge vif\, en velours autour du cou des femmes\, il est décoration…\nEt le monde du ruban soulève un étrange et douloureux intérêt\, ainsi qu’un sentiment bizarre\, répulsif et tentant… \nLE RUBAN de Sophie Jolis\nChorégraphie : Stéphane Ripon \nThéâtre – Danse – Chansons
URL:https://www.yvelines-infos.fr/agenda/le-ruban/
LOCATION:Théâtre du Grenier // Bougival\,  7 rue du Général Leclerc \, Bougival\, 78380 \, France
ATTACH;FMTTYPE=image/jpeg:https://www.yvelines-infos.fr/content/uploads/2018/tract-le-ruban-def-copie.jpg
ORGANIZER;CN="BOUGIVAL":MAILTO:reservation.grenier@ville-bougival.fr
GEO:48.8662549;2.1384266
X-APPLE-STRUCTURED-LOCATION;VALUE=URI;X-ADDRESS=Théâtre du Grenier // Bougival  7 rue du Général Leclerc  Bougival 78380  France;X-APPLE-RADIUS=500;X-TITLE=7 rue du Général Leclerc:geo:2.1384266,48.8662549
END:VEVENT
BEGIN:VEVENT
DTSTART;TZID=Europe/Paris:20180602T204500
DTEND;TZID=Europe/Paris:20180602T223000
DTSTAMP:20260423T054813
CREATED:20180514T143821Z
LAST-MODIFIED:20180514T143821Z
UID:350125-1527972300-1527978600@www.yvelines-infos.fr
SUMMARY:"Sur la Grand-Route" de Tchekhov à Bougival
DESCRIPTION:Dans les années 1880\, par une nuit d’orage\, quelque part dans la steppe d’une province russe\, la taverne de Tikhone abrite des personnages aussi hauts en couleurs qu’hétéroclites dont les drames se nouent\, se dénouent\, se dévoilent ou se devinent sur fond de mysticisme\, d’alcoolisme\, de misogynie et d’utopie. \nreservation.grenier@ville-bougival.fr\n01 39 69 03 03 \nSUR LA GRAND-ROUTE\nD’Anton Tchekhov\nCie Grains de Scène
URL:https://www.yvelines-infos.fr/agenda/grand-route-de-tchekhov-a-bougival-2/
LOCATION:Théâtre du Grenier // Bougival\,  7 rue du Général Leclerc \, Bougival\, 78380 \, France
ATTACH;FMTTYPE=image/jpeg:https://www.yvelines-infos.fr/content/uploads/2018/sur-la-grand-route-copie.jpg
ORGANIZER;CN="BOUGIVAL":MAILTO:reservation.grenier@ville-bougival.fr
GEO:48.8662549;2.1384266
X-APPLE-STRUCTURED-LOCATION;VALUE=URI;X-ADDRESS=Théâtre du Grenier // Bougival  7 rue du Général Leclerc  Bougival 78380  France;X-APPLE-RADIUS=500;X-TITLE=7 rue du Général Leclerc:geo:2.1384266,48.8662549
END:VEVENT
BEGIN:VEVENT
DTSTART;TZID=Europe/Paris:20180603T204500
DTEND;TZID=Europe/Paris:20180603T223000
DTSTAMP:20260423T054813
CREATED:20180514T144053Z
LAST-MODIFIED:20180514T144053Z
UID:350127-1528058700-1528065000@www.yvelines-infos.fr
SUMMARY:"Sur la Grand-Route" de Tchekhov à Bougival
DESCRIPTION:Dans les années 1880\, par une nuit d’orage\, quelque part dans la steppe d’une province russe\, la taverne de Tikhone abrite des personnages aussi hauts en couleurs qu’hétéroclites dont les drames se nouent\, se dénouent\, se dévoilent ou se devinent sur fond de mysticisme\, d’alcoolisme\, de misogynie et d’utopie. \nreservation.grenier@ville-bougival.fr\n01 39 69 03 03 \nSUR LA GRAND-ROUTE\nD’Anton Tchekhov\nCie Grains de Scène
URL:https://www.yvelines-infos.fr/agenda/grand-route-de-tchekhov-a-bougival/
LOCATION:Théâtre du Grenier // Bougival\,  7 rue du Général Leclerc \, Bougival\, 78380 \, France
ATTACH;FMTTYPE=image/jpeg:https://www.yvelines-infos.fr/content/uploads/2018/sur-la-grand-route-copie.jpg
ORGANIZER;CN="BOUGIVAL":MAILTO:reservation.grenier@ville-bougival.fr
GEO:48.8662549;2.1384266
X-APPLE-STRUCTURED-LOCATION;VALUE=URI;X-ADDRESS=Théâtre du Grenier // Bougival  7 rue du Général Leclerc  Bougival 78380  France;X-APPLE-RADIUS=500;X-TITLE=7 rue du Général Leclerc:geo:2.1384266,48.8662549
END:VEVENT
BEGIN:VEVENT
DTSTART;TZID=Europe/Paris:20180928T204500
DTEND;TZID=Europe/Paris:20180928T223000
DTSTAMP:20260423T054813
CREATED:20180912T085207Z
LAST-MODIFIED:20180912T085230Z
UID:352498-1538167500-1538173800@www.yvelines-infos.fr
SUMMARY:LE SACRE DU PRINTEMPS
DESCRIPTION:Le chorégraphe Stéphane Ripon\, aborde d’une manière très personnelle l’illustration chorégraphique du chef d’oeuvre musical de Stravinsky. \nLa musique est source d’inspiration. Elle plonge les interprètes dans une recherche presque animale. \nBallet contemporain pour 3 danseurs\, le mythe est traité d’une manière très moderne. Il n’y a pas « l’élue » mais\, « des élues ». Il ne s’agit pas d’un sacrifice mais seulement d’un « passage ». Qui sera l’élue ?\nAvec seulement trois interprètes\, le travail chorégraphique s’oriente autour de l’intime\, et met en exergue\, tout en créant un univers très contemporain\, le rapport qui existe entre cette partition musicale et le mouvement incontrôlé. Il échappe à la raison et prend sa source à travers cette musique percussive. \nreservation.grenier@ville-bougival.fr\n01 39 69 03 03
URL:https://www.yvelines-infos.fr/agenda/le-sacre-du-printemps/2018-09-28/
LOCATION:Théâtre du Grenier // Bougival\,  7 rue du Général Leclerc \, Bougival\, 78380 \, France
ATTACH;FMTTYPE=image/jpeg:https://www.yvelines-infos.fr/content/uploads/2018/tract-le-sacre.jpg
ORGANIZER;CN="BOUGIVAL":MAILTO:reservation.grenier@ville-bougival.fr
GEO:48.8662549;2.1384266
X-APPLE-STRUCTURED-LOCATION;VALUE=URI;X-ADDRESS=Théâtre du Grenier // Bougival  7 rue du Général Leclerc  Bougival 78380  France;X-APPLE-RADIUS=500;X-TITLE=7 rue du Général Leclerc:geo:2.1384266,48.8662549
END:VEVENT
END:VCALENDAR