BEGIN:VCALENDAR
VERSION:2.0
PRODID:-//Yvelines Infos - ECPv6.0.2//NONSGML v1.0//EN
CALSCALE:GREGORIAN
METHOD:PUBLISH
X-WR-CALNAME:Yvelines Infos
X-ORIGINAL-URL:https://www.yvelines-infos.fr
X-WR-CALDESC:Évènements pour Yvelines Infos
REFRESH-INTERVAL;VALUE=DURATION:PT1H
X-Robots-Tag:noindex
X-PUBLISHED-TTL:PT1H
BEGIN:VTIMEZONE
TZID:Europe/Paris
BEGIN:DAYLIGHT
TZOFFSETFROM:+0100
TZOFFSETTO:+0200
TZNAME:CEST
DTSTART:20190331T010000
END:DAYLIGHT
BEGIN:STANDARD
TZOFFSETFROM:+0200
TZOFFSETTO:+0100
TZNAME:CET
DTSTART:20191027T010000
END:STANDARD
END:VTIMEZONE
BEGIN:VEVENT
DTSTART;TZID=Europe/Paris:20191012T203000
DTEND;TZID=Europe/Paris:20191012T223000
DTSTAMP:20260423T085943
CREATED:20190926T111147Z
LAST-MODIFIED:20190926T111147Z
UID:362160-1570912200-1570919400@www.yvelines-infos.fr
SUMMARY:Les journées Ravel 2019 au théâtre du CML
DESCRIPTION:Les Percussions Claviers de Lyon et la pianiste Hélène Tysman ont imaginé ce programme trans-atlantique\, de l’Espagne rêvée de Ravel au Broadway de Gershwin\, une bonne façon de nous rappeler que Ravel et Gershwin se rencontrèrent à New-York en 1928 ! Cinq percussionnistes et une pianiste\, à n’en pas douter la soirée sera spectaculaire ! \nMaurice Ravel – Concerto en sol\, Rhapsodie espagnole\nGeorge Gershwin – Rhapsodie in blue \n 
URL:https://www.yvelines-infos.fr/agenda/les-journees-ravel-2019-au-theatre-du-cml/
LOCATION:Théâtre du CML\, 3 Place de Nickenich\, Montfort-l'Amaury\, 78490\, France
ATTACH;FMTTYPE=image/jpeg:https://www.yvelines-infos.fr/content/uploads/2019/64232991-583526542173963-6798856302408761344-o.jpg
END:VEVENT
END:VCALENDAR