BEGIN:VCALENDAR
VERSION:2.0
PRODID:-//Yvelines Infos - ECPv6.0.2//NONSGML v1.0//EN
CALSCALE:GREGORIAN
METHOD:PUBLISH
X-ORIGINAL-URL:https://www.yvelines-infos.fr
X-WR-CALDESC:Évènements pour Yvelines Infos
REFRESH-INTERVAL;VALUE=DURATION:PT1H
X-Robots-Tag:noindex
X-PUBLISHED-TTL:PT1H
BEGIN:VTIMEZONE
TZID:Europe/Paris
BEGIN:DAYLIGHT
TZOFFSETFROM:+0100
TZOFFSETTO:+0200
TZNAME:CEST
DTSTART:20170326T010000
END:DAYLIGHT
BEGIN:STANDARD
TZOFFSETFROM:+0200
TZOFFSETTO:+0100
TZNAME:CET
DTSTART:20171029T010000
END:STANDARD
END:VTIMEZONE
BEGIN:VEVENT
DTSTART;TZID=Europe/Paris:20170709T090000
DTEND;TZID=Europe/Paris:20170824T170000
DTSTAMP:20260422T195901
CREATED:20170609T141940Z
LAST-MODIFIED:20170609T141957Z
UID:340183-1499590800-1503594000@www.yvelines-infos.fr
SUMMARY:Stage d'été Football USPECQ (78)
DESCRIPTION:Comme l’année précédente\, nous maintenons pour l’année 2017-2018 les stages de fin de saisons avant la reprise…sous réserve de l’adhésion et la participation d’un grand nombre de licenciés ou de non-licenciés à nos dispositifs sportifs!\nA qui s’adresse ce stage ?\nAux enfants de 4 Ã  14 ans\, qu’ils soient débutants ou affiliés à  un club.\nEncadrement\nLes enfants seront encadrés par des entraîneurs diplômés.\nQuand ?\nPériode de juillet et août proposées.\nHoraire du stage : de 9 à 17 heures.\nPrix\nLe droit d’inscription s’élèvera 90 euros pour le premier enfant et à 80 euros\, à partir du second enfant de la même famille (ou au tarif de 15 euros par journée complète).\nStage en demi-journée possible (sans repas du midi 13h30-17h00 mais goûter inclus) au tarif de 50 euros  5 jours ou 10 euros par 1/2 journée.\nLe déjeuner et goûter est compris pour les participants en journée complète à notre stage! \nSi toutefois le nombre d’inscrits n’était pas suffisant pour le fonctionnement et l’organisation de ces stages\, le club se réserve le droit d’annuler ces stages. \nEté 2017\nStage n°1- Du 10 au 15 juillet 2017\nStage n°2 – Du 17 au 22 juillet 2017\nStage n°3 – Du 24 au 29 juillet 2017\nStage n°4 – Du 31 juillet au 5 août 2017\nStage n°5 – Du 7 au 12 août 2017\nStage n°6 – Du 14 au 19 août 2017 \nEn cas d’annulation et de non-participation d’un candidat\, la somme versée pour l’inscription sera automatiquement retenue pour frais de dossier.\nEn cas d’annulation dans les 15 jours qui précèdent le stage\, la totalité des sommes versées sera remboursées.\nRenseignements au Secrétariat de l’US PECQ Football
URL:https://www.yvelines-infos.fr/agenda/stage-dete-football-uspecq-78/
LOCATION:Stade Louis Raffegeau 78230 LE PECQ\, 3 avenue de la libération\, LE PECQ\, 78230\, France
ATTACH;FMTTYPE=image/jpeg:https://www.yvelines-infos.fr/content/uploads/2017/stageete.jpg
ORGANIZER;CN="uspecq%20football":MAILTO:uslepecq@footeo.com
END:VEVENT
END:VCALENDAR