BEGIN:VCALENDAR
VERSION:2.0
PRODID:-//Yvelines Infos - ECPv6.0.2//NONSGML v1.0//EN
CALSCALE:GREGORIAN
METHOD:PUBLISH
X-ORIGINAL-URL:https://www.yvelines-infos.fr
X-WR-CALDESC:Évènements pour Yvelines Infos
REFRESH-INTERVAL;VALUE=DURATION:PT1H
X-Robots-Tag:noindex
X-PUBLISHED-TTL:PT1H
BEGIN:VTIMEZONE
TZID:Europe/Paris
BEGIN:DAYLIGHT
TZOFFSETFROM:+0100
TZOFFSETTO:+0200
TZNAME:CEST
DTSTART:20190331T010000
END:DAYLIGHT
BEGIN:STANDARD
TZOFFSETFROM:+0200
TZOFFSETTO:+0100
TZNAME:CET
DTSTART:20191027T010000
END:STANDARD
END:VTIMEZONE
BEGIN:VEVENT
DTSTART;VALUE=DATE:20190511
DTEND;VALUE=DATE:20190512
DTSTAMP:20260422T213248
CREATED:20190312T093748Z
LAST-MODIFIED:20190312T093748Z
UID:356393-1557532800-1557619199@www.yvelines-infos.fr
SUMMARY:Run & Bike de Maurepas
DESCRIPTION:Inscriptions au 4 e Run & Bike de Maurepas La 4 e édition du Run & Bike de Maurepas\, épreuve mariant la course à pied et la course cycliste\, se déroulera samedi 11 mai 2019. Les départs seront donnés du stade du Bois (place d’Henstedt-Ulzburg) de 15 h à 17 h. \nCette année\, la manifestation évolue avec l’organisation de 2 courses visant à rassembler le public familial (les parents avec les enfants et les ados). \nAinsi\, un parcours de 5 km a été tracé pour les 10 – 13 ans et pour les 14 – 17 ans. Les départs se feront du stade du Bois puis les participants descendront vers le bassin de la Courance et remonteront jusqu’au stade. Les équipes 1 enfant + 1 adulte partiront à 15 h ; Les équipes formées par 1 enfant + 1 adulte ou 2 adolescents s’élanceront à 15 h 15. Les inscriptions (gratuites) se font le jour même sur place\, de 14 h à 14 h 45. \nLe départ du Run & Bike (16 km) sera donné à 17 h. Les inscriptions se font via le site internet\, du 25 mars au 5 mai\, ou le jour même\, de 15 h 30 à 16 h 30. L’inscription s’élèvera à 25 € par équipe (à l’ordre du Trésor Public). La course est accessible à tous à partir de 16 ans\, licenciés ou non. L’épreuve se dispute par équipe de 2 (mixité possible). Pour l’inscription\, il faut joindre une copie d’une licence sportive ou d’un certificat médical d’aptitude au triathlon ou au « Run and Bike » de moins d’1 an. \nPOUR S’INSCRIRE maurepas.fr – Espace citoyen du 25/03 au 05/05/2019 Il sera possible de s’inscrire sur place le jour même de 15 h 30 à 16 h 30.
URL:https://www.yvelines-infos.fr/agenda/run-bike-de-maurepas/
LOCATION:STADE DU BOIS\, Place Henstedt Ulzburg\, Maurepas\, 78310\, France
ATTACH;FMTTYPE=image/jpeg:https://www.yvelines-infos.fr/content/uploads/2019/mau-8114.jpg
ORGANIZER;CN="Maurepas":MAILTO:accueilmairie@maurepas.fr
END:VEVENT
END:VCALENDAR