BEGIN:VCALENDAR
VERSION:2.0
PRODID:-//Yvelines Infos - ECPv6.0.2//NONSGML v1.0//EN
CALSCALE:GREGORIAN
METHOD:PUBLISH
X-ORIGINAL-URL:https://www.yvelines-infos.fr
X-WR-CALDESC:Évènements pour Yvelines Infos
REFRESH-INTERVAL;VALUE=DURATION:PT1H
X-Robots-Tag:noindex
X-PUBLISHED-TTL:PT1H
BEGIN:VTIMEZONE
TZID:Europe/Paris
BEGIN:DAYLIGHT
TZOFFSETFROM:+0100
TZOFFSETTO:+0200
TZNAME:CEST
DTSTART:20180325T010000
END:DAYLIGHT
BEGIN:STANDARD
TZOFFSETFROM:+0200
TZOFFSETTO:+0100
TZNAME:CET
DTSTART:20181028T010000
END:STANDARD
BEGIN:DAYLIGHT
TZOFFSETFROM:+0100
TZOFFSETTO:+0200
TZNAME:CEST
DTSTART:20190331T010000
END:DAYLIGHT
BEGIN:STANDARD
TZOFFSETFROM:+0200
TZOFFSETTO:+0100
TZNAME:CET
DTSTART:20191027T010000
END:STANDARD
BEGIN:DAYLIGHT
TZOFFSETFROM:+0100
TZOFFSETTO:+0200
TZNAME:CEST
DTSTART:20200329T010000
END:DAYLIGHT
BEGIN:STANDARD
TZOFFSETFROM:+0200
TZOFFSETTO:+0100
TZNAME:CET
DTSTART:20201025T010000
END:STANDARD
BEGIN:DAYLIGHT
TZOFFSETFROM:+0100
TZOFFSETTO:+0200
TZNAME:CEST
DTSTART:20210328T010000
END:DAYLIGHT
BEGIN:STANDARD
TZOFFSETFROM:+0200
TZOFFSETTO:+0100
TZNAME:CET
DTSTART:20211031T010000
END:STANDARD
BEGIN:DAYLIGHT
TZOFFSETFROM:+0100
TZOFFSETTO:+0200
TZNAME:CEST
DTSTART:20220327T010000
END:DAYLIGHT
BEGIN:STANDARD
TZOFFSETFROM:+0200
TZOFFSETTO:+0100
TZNAME:CET
DTSTART:20221030T010000
END:STANDARD
END:VTIMEZONE
BEGIN:VEVENT
DTSTART;TZID=Europe/Paris:20180627T180000
DTEND;TZID=Europe/Paris:20180627T200000
DTSTAMP:20260423T153613
CREATED:20180625T092836Z
LAST-MODIFIED:20180625T092836Z
UID:351230-1530122400-1530129600@www.yvelines-infos.fr
SUMMARY:Rencontres de l’écoconstruction en Ile de France Ouest consacrées sur les matériaux de structures biosourcés
DESCRIPTION:Les biomatériaux ont réussi leur entrée dans le second-œuvre. Mais qu’en est-il au niveau de la structure d’un bâtiment ? \nDe nouveaux systèmes constructifs se développent. \nParmi eux\, des blocs de béton de bois ou de béton de Miscanthus\, voire des blocs en bois\, deviennent des alternatives aux blocs béton ou terre cuite traditionnels. \n– Maîtres d’ouvrages\, publics ou privés\, en résidentiel – collectif ou  individuel – ou non résidentiel ; \n– Maîtres d’œuvre\, assistants maîtres d’ouvrage ou professionnels du bâtiment. \n  \nPrésentation des : \n– Bloc de construction à base de béton de bois \n– Bloc de béton de miscanthus \n– Construction préfabriquée et/ou modulaire bois \npar : \n– Olivier PAYEN Directeur prescription Ile de France du Groupe ALKERN \n– Bernard COURTIN Délégué Général de BIOMIS G3\, association des acteurs de la  filière Miscanthus \n– Nicolas HERY\, Responsable technique et chargé d’affaires pour les bâtiments tertiaires et collectifs du Groupe RENOU \n– Xavier COLIN\, Responsable Ventes Kerto LVL\, Construction Hors-site  METSÄ WOOD \n  \nAccueil à partir de 17h30  \nParticipation gratuite\, sur réservation obligatoire pour votre meilleur accueil
URL:https://www.yvelines-infos.fr/agenda/rencontres-de-lecoconstruction-ile-de-france-ouest-consacrees-materiaux-de-structures-biosources/
LOCATION:Seinergy Lab\, 53 avenue Paul Raoult\, Les Mureaux\, 78130\, France
GEO:48.9898992;1.9136635
X-APPLE-STRUCTURED-LOCATION;VALUE=URI;X-ADDRESS=Seinergy Lab 53 avenue Paul Raoult Les Mureaux 78130 France;X-APPLE-RADIUS=500;X-TITLE=53 avenue Paul Raoult:geo:1.9136635,48.9898992
END:VEVENT
BEGIN:VEVENT
DTSTART;VALUE=DATE:20210601
DTEND;VALUE=DATE:20220601
DTSTAMP:20260423T153613
CREATED:20210625T130224Z
LAST-MODIFIED:20210924T131140Z
UID:376869-1622505600-1654041599@www.yvelines-infos.fr
SUMMARY:Accédez au replay et aux ressources de la Journée des Métiers De Demain durant 1 an !
DESCRIPTION:La transition énergétique s’impose pour un avenir durable. \n\nPour être à la hauteur des enjeux\, chaque territoire innove et accélère ses changements. Sur la Communauté Urbaine du Grand Paris Seine & Oise\, les perspectives d’emplois dans l’énergie sont nombreuses avec des métiers variés\, accessibles et épanouissants. \nC’est pourquoi SEINERGY LAB et ses partenaires organisent depuis 3 ans « La Journée des Métiers De Demain »\, un rendez-vous annuel devenu incontournable dédié à l’information\, l’innovation\, la formation et l’emploi dans les secteurs de l’énergie\, du bâtiment\, de la mobilité et de l’industrie\, pour un public en recherche d’orientation et d’insertion professionnelle. \nLe mardi 1er juin 2021 s’est déroulée la 3e édition de « La Journée des Métiers De Demain » sous un format inédit 100% digital. \nVous êtes étudiants\, en recherche d’emploi\, en reconversion professionnelle\, acteur de l’emploi ou de la formation\, voire tout simplement curieux de connaître les perspectives d’emplois\, de métiers et de formations qu’offre la transition énergétique sur votre territoire ?\nVous êtes au bon endroit ! Inscrivez-vous pour accéder au REPLAY de l’évènement et aux ESPACES RESSOURCES pendant 12 mois ! \nJe m’inscris / J’inscris un groupe / une classe \nAU PROGRAMME :\n1) Accédez aux 3 TEMPS FORTS DU REPLAY en groupe ou individuellement :\nUne édition spéciale en live sur TV78 animée par Patrice CARMOUZE pouvant être visionnée en intégralité ou par temps fort. Indépendamment des thématiques abordées\, chaque temps fort apporte un éclairage métier au travers d’interviews\, de vidéos …avec la volonté de rendre accessibles les sujets au plus grand nombre : \nEn route vers de nouvelles énergies :\n\nQu’est-ce que la transition énergétique ?\nQuels sont les enjeux ?\nQuels sont les objectifs ?\nQuelles sont les solutions qui en découlent ?\n\nDes métiers de sens et d’avenir :\n\nQuels sont les secteurs clés de la transition énergétique ?\nQuelles sont les opportunités formations\, métiers\, emplois ?\n\nMon territoire d’innovation :\n\nQuelles sont les actions et les réalisations innovantes menées sur le territoire pour accélérer ces changements ?\nQuelles sont les activités de SEINERGY LAB pour accompagner ces mutations ?\n\n2) Accédez aux 3 ESPACES RESSOURCES en groupe ou individuellement\nUn contenu multimédia varié pour aller plus loin dans l’exploration des domaines porteurs et des opportunités professionnelles (qui sera enrichi tout au long de l’année) : \nJ’expérimente et je comprends l’énergie\n\nQuizz\,\nInfographies\,\nApplications interactives\,\nEspaces pédagogiques jeunes et enseignants\,\nDossiers pédagogiques\,\nVidéos…\n\nJe m’oriente et je postule dans l’énergie\n\nFiches métiers\,\nVidéos métiers\,\nPrésentations métiers\,\nOffre de formations du territoire\,\nSites de recrutement…\n\nJe découvre mon territoire plein d’énergies\n\nPrésentations d’actions et de réalisations exemplaires\,\nVidéos…\n\nJe m’inscris / J’inscris un groupe / une classe \nJe vous parlerai d’un projet qui me tient à cœur\, qui allie performances sportives et transition énergétique. \nAlex CAIZERGUES \nDécouvrez le teaser de notre invité d’honneur\, Alex CAIZERGUES…\n\n\n\n\n\nCONTACT\nPour toute demande d’informations concernant votre inscription au replay et aux espaces ressources : \nLaurence HERPE\, cheffe de projet – l.herpe@seinergylab.fr
URL:https://www.yvelines-infos.fr/agenda/accedez-au-replay-et-aux-ressources-de-la-journee-des-metiers-de-demain-durant-1-an/
LOCATION:Seinergy Lab\, 53 avenue Paul Raoult\, Les Mureaux\, 78130\, France
ATTACH;FMTTYPE=image/jpeg:https://www.yvelines-infos.fr/content/uploads/2021/bandeau-web-jm3d-1200x450px-vlogos-plateforme-v2.jpg
ORGANIZER;CN="Seinergy%20Lab":MAILTO:contact@seinergylab.fr
GEO:48.9898992;1.9136635
X-APPLE-STRUCTURED-LOCATION;VALUE=URI;X-ADDRESS=Seinergy Lab 53 avenue Paul Raoult Les Mureaux 78130 France;X-APPLE-RADIUS=500;X-TITLE=53 avenue Paul Raoult:geo:1.9136635,48.9898992
END:VEVENT
BEGIN:VEVENT
DTSTART;TZID=Europe/Paris:20210901T093000
DTEND;TZID=Europe/Paris:20211105T170000
DTSTAMP:20260423T153613
CREATED:20210625T130255Z
LAST-MODIFIED:20210625T130255Z
UID:376866-1630488600-1636131600@www.yvelines-infos.fr
SUMMARY:Réservez dès maintenant votre place pour l’exposition « AIR\, l’expo qui inspire » !
DESCRIPTION:Réservez dès maintenant votre place pour l’exposition « AIR\, l’expo qui inspire »\, proposée par l’association SEINERGY LAB du 1er septembre au 5 novembre 2021. \n« AIR\, l’expo qui inspire » est une exposition participative qui traite de l’interaction homme/air à l’échelle de la planète\, de la ville et de l’homme lui-même. \nInscrivez-vous dès maintenant !\nJe m’inscris / J’inscris une classe / un groupe ! \n\n\nLudique et interactive\, elle explore tous les aspects de l’air. \n6 pôles thématiques permettent au visiteur d’expérimenter\, de comprendre et de réfléchir sur toutes les facettes de l’air selon 3 dimensions : scientifique\, culturelle et citoyenne. \n\n\nCette exposition s’inscrit dans le cadre du projet QSEC² (Questions de Sciences\, Enjeux Citoyens)\, qui a pour ambition de développer le dialogue entre citoyens\, chercheurs et élus autour des impacts sociétaux des sciences et des techniques. L’exposition est le fruit de la collaboration entre l’Exploradôme\, musée des sciences et du numérique\, l’association Terre Avenir et l’Espace des Sciences Pierre Gilles de Gennes\, associée à l’expertise citoyenne et scientifique de volontaires venus de toute la région. \nL’Exploradôme. \nProgrammation en lien avec l’exposition\nCette exposition a été conçue et nous a été prêtée par l’Exploradôme. \nDu 1er septembre au 5 novembre 2021\, sur plusieurs dates\, notre partenaire Energies Solidaires\, association engagée dans la lutte contre les dérèglements climatiques et la précarité énergétique proposera dans le cadre de cette visite rafraîchissante un atelier encadré en petit groupe pour mieux comprendre quels sont les liens entre l’air et le climat ainsi que les enjeux environnementaux actuels. \nModalités pratiques\nL’accès à l’exposition et la participation aux animations sont gratuits\, mais sur inscription obligatoire. \nTout public. \nAccueil dans le respect des règles sanitaires en vigueur. \nAdresse : SEINERGY LAB\, 53 avenue Paul Raoult\, 78 130 Les Mureaux \nCliquez ici pour vous inscrire. \nTéléchargez l’affiche ici. \nCette action entre dans le cadre des dispositifs « Cités éducatives » et « Sciences pour tous »\, elle bénéficie du soutien financier de la ville des Mureaux et de la Région Ile-de-France.
URL:https://www.yvelines-infos.fr/agenda/reservez-des-maintenant-votre-place-pour-lexposition-air-lexpo-qui-inspire/
LOCATION:Seinergy Lab\, 53 avenue Paul Raoult\, Les Mureaux\, 78130\, France
ATTACH;FMTTYPE=image/jpeg:https://www.yvelines-infos.fr/content/uploads/2021/bandeau-site-air-650x300-nouvelles-dates.jpg
ORGANIZER;CN="Seinergy%20Lab":MAILTO:contact@seinergylab.fr
GEO:48.9898992;1.9136635
X-APPLE-STRUCTURED-LOCATION;VALUE=URI;X-ADDRESS=Seinergy Lab 53 avenue Paul Raoult Les Mureaux 78130 France;X-APPLE-RADIUS=500;X-TITLE=53 avenue Paul Raoult:geo:1.9136635,48.9898992
END:VEVENT
END:VCALENDAR