BEGIN:VCALENDAR
VERSION:2.0
PRODID:-//Yvelines Infos - ECPv6.0.2//NONSGML v1.0//EN
CALSCALE:GREGORIAN
METHOD:PUBLISH
X-ORIGINAL-URL:https://www.yvelines-infos.fr
X-WR-CALDESC:Évènements pour Yvelines Infos
REFRESH-INTERVAL;VALUE=DURATION:PT1H
X-Robots-Tag:noindex
X-PUBLISHED-TTL:PT1H
BEGIN:VTIMEZONE
TZID:Europe/Paris
BEGIN:DAYLIGHT
TZOFFSETFROM:+0100
TZOFFSETTO:+0200
TZNAME:CEST
DTSTART:20170326T010000
END:DAYLIGHT
BEGIN:STANDARD
TZOFFSETFROM:+0200
TZOFFSETTO:+0100
TZNAME:CET
DTSTART:20171029T010000
END:STANDARD
END:VTIMEZONE
BEGIN:VEVENT
DTSTART;TZID=Europe/Paris:20171007T143000
DTEND;TZID=Europe/Paris:20171015T170000
DTSTAMP:20260423T094119
CREATED:20170929T082606Z
LAST-MODIFIED:20170929T082606Z
UID:344007-1507386600-1508086800@www.yvelines-infos.fr
SUMMARY:2ème biennale de Fontenay-le-Fleury
DESCRIPTION:Du 7 au 15 octobre 2017\, la Société Artistique organise sa 2ème Biennale à Fontenay-le-Fleury. Ses deux invitées d’honneur de grand talent\, Marie-Pierre KUHN\, peintre\, et Sophie JOUAN\, sculpteur\, exposeront des oeuvres pleines d’humour Autour d’elles\, une soixantaine d’artistes peintres et sculpteurs auront également à coeur de présenter leurs oeuvres. \nLe salon sera ouvert au public du 7 au 15 octobre\, de 14h30 à 18h30. Vernissage le 7 octobre à 17h00 au cours duquel et en présence de nombreux élus seront remis les prix. \nRenseignements auprès de Diane Corson (06.35.95.43.46)
URL:https://www.yvelines-infos.fr/agenda/2eme-biennale-de-fontenay-fleury/
LOCATION:Salle Sacha Guitry (au-dessus du Théâtre de Fontenay le Fleury)\, place du 8 mai 1945\, FONTENAY LE FLEURY\, 78330\, France
ATTACH;FMTTYPE=image/jpeg:https://www.yvelines-infos.fr/content/uploads/2017/Affiche-noire-e1506673421479.jpg
ORGANIZER;CN="Soci%C3%A9t%C3%A9%20Artistique%20de%20Fontenay%20le%20Fleury":MAILTO:contact@start-flf.fr
GEO:48.8108708;2.0457402
X-APPLE-STRUCTURED-LOCATION;VALUE=URI;X-ADDRESS=Salle Sacha Guitry (au-dessus du Théâtre de Fontenay le Fleury) place du 8 mai 1945 FONTENAY LE FLEURY 78330 France;X-APPLE-RADIUS=500;X-TITLE=place du 8 mai 1945:geo:2.0457402,48.8108708
END:VEVENT
END:VCALENDAR