BEGIN:VCALENDAR
VERSION:2.0
PRODID:-//Yvelines Infos - ECPv6.0.2//NONSGML v1.0//EN
CALSCALE:GREGORIAN
METHOD:PUBLISH
X-WR-CALNAME:Yvelines Infos
X-ORIGINAL-URL:https://www.yvelines-infos.fr
X-WR-CALDESC:Évènements pour Yvelines Infos
REFRESH-INTERVAL;VALUE=DURATION:PT1H
X-Robots-Tag:noindex
X-PUBLISHED-TTL:PT1H
BEGIN:VTIMEZONE
TZID:Europe/Paris
BEGIN:DAYLIGHT
TZOFFSETFROM:+0100
TZOFFSETTO:+0200
TZNAME:CEST
DTSTART:20200329T010000
END:DAYLIGHT
BEGIN:STANDARD
TZOFFSETFROM:+0200
TZOFFSETTO:+0100
TZNAME:CET
DTSTART:20201025T010000
END:STANDARD
END:VTIMEZONE
BEGIN:VEVENT
DTSTART;TZID=Europe/Paris:20200302T140000
DTEND;TZID=Europe/Paris:20200308T180000
DTSTAMP:20260423T105208
CREATED:20191217T102948Z
LAST-MODIFIED:20191217T102948Z
UID:364119-1583157600-1583690400@www.yvelines-infos.fr
SUMMARY:Enny Huylebroeck
DESCRIPTION:Peintures et dessins de Enny Huylebroeck autour de « L’enfant et les sortilèges » de Maurice Ravel\, dans le cadre du Festival du Bruit qui Pense \nInformations au 0768334478 / festival@bruitquipense.com
URL:https://www.yvelines-infos.fr/agenda/enny-huylebroeck/2020-03-02/
LOCATION:Salle Renoir\, 30\, rue du Général Leclerc\, Louveciennes\, 78430
ATTACH;FMTTYPE=image/jpeg:https://www.yvelines-infos.fr/content/uploads/2019/enny-huylebroeck.jpg
ORGANIZER;CN="Festival%20du%20Bruit%20qui%20Pense":MAILTO:festival@bruitquipense.com
END:VEVENT
END:VCALENDAR