BEGIN:VCALENDAR
VERSION:2.0
PRODID:-//Yvelines Infos - ECPv6.0.2//NONSGML v1.0//EN
CALSCALE:GREGORIAN
METHOD:PUBLISH
X-WR-CALNAME:Yvelines Infos
X-ORIGINAL-URL:https://www.yvelines-infos.fr
X-WR-CALDESC:Évènements pour Yvelines Infos
REFRESH-INTERVAL;VALUE=DURATION:PT1H
X-Robots-Tag:noindex
X-PUBLISHED-TTL:PT1H
BEGIN:VTIMEZONE
TZID:Europe/Paris
BEGIN:DAYLIGHT
TZOFFSETFROM:+0100
TZOFFSETTO:+0200
TZNAME:CEST
DTSTART:20190331T010000
END:DAYLIGHT
BEGIN:STANDARD
TZOFFSETFROM:+0200
TZOFFSETTO:+0100
TZNAME:CET
DTSTART:20191027T010000
END:STANDARD
END:VTIMEZONE
BEGIN:VEVENT
DTSTART;TZID=Europe/Paris:20191117T170000
DTEND;TZID=Europe/Paris:20191117T190000
DTSTAMP:20260423T040031
CREATED:20191107T161214Z
LAST-MODIFIED:20191107T161214Z
UID:363266-1574010000-1574017200@www.yvelines-infos.fr
SUMMARY:Concert : ‘Carte blanche’ à A. Soumm\, V. Serafimova et T. Enhco
DESCRIPTION:Orgerus\, le Dimanche 17 novembre 2019 à 17h00\, salle du Pré Romain \nPour les 30 ans des Saisons Musicales RITMY\, nous avons donné ‘carte blanche’ à trois trentenaires virtuoses : Alexandra SOUMM au violon\, Vassilena SERAFIMOVA au marimba\, et Thomas ENHCO au piano. \nAlexandra SOUMM\, née à Moscou et formée à Vienne\, étoile montante du violon\, se produit aux 4 coins du monde; Vassilena SERAFIMOVA percussionniste bulgare\, multi-récompensée\, joue comme soliste et en musique de chambre dans les plus grandes salles. \nEt Thomas ENHCO\, surdoué du piano\, aussi à l’aise en classique qu’en jazz\, il compose dans les deux registres et aime improviser. \nDes interprètes qui se sont déjà produits pour RITMY et que nous avons adorés\, mais réunis en trio pour la première fois. \nAvec un programme autour de Brahms\, Mozart\, Bartok\, Piazzolla… et Thomas Enhco\, une rencontre unique qui s’annonce éblouissante ! \nConcert organisé par RITMY et l’Association Bisconcella d’Orgerus\, dans le cadre des 30° Saisons Musicales RITMY.
URL:https://www.yvelines-infos.fr/agenda/concert-carte-blanche-a-a-soumm-v-serafimova-et-t-enhco/
LOCATION:salle Pré Romain\, Salle Pré Romain\, Orgerus\, 78910\, France
ATTACH;FMTTYPE=image/png:https://www.yvelines-infos.fr/content/uploads/2019/trentenaires-3.png
ORGANIZER;CN="RITMY":MAILTO:contact.ritmy@gmail.com
END:VEVENT
END:VCALENDAR