BEGIN:VCALENDAR
VERSION:2.0
PRODID:-//Yvelines Infos - ECPv6.0.2//NONSGML v1.0//EN
CALSCALE:GREGORIAN
METHOD:PUBLISH
X-ORIGINAL-URL:https://www.yvelines-infos.fr
X-WR-CALDESC:Évènements pour Yvelines Infos
REFRESH-INTERVAL;VALUE=DURATION:PT1H
X-Robots-Tag:noindex
X-PUBLISHED-TTL:PT1H
BEGIN:VTIMEZONE
TZID:Europe/Paris
BEGIN:DAYLIGHT
TZOFFSETFROM:+0100
TZOFFSETTO:+0200
TZNAME:CEST
DTSTART:20170326T010000
END:DAYLIGHT
BEGIN:STANDARD
TZOFFSETFROM:+0200
TZOFFSETTO:+0100
TZNAME:CET
DTSTART:20171029T010000
END:STANDARD
BEGIN:DAYLIGHT
TZOFFSETFROM:+0100
TZOFFSETTO:+0200
TZNAME:CEST
DTSTART:20180325T010000
END:DAYLIGHT
BEGIN:STANDARD
TZOFFSETFROM:+0200
TZOFFSETTO:+0100
TZNAME:CET
DTSTART:20181028T010000
END:STANDARD
END:VTIMEZONE
BEGIN:VEVENT
DTSTART;TZID=Europe/Paris:20171018T203000
DTEND;TZID=Europe/Paris:20171018T223000
DTSTAMP:20260423T092905
CREATED:20171016T100131Z
LAST-MODIFIED:20171016T100131Z
UID:344472-1508358600-1508365800@www.yvelines-infos.fr
SUMMARY:Cycle de conférences sur l'Amérique latine
DESCRIPTION:  \nL’Amérique latine est un espace géopolitique avec lequel les attaches européennes sont nombreuses. Toutefois les racines d’avant la conquête autant que les mouvements indépendantistes et révolutionnaires ont façonné l’originalité des pays qui le composent. Cette année\, nos rencontres étudieront à l’aide de quelques exemples choisis et particuliers\, l’histoire\, la politique et les traditions du centre et du sud américains. \n1ère conférence – 1492 : Christophe Colomb découvre l’Amérique ? \nLe Comité Culture de Bailly et Bailly Art et Culture présentent  » Un cycle de conférences géopolitiques sur l’Amérique Latine » – Martine Thouvenin-Desfontaines Historienne et historienne de l’art
URL:https://www.yvelines-infos.fr/agenda/cycle-de-conferences-lamerique-latine/
LOCATION:Salle Georges Lemaire\, 7 bis rue de Maule\, BAILLY\, 78870\, France
ATTACH;FMTTYPE=image/jpeg:https://www.yvelines-infos.fr/content/uploads/2017/Cycle-conference-Amerique-Latine_carroussel.jpg
ORGANIZER;CN="mairie%20de%20Bailly":MAILTO:culture@mairie-bailly.fr
GEO:48.8405193;2.0780042
X-APPLE-STRUCTURED-LOCATION;VALUE=URI;X-ADDRESS=Salle Georges Lemaire 7 bis rue de Maule BAILLY 78870 France;X-APPLE-RADIUS=500;X-TITLE=7 bis rue de Maule:geo:2.0780042,48.8405193
END:VEVENT
BEGIN:VEVENT
DTSTART;TZID=Europe/Paris:20180125T080000
DTEND;TZID=Europe/Paris:20180125T170000
DTSTAMP:20260423T092905
CREATED:20180125T132111Z
LAST-MODIFIED:20180223T135746Z
UID:346960-1516867200-1516899600@www.yvelines-infos.fr
SUMMARY:Exposition « Les Talents de Bailly »
DESCRIPTION:Exposition peintures\, sculptures et photographies
URL:https://www.yvelines-infos.fr/agenda/exposition-talents-de-bailly-2/
LOCATION:Salle Georges Lemaire\, 7 bis rue de Maule\, BAILLY\, 78870\, France
ATTACH;FMTTYPE=image/jpeg:https://www.yvelines-infos.fr/content/uploads/2018/affiche-talents-de-bailly-a3-2.jpg
ORGANIZER;CN="Bailly%20Art%20et%20Culture":MAILTO:culture@mairie-bailly.fr
GEO:48.8405193;2.0780042
X-APPLE-STRUCTURED-LOCATION;VALUE=URI;X-ADDRESS=Salle Georges Lemaire 7 bis rue de Maule BAILLY 78870 France;X-APPLE-RADIUS=500;X-TITLE=7 bis rue de Maule:geo:2.0780042,48.8405193
END:VEVENT
END:VCALENDAR