BEGIN:VCALENDAR
VERSION:2.0
PRODID:-//Yvelines Infos - ECPv6.0.2//NONSGML v1.0//EN
CALSCALE:GREGORIAN
METHOD:PUBLISH
X-WR-CALNAME:Yvelines Infos
X-ORIGINAL-URL:https://www.yvelines-infos.fr
X-WR-CALDESC:Évènements pour Yvelines Infos
REFRESH-INTERVAL;VALUE=DURATION:PT1H
X-Robots-Tag:noindex
X-PUBLISHED-TTL:PT1H
BEGIN:VTIMEZONE
TZID:Europe/Paris
BEGIN:DAYLIGHT
TZOFFSETFROM:+0100
TZOFFSETTO:+0200
TZNAME:CEST
DTSTART:20180325T010000
END:DAYLIGHT
BEGIN:STANDARD
TZOFFSETFROM:+0200
TZOFFSETTO:+0100
TZNAME:CET
DTSTART:20181028T010000
END:STANDARD
END:VTIMEZONE
BEGIN:VEVENT
DTSTART;TZID=Europe/Paris:20180203T150000
DTEND;TZID=Europe/Paris:20180211T180000
DTSTAMP:20260423T122913
CREATED:20180122T111307Z
LAST-MODIFIED:20180223T135751Z
UID:346835-1517670000-1518372000@www.yvelines-infos.fr
SUMMARY:Exposition "Les Talents de Bailly"
DESCRIPTION:Exposition de Peintures\, Sculpture et photographies \nInvité d’honneur : Alain FROMONOT
URL:https://www.yvelines-infos.fr/agenda/exposition-talents-de-bailly-3/
LOCATION:Salle G. Lemaire – 7 bis rue de Maule – 78870 Bailly\, 7 bis rue de Maule\, Bailly\, 78870
ATTACH;FMTTYPE=image/jpeg:https://www.yvelines-infos.fr/content/uploads/2018/affiche-talents-de-bailly-a3-1.jpg
ORGANIZER;CN="Bailly%20Art%20et%20Culture":MAILTO:culture@mairie-bailly.fr
GEO:48.8405193;2.0780042
X-APPLE-STRUCTURED-LOCATION;VALUE=URI;X-ADDRESS=Salle G. Lemaire – 7 bis rue de Maule – 78870 Bailly 7 bis rue de Maule Bailly 78870;X-APPLE-RADIUS=500;X-TITLE=7 bis rue de Maule:geo:2.0780042,48.8405193
END:VEVENT
END:VCALENDAR