BEGIN:VCALENDAR
VERSION:2.0
PRODID:-//Yvelines Infos - ECPv6.0.2//NONSGML v1.0//EN
CALSCALE:GREGORIAN
METHOD:PUBLISH
X-ORIGINAL-URL:https://www.yvelines-infos.fr
X-WR-CALDESC:Évènements pour Yvelines Infos
REFRESH-INTERVAL;VALUE=DURATION:PT1H
X-Robots-Tag:noindex
X-PUBLISHED-TTL:PT1H
BEGIN:VTIMEZONE
TZID:Europe/Paris
BEGIN:DAYLIGHT
TZOFFSETFROM:+0100
TZOFFSETTO:+0200
TZNAME:CEST
DTSTART:20200329T010000
END:DAYLIGHT
BEGIN:STANDARD
TZOFFSETFROM:+0200
TZOFFSETTO:+0100
TZNAME:CET
DTSTART:20201025T010000
END:STANDARD
END:VTIMEZONE
BEGIN:VEVENT
DTSTART;VALUE=DATE:20200919
DTEND;VALUE=DATE:20210101
DTSTAMP:20260423T040420
CREATED:20200916T101812Z
LAST-MODIFIED:20200916T101812Z
UID:369191-1600473600-1609459199@www.yvelines-infos.fr
SUMMARY:Le château de Versailles dans la bande dessinée
DESCRIPTION:À l’occasion de l’année de la bande dessinée en 2020\, portée par le Ministère de la Culture\, le château de Versailles donne rendez-vous aux amateurs du 9ème art au festival d’Angoulême\, puis à Versailles\, pour une exposition dédiée. \nPour la première fois\, le château de Versailles consacrera une exposition sur la représentation de Versailles dans la bande dessinée. Au travers d’une centaine d’œuvres\, les visiteurs découvriront un Versailles réaliste\, insolite ou fantastique.\nUne grande diversité de planches originales\, esquisses\, dessins préparatoires\, mais aussi des éditions originales d’albums et de revues retraceront différentes approches des lieux et des événements historiques. \nLes auteurs et illustrateurs de bande dessinée ont également exploré d’autres perspectives\, telles que les jardins\, l’architecture\, les grandes figures historiques ou encore les événements ayant marqué Versailles. Seront notamment présentées\, de très rares représentations de certains rois de France comme Louis XVIII et Charles X\, des épisodes de la Révolution française ou encore des références à l’Ancien Régime. \nCette exposition propose aux amateurs du 9ème art\, un large panel de styles graphiques et techniques embrassant plusieurs périodes phares depuis le XIXème siècle jusqu’en 2019. De l’évocation à la minutie la plus fidèle\, de l’aquarelle au feutre\, du roman graphique aux mangas\, en passant par les bandes dessinées franco-belges\, de nombreux échos et dialogues pourront être perçus entre les planches. \nEntrée gratuite
URL:https://www.yvelines-infos.fr/agenda/le-chateau-de-versailles-dans-la-bande-dessinee/
LOCATION:Salle du Jeu de Paume\, 1 rue du Jeu de Paume\, Versailles\, 78000\, France
ATTACH;FMTTYPE=image/jpeg:https://www.yvelines-infos.fr/content/uploads/2020/versaillesbd-affiche-400x600mm-070920-3.jpg
END:VEVENT
END:VCALENDAR