BEGIN:VCALENDAR
VERSION:2.0
PRODID:-//Yvelines Infos - ECPv6.0.2//NONSGML v1.0//EN
CALSCALE:GREGORIAN
METHOD:PUBLISH
X-WR-CALNAME:Yvelines Infos
X-ORIGINAL-URL:https://www.yvelines-infos.fr
X-WR-CALDESC:Évènements pour Yvelines Infos
REFRESH-INTERVAL;VALUE=DURATION:PT1H
X-Robots-Tag:noindex
X-PUBLISHED-TTL:PT1H
BEGIN:VTIMEZONE
TZID:Europe/Paris
BEGIN:DAYLIGHT
TZOFFSETFROM:+0100
TZOFFSETTO:+0200
TZNAME:CEST
DTSTART:20210328T010000
END:DAYLIGHT
BEGIN:STANDARD
TZOFFSETFROM:+0200
TZOFFSETTO:+0100
TZNAME:CET
DTSTART:20211031T010000
END:STANDARD
END:VTIMEZONE
BEGIN:VEVENT
DTSTART;TZID=Europe/Paris:20211002T140000
DTEND;TZID=Europe/Paris:20211003T003000
DTSTAMP:20260423T090636
CREATED:20210916T081834Z
LAST-MODIFIED:20210916T081834Z
UID:378919-1633183200-1633221000@www.yvelines-infos.fr
SUMMARY:CIGAR BOX GUITARS FESTIVAL
DESCRIPTION:Ce festival met à l’honneur les guitares « CIGAR BOX » avec des exposants/fabricants de guitares Cigar Box et surtout des concerts 100% live Rock & Blues : \n\nDe nombreux exposants/fabricants de guitares « Cigar Box » sont présents pour montrer leur travail mais aussi pour vendre des guitares plus originales les unes que les autres.\nCette année\, une master class d’harmonica est proposée à 14h : 3h de stage avec harmonica inclu (30€)\, inscription sur place\nDès 16h\, début des concerts jusqu’à tard dans la nuit avec du Rock et du Blues 100% live.
URL:https://www.yvelines-infos.fr/agenda/cigar-box-guitars-festival/
LOCATION:salle des loisirs\, 20 rue de la mairie\, boissy-sans-avoir\, 78490
ATTACH;FMTTYPE=image/jpeg:https://www.yvelines-infos.fr/content/uploads/2021/presentation-festival-cbg-pour-annonces-internet-bis.jpg
ORGANIZER;CN="ABCL":MAILTO:abcl78490@gmail.com
END:VEVENT
END:VCALENDAR