BEGIN:VCALENDAR
VERSION:2.0
PRODID:-//Yvelines Infos - ECPv6.0.2//NONSGML v1.0//EN
CALSCALE:GREGORIAN
METHOD:PUBLISH
X-ORIGINAL-URL:https://www.yvelines-infos.fr
X-WR-CALDESC:Évènements pour Yvelines Infos
REFRESH-INTERVAL;VALUE=DURATION:PT1H
X-Robots-Tag:noindex
X-PUBLISHED-TTL:PT1H
BEGIN:VTIMEZONE
TZID:Europe/Paris
BEGIN:DAYLIGHT
TZOFFSETFROM:+0100
TZOFFSETTO:+0200
TZNAME:CEST
DTSTART:20220327T010000
END:DAYLIGHT
BEGIN:STANDARD
TZOFFSETFROM:+0200
TZOFFSETTO:+0100
TZNAME:CET
DTSTART:20221030T010000
END:STANDARD
END:VTIMEZONE
BEGIN:VEVENT
DTSTART;TZID=Europe/Paris:20220130T170000
DTEND;TZID=Europe/Paris:20220130T170000
DTSTAMP:20260423T023327
CREATED:20211227T100035Z
LAST-MODIFIED:20211227T100035Z
UID:382641-1643562000-1643562000@www.yvelines-infos.fr
SUMMARY:David ENHCO Quartet\, et le Quatuor VOCE – « Family Tree »
DESCRIPTION:« Family Tree » est un programme qui réunit deux esthétiques musicales que sont le jazz et la musique classique\, au travers d’une rencontre entre le Quartet de David ENHCO et le Quatuor VOCE (quatuor à cordes).
URL:https://www.yvelines-infos.fr/agenda/david-enhco-quartet-et-le-quatuor-voce-family-tree/
LOCATION:Salle des fêtes\, 7 PL du Général de Gaulle\, Marly-Le-Roi\, 78160\, France
ATTACH;FMTTYPE=image/jpeg:https://www.yvelines-infos.fr/content/uploads/2021/enhco-1.jpg
ORGANIZER;CN="RITMY":MAILTO:contact.ritmy@gmail.com
END:VEVENT
END:VCALENDAR