BEGIN:VCALENDAR
VERSION:2.0
PRODID:-//Yvelines Infos - ECPv6.0.2//NONSGML v1.0//EN
CALSCALE:GREGORIAN
METHOD:PUBLISH
X-WR-CALNAME:Yvelines Infos
X-ORIGINAL-URL:https://www.yvelines-infos.fr
X-WR-CALDESC:Évènements pour Yvelines Infos
REFRESH-INTERVAL;VALUE=DURATION:PT1H
X-Robots-Tag:noindex
X-PUBLISHED-TTL:PT1H
BEGIN:VTIMEZONE
TZID:Europe/Paris
BEGIN:DAYLIGHT
TZOFFSETFROM:+0100
TZOFFSETTO:+0200
TZNAME:CEST
DTSTART:20180325T010000
END:DAYLIGHT
BEGIN:STANDARD
TZOFFSETFROM:+0200
TZOFFSETTO:+0100
TZNAME:CET
DTSTART:20181028T010000
END:STANDARD
END:VTIMEZONE
BEGIN:VEVENT
DTSTART;TZID=Europe/Paris:20180126T210000
DTEND;TZID=Europe/Paris:20180126T233000
DTSTAMP:20260423T080509
CREATED:20180120T200554Z
LAST-MODIFIED:20180223T135345Z
UID:346824-1517000400-1517009400@www.yvelines-infos.fr
SUMMARY:Cabaret Jazz
DESCRIPTION:animé par Eric Luter et Ze French Project\nSwing et chansons z’en francais\nEric Luter trompette&chant\, Jean Pierre Dumontier piano&chant\, Cyril Guyot saxo&chant\, Stephane Nosserau batterie&chant\, Jean Pierre Rebillard contrebasse&pas de chant (pour l’instant !)\nEric Luter et ses complices vous proposent leur nouveau projet : des paroles françaises sur les standards du jazz\, avec la complicité de Charles Trenet\, Henri Salvador\, Boris Vian\, Claude Nougaro\, Mimi Perrin mais aussi des textes originaux\nUne soirée idéale pour ceux qui aiment le jazz mais ne possèdent pas parfaitement la langue de Shakespeare .
URL:https://www.yvelines-infos.fr/agenda/cabaret-jazz-2/
LOCATION:Salle des fêtes de montesson\, place Roland Gauthier\, Montesson\, 78360
GEO:48.9083978;2.1497551
X-APPLE-STRUCTURED-LOCATION;VALUE=URI;X-ADDRESS=Salle des fêtes de montesson place Roland Gauthier Montesson 78360;X-APPLE-RADIUS=500;X-TITLE=place Roland Gauthier:geo:2.1497551,48.9083978
END:VEVENT
END:VCALENDAR