BEGIN:VCALENDAR
VERSION:2.0
PRODID:-//Yvelines Infos - ECPv6.0.2//NONSGML v1.0//EN
CALSCALE:GREGORIAN
METHOD:PUBLISH
X-WR-CALNAME:Yvelines Infos
X-ORIGINAL-URL:https://www.yvelines-infos.fr
X-WR-CALDESC:Évènements pour Yvelines Infos
REFRESH-INTERVAL;VALUE=DURATION:PT1H
X-Robots-Tag:noindex
X-PUBLISHED-TTL:PT1H
BEGIN:VTIMEZONE
TZID:Europe/Paris
BEGIN:DAYLIGHT
TZOFFSETFROM:+0100
TZOFFSETTO:+0200
TZNAME:CEST
DTSTART:20180325T010000
END:DAYLIGHT
BEGIN:STANDARD
TZOFFSETFROM:+0200
TZOFFSETTO:+0100
TZNAME:CET
DTSTART:20181028T010000
END:STANDARD
BEGIN:DAYLIGHT
TZOFFSETFROM:+0100
TZOFFSETTO:+0200
TZNAME:CEST
DTSTART:20190331T010000
END:DAYLIGHT
BEGIN:STANDARD
TZOFFSETFROM:+0200
TZOFFSETTO:+0100
TZNAME:CET
DTSTART:20191027T010000
END:STANDARD
END:VTIMEZONE
BEGIN:VEVENT
DTSTART;TZID=Europe/Paris:20180527T170000
DTEND;TZID=Europe/Paris:20180527T193000
DTSTAMP:20260423T064003
CREATED:20180514T104202Z
LAST-MODIFIED:20180514T104202Z
UID:349921-1527440400-1527449400@www.yvelines-infos.fr
SUMMARY:Super Swing Project
DESCRIPTION:SUPER SWING PROJECT est né en 2017 de la fusion de « Paris Washboard »\, formé en 1988\, et de l’ensemble plus jeune (2014) « Super Swing Project » à l’initiative du tromboniste Daniel Barda\, formant un ensemble original au tempo tourbillonnant et à la rythmique impeccable.\nTout tourne autour du jeu remarquable de Louis Mazetier\, maître internationalement reconnu du « stride »\, style pianistique qui a connu son apogée pendant les années 20 et 30.\nSes quatre complices d’exception sont Daniel Barda\, trombone\, grand spécialiste lui aussi du style « New Orleans »\, Jérôme Etcheberry\, tout aussi entraînant à la trompette\, et enfin Charles Prévost dont le washboard ou planche à laver\, ancêtre de la batterie à la Nouvelle Orléans\, a donné son nom au groupe. \nLouis MAZETIER piano\, Daniel BARDA trombone\, Charles PREVOST washboard\, Jérôme ETCHEBERRY trompette \nEntrée gratuite pour les adhérents Jazz au Confluent ou soutien 5\,00 € pour les non adhérents
URL:https://www.yvelines-infos.fr/agenda/super-swing-project/
LOCATION:Salle Debussy\, Conservatoire G Gershwin\, 74 rue Désiré Clément\, 78700\, Conflans Ste Honorine
ATTACH;FMTTYPE=image/jpeg:https://www.yvelines-infos.fr/content/uploads/2018/super-swing-project.jpg
ORGANIZER;CN="Jazz%20au%20Confluent":MAILTO:jazzauconfluent@gmail.com
GEO:49.0025443;2.111932
X-APPLE-STRUCTURED-LOCATION;VALUE=URI;X-ADDRESS=Salle Debussy Conservatoire G Gershwin 74 rue Désiré Clément 78700 Conflans Ste Honorine;X-APPLE-RADIUS=500;X-TITLE=74 rue Désiré Clément:geo:2.111932,49.0025443
END:VEVENT
BEGIN:VEVENT
DTSTART;TZID=Europe/Paris:20181215T210000
DTEND;TZID=Europe/Paris:20181215T233000
DTSTAMP:20260423T064003
CREATED:20181217T134651Z
LAST-MODIFIED:20181217T134651Z
UID:354442-1544907600-1544916600@www.yvelines-infos.fr
SUMMARY:Shades le groupe
DESCRIPTION:Jamais encore JAC n’aura mis autant à l’honneur l’art du jazz vocal ! \nLa jeune formation SHADES est la réunion de quatre chanteurs et chanteuses solistes de haut vol\, tous amoureux des perles du répertoire jazz américain. Le sextet a l’originalité de se faire accompagner par une clarinette basse\, remplaçant parfois une contrebasse ou une cinquième voix grave… \nAux commandes\, Antoine Laudière\, guitariste et arrangeur\, friand d’harmonies et des grandes voix du jazz\, s’inspire des « Big bands » qui ont accompagné Frank Sinatra ou Ella Fitzgerald. \nAu programme\, des chansons réinventées et remises au goût du jour sous la plume d’un guitariste qui aurait toujours voulu chanter. \nAntoine LAUDIERE arrangement\, guitare\, Etienne QUEZEL clarinette basse\, ELLINOA\,\nElora ANTOLIN\, Marion CHRETIEN et Pablo CAMPOS\, chant \nGratuit pour les abonnés à JAC; pour les autres\, bon de soutien de 7€ ; 8€ pour réservation en ligne.\nConcert le 15/12/2018 à la salle Debussy\, Conservatoire G Gershwin\, 74 rue Désiré Clément\, 78700 Conflans-Sainte-Honorine
URL:https://www.yvelines-infos.fr/agenda/shades-le-groupe/
LOCATION:Salle Debussy\, Conservatoire G Gershwin\, 74 rue Désiré Clément\, 78700\, Conflans Ste Honorine
ATTACH;FMTTYPE=image/jpeg:https://www.yvelines-infos.fr/content/uploads/2018/sans-titre-268-of-298.jpg
ORGANIZER;CN="Jazz%20au%20Confluent":MAILTO:jazzauconfluent@gmail.com
GEO:49.0025443;2.111932
X-APPLE-STRUCTURED-LOCATION;VALUE=URI;X-ADDRESS=Salle Debussy Conservatoire G Gershwin 74 rue Désiré Clément 78700 Conflans Ste Honorine;X-APPLE-RADIUS=500;X-TITLE=74 rue Désiré Clément:geo:2.111932,49.0025443
END:VEVENT
BEGIN:VEVENT
DTSTART;TZID=Europe/Paris:20190119T210000
DTEND;TZID=Europe/Paris:20190119T233000
DTSTAMP:20260423T064003
CREATED:20190107T094049Z
LAST-MODIFIED:20190107T094049Z
UID:354789-1547931600-1547940600@www.yvelines-infos.fr
SUMMARY:Eva Slongo Quartet
DESCRIPTION:« Je suis heureux de souhaiter la bienvenue à la jeune et talentueuse Eva Slongo dans le club restreint des violonistes de jazz moderne.\nSon jeu et ses compositions sont à la fois inspirés et musicaux et sa belle capacité de chanter ajoute une touche unique à son univers. »\nC’est en ces termes que Jean-Luc Ponty a annoncé la venue sur la scène de jazz de la jeune suissesse\, Eva Slongo. Saluée également par Bireli Lagrène\, l’ancienne élève de Didier Lockwood a entamé par la suite une belle carrière en France et à l’international.\nElle fait partie de la nouvelle génération des violonistes de jazz en Europe\, mettant sa virtuosité au service de l’improvisation\, avec également pour originalité d’allier les sonorités de son violon et de sa voix pour obtenir un savoureux mélange de scat instrumental.\nElle aime le live et en concert donne de sa personne entière à chaque instant\, appréciant les moments de partage intense avec son public qui la suit de plus en plus activement. \nEva Slongo : violon\, Nicolas Charlier : batterie\, Cariou Joran : orgue et piano\, Fabricio Nicolas : contrebasse \nEntrée gratuite pour les adhérents Jazz au Confluent ou soutien 7\,00 € pour les non adhérents
URL:https://www.yvelines-infos.fr/agenda/eva-slongo-quartet/
LOCATION:Salle Debussy\, Conservatoire G Gershwin\, 74 rue Désiré Clément\, 78700\, Conflans Ste Honorine
ATTACH;FMTTYPE=image/jpeg:https://www.yvelines-infos.fr/content/uploads/2019/photo-quartet-jm-27-o.jpg
ORGANIZER;CN="Jazz%20au%20Confluent":MAILTO:jazzauconfluent@gmail.com
GEO:49.0025443;2.111932
X-APPLE-STRUCTURED-LOCATION;VALUE=URI;X-ADDRESS=Salle Debussy Conservatoire G Gershwin 74 rue Désiré Clément 78700 Conflans Ste Honorine;X-APPLE-RADIUS=500;X-TITLE=74 rue Désiré Clément:geo:2.111932,49.0025443
END:VEVENT
BEGIN:VEVENT
DTSTART;TZID=Europe/Paris:20190216T210000
DTEND;TZID=Europe/Paris:20190216T233000
DTSTAMP:20260423T064003
CREATED:20190107T093943Z
LAST-MODIFIED:20190107T093943Z
UID:354791-1550350800-1550359800@www.yvelines-infos.fr
SUMMARY:Daniel Zimmermann Quartet
DESCRIPTION:« Daniel Zimmermann\, véritable virtuose du trombone\, revient à la tête de son fidèle quartet fidèle pour nous interpréter un répertoire extrait principalement du disque « Montagnes russes ».\nAutrefois membre du dernier groupe de Claude Nougaro \, il a collaboré\, entre autres\, avec Manu Dibango\, Thomas de Pourquery et Vincent Peirani. Sa musique est infusée de jazz\, de blues\, de funk… et surtout du riche éventail d’émotions traversées par un musicien à la sensibilité à fleur de peau : doute\, certitudes\, spleen\, ou joie.\nSurtout un lyrisme sincère sur fond de groove pur\, dur et énergique assuré par ses trois complices. \nDaniel ZIMERMANN trombone\, Pierre DURAND guitare\, Julien CHARLET batterie\, Mathias ALLAMANE contrebasse. \nEntrée gratuite pour les adhérents Jazz au Confluent ou soutien 7\,00 € pour les non adhérents
URL:https://www.yvelines-infos.fr/agenda/daniel-zimmermann-quartet/
LOCATION:Salle Debussy\, Conservatoire G Gershwin\, 74 rue Désiré Clément\, 78700\, Conflans Ste Honorine
ATTACH;FMTTYPE=image/jpeg:https://www.yvelines-infos.fr/content/uploads/2019/web04.jpg
ORGANIZER;CN="Jazz%20au%20Confluent":MAILTO:jazzauconfluent@gmail.com
GEO:49.0025443;2.111932
X-APPLE-STRUCTURED-LOCATION;VALUE=URI;X-ADDRESS=Salle Debussy Conservatoire G Gershwin 74 rue Désiré Clément 78700 Conflans Ste Honorine;X-APPLE-RADIUS=500;X-TITLE=74 rue Désiré Clément:geo:2.111932,49.0025443
END:VEVENT
END:VCALENDAR