BEGIN:VCALENDAR
VERSION:2.0
PRODID:-//Yvelines Infos - ECPv6.0.2//NONSGML v1.0//EN
CALSCALE:GREGORIAN
METHOD:PUBLISH
X-ORIGINAL-URL:https://www.yvelines-infos.fr
X-WR-CALDESC:Évènements pour Yvelines Infos
REFRESH-INTERVAL;VALUE=DURATION:PT1H
X-Robots-Tag:noindex
X-PUBLISHED-TTL:PT1H
BEGIN:VTIMEZONE
TZID:Europe/Paris
BEGIN:DAYLIGHT
TZOFFSETFROM:+0100
TZOFFSETTO:+0200
TZNAME:CEST
DTSTART:20170326T010000
END:DAYLIGHT
BEGIN:STANDARD
TZOFFSETFROM:+0200
TZOFFSETTO:+0100
TZNAME:CET
DTSTART:20171029T010000
END:STANDARD
END:VTIMEZONE
BEGIN:VEVENT
DTSTART;TZID=Europe/Paris:20171209T100000
DTEND;TZID=Europe/Paris:20171209T180000
DTSTAMP:20260423T121502
CREATED:20171123T145442Z
LAST-MODIFIED:20171123T145442Z
UID:345809-1512813600-1512842400@www.yvelines-infos.fr
SUMMARY:Exposition / Vente des Apiculteurs de la Boucle
DESCRIPTION:Comme chaque année\, Plaine d’Avenir 78 a l’honneur de vous proposer une exposition vente des produits apicoles de la Boucle. Cette année\, l’événement aura lieu le 09 décembre 2017\, de 10h à 18h à la salle de l’Orangerie\, dans le parc des Sophoras à Montesson. Les apiculteurs vous proposeront une exposition de qualité sur leur métier et le devenir des abeilles ainsi que différents miels à la fois originaux et délicieux ! De quoi éveiller vos papilles et embellir vos fêtes… Alors\, n’hésitez pas\, et venez nombreux !
URL:https://www.yvelines-infos.fr/agenda/exposition-vente-apiculteurs-de-boucle/
LOCATION:Salle de l’Orangerie\, Montesson\, 1\, rue Pierre Louis Guyard\, Montesson\, Yvelines\, 78360\, France
ATTACH;FMTTYPE=image/jpeg:https://www.yvelines-infos.fr/content/uploads/2017/affiche-miel_02b-e1511448864809.jpg
GEO:48.9092689;2.152649
X-APPLE-STRUCTURED-LOCATION;VALUE=URI;X-ADDRESS=Salle de l’Orangerie Montesson 1 rue Pierre Louis Guyard Montesson Yvelines 78360 France;X-APPLE-RADIUS=500;X-TITLE=1\, rue Pierre Louis Guyard:geo:2.152649,48.9092689
END:VEVENT
END:VCALENDAR