BEGIN:VCALENDAR
VERSION:2.0
PRODID:-//Yvelines Infos - ECPv6.0.2//NONSGML v1.0//EN
CALSCALE:GREGORIAN
METHOD:PUBLISH
X-WR-CALNAME:Yvelines Infos
X-ORIGINAL-URL:https://www.yvelines-infos.fr
X-WR-CALDESC:Évènements pour Yvelines Infos
REFRESH-INTERVAL;VALUE=DURATION:PT1H
X-Robots-Tag:noindex
X-PUBLISHED-TTL:PT1H
BEGIN:VTIMEZONE
TZID:Europe/Paris
BEGIN:DAYLIGHT
TZOFFSETFROM:+0100
TZOFFSETTO:+0200
TZNAME:CEST
DTSTART:20190331T010000
END:DAYLIGHT
BEGIN:STANDARD
TZOFFSETFROM:+0200
TZOFFSETTO:+0100
TZNAME:CET
DTSTART:20191027T010000
END:STANDARD
BEGIN:DAYLIGHT
TZOFFSETFROM:+0100
TZOFFSETTO:+0200
TZNAME:CEST
DTSTART:20200329T010000
END:DAYLIGHT
BEGIN:STANDARD
TZOFFSETFROM:+0200
TZOFFSETTO:+0100
TZNAME:CET
DTSTART:20201025T010000
END:STANDARD
BEGIN:DAYLIGHT
TZOFFSETFROM:+0100
TZOFFSETTO:+0200
TZNAME:CEST
DTSTART:20210328T010000
END:DAYLIGHT
BEGIN:STANDARD
TZOFFSETFROM:+0200
TZOFFSETTO:+0100
TZNAME:CET
DTSTART:20211031T010000
END:STANDARD
END:VTIMEZONE
BEGIN:VEVENT
DTSTART;VALUE=DATE:20190413
DTEND;VALUE=DATE:20190415
DTSTAMP:20260423T195827
CREATED:20190408T104605Z
LAST-MODIFIED:20190408T104605Z
UID:357188-1555113600-1555286399@www.yvelines-infos.fr
SUMMARY:La Jean Racine
DESCRIPTION:Crée en 1992\, au sein de la mythique vallée de Chevreuse en région parisienne\, la Jean Racine est le rendez-vous incontournable du vélo francilien. Au retour du printemps\, cet événement réunit amoureux de la bicyclette\, sportifs passionnés\, cyclistes du dimanche et familles au cœur d’un terrain de jeu incroyable. \nAu programme : des circuits balisés\, un village départ riche en animations pour tous\, un salon présentant les dernières nouveautés et des parcours test ouverts à tous.
URL:https://www.yvelines-infos.fr/agenda/la-jean-racine/
LOCATION:Saint-Rémy-les-Chevreuse\, 78470\, France
ATTACH;FMTTYPE=image/jpeg:https://www.yvelines-infos.fr/content/uploads/2019/club-jean-racine.jpg
ORGANIZER;CN="La%20Jean%20Racine":MAILTO:alain.courcault@gmail.com
END:VEVENT
BEGIN:VEVENT
DTSTART;TZID=Europe/Paris:20190829T100000
DTEND;TZID=Europe/Paris:20190831T180000
DTSTAMP:20260423T195827
CREATED:20190709T142249Z
LAST-MODIFIED:20190709T142303Z
UID:360347-1567072800-1567274400@www.yvelines-infos.fr
SUMMARY:FestivAl’OUT à Saint-Rémy-lès-Chevreuse
DESCRIPTION:Le FestivAl’OUt à Saint-Rémy est un festival de culture et patrimoine organisé du 29 au 31 août\, entre parcs et fondations qui font la richesse de la ville pour valoriser l’environnement et la qualité du cadre de vie. \nAu retour des vacances\, prenez le plaisir de vous retrouver entre amis et familles dans les beaux lieux de Saint-Rémy-lès-Chevreuse et laissez-vous porter par des propositions artistiques poétiques\, drôles et décalées\, pour revenir en douceur de vacances et vous préparer à la rentrée ! \nChaque jour\, (re)découvrez les espaces de votre ville avec des propositions artistiques pour les plus petits et les\nplus grands avec au menu : visites du Parc naturel\, des fondations\, lectures-contes\, cirque\, marionnettes\, danse-théâtre\, acrobaties\, théâtre de rue\, humour musical\, concerts\, banquet\, parade\, bal\, gastronomie\, exposition photographique des jeunes de la ville… \nProgramme du FestivAl’OUT \nJeudi 29 août \n14h-15h30 : visite-découverte de la réserve Val et Côteau avec le Parc Naturel Régional (PNR) / Prés de Vaugien – sur inscription :01 30 52 09 09 c.perez@parc-naturel-chevreuse.fr \n14h-18h : atelier fresque et recyclage créatif / École Jean Jaurès \n15h : visite de la Fondation de Coubertin – payant\, sur inscription à conservateur@coubertin.fr ou au 01 30 85 69 89 \n16h30 : visite-dégustation-vente à la Ferme de Coubertin \n18h : parade d’ouverture au départ de l’Aiguillage – chemin de Coubertin \n19h : An Encounter + OOups !\, danse-cirque / Château de Coubertin \n20h45 : Cinéma en plein air : LA LA LAND / Jardin Public + restauration \n  \nVendredi 30 août \n10h30-12h : visite-découverte de la réserve Val et Côteau avec le Parc Naturel Régional (PNR) / Prés de Vaughien – sur inscription par mail à : c.perez@parc-naturel-chevreuse.fr \n11h : lectures-contes au Jardin Public \n14h-18h : atelier fresque et recyclage créatif / École Jean Jaurès \n15h : visite de la Fondation Marta Pan-Wogenscky – payant\, sur inscription \n16h30 : spectacle Jeune Public / Jardin Public \n18h30 : La cuisine des auteurs\, théâtre et gastronomie par Jérôme Pouly / Hôtel de Ville – payant (jauge limitée)\, billetterie en ligne : https://www.ville-st-remy-chevreuse.fr/evenement/festivalout/ \n18h-21h : marché gourmand de producteurs locaux / Hôtel de ville \n  \nSamedi 31 août \nAnimations et déambulations dans la ville \n10h-13h : visite-découverte de la réserve Val et Côteau avec le Parc Naturel Régional (PNR) / Bois de la Guiéterie – sur inscription par mail à : c.perez@parc-naturel-chevreuse.fr \n11h : Spectacle Jeune Public / Parc de la Mairie \n11h30-14h : animations vélos à assistance électrique par ECOX / Maison de l’Aiguillage + restauration \n14h-19h : visite libre de la Maison-musée Raymond Devos (payant) \n15h : Barber-Shop-Quartet\, humour musical / Jardin de la Maison Raymond Devos \n16h30 : Maître Fendard\, on a volé le château de sable\, théâtre et musique / Parc de la mairie \n18h : vernissage exposition photographique « Regard des jeunes sur la ville » et clôture festive / Jardin public \n 
URL:https://www.yvelines-infos.fr/agenda/festivalout-saint-remy-les-chevreuse/
LOCATION:Saint-Rémy-les-Chevreuse\, 78470\, France
ATTACH;FMTTYPE=image/jpeg:https://www.yvelines-infos.fr/content/uploads/2019/festivalout.jpg
END:VEVENT
BEGIN:VEVENT
DTSTART;VALUE=DATE:20210826
DTEND;VALUE=DATE:20210830
DTSTAMP:20260423T195827
CREATED:20210406T082215Z
LAST-MODIFIED:20210406T082215Z
UID:374169-1629936000-1630281599@www.yvelines-infos.fr
SUMMARY:FestivAl’OUT
DESCRIPTION:Évènement lancé il y a trois ans maintenant\, le FestivAl’OUT de Saint-Rémy-lès-Chevreuse s’impose comme le rendez-vous culturel incontournable de la fin de l’été.\nEntièrement gratuit\, le festival propose une programmation artistique ambitieuse et de qualité offrant aux publics des moments de partage\, de rêve et d’évasion dont nous avons tous besoin\, plus encore en cette période troublée.\nAu programme : cirque\, danse\, théâtre\, concerts\, arts de la rue\, expositions…
URL:https://www.yvelines-infos.fr/agenda/festivalout/
LOCATION:Saint-Rémy-les-Chevreuse\, 78470\, France
ATTACH;FMTTYPE=image/jpeg:https://www.yvelines-infos.fr/content/uploads/2021/image-festivalout21v2.jpg
ORGANIZER;CN="Service%20culturel%20de%20Saint-R%C3%A9my-l%C3%A8s-Chevreuse":MAILTO:culture@ville-st-remy-chevreuse.fr
END:VEVENT
END:VCALENDAR